Workbook

Sheet Előlap
C2: ÉRTÉKELÉS EREDMÉNYE:
C3: Ciklus: | D3: 2026 / 2027
C4: Kategória: | D4: TERMÉK (nem élelmiszer termékek / non-food)
C5: Értékelés időpontja: | D5: xxx 2026
B11: GB-ID Azonosító | C11: 2026 xx xxxx
B13: Cégnév | C13: =TERMÉK!C7 -> 0
B14: Cím | C14: =TERMÉK!C8 -> 0
B15: Iparág | C15: =TERMÉK!C9 -> 0
B16: Márkanév | C16: =TERMÉK!C10 -> 0
B18: Eredmény
C19: Elérhető pontszám | D19: Elért pontszám | E19: Arány
B20: =TERMÉK!B19 -> Terméktípus | C20: =TERMÉK!C19 -> 25 | D20: =TERMÉK!D19 -> 0 | E20: =D20/C20 -> 0
B21: =TERMÉK!B20 -> Ellátási lánc / összetevők | C21: =TERMÉK!C20 -> 30 | D21: =TERMÉK!D20 -> 0 | E21: =D21/C21 -> 0
B22: =TERMÉK!B21 -> Gyártás / előállítás | C22: =TERMÉK!C21 -> 20 | D22: =TERMÉK!D21 -> 0 | E22: =D22/C22 -> 0
B23: =TERMÉK!B22 -> Csomagolás / ártalmatlanítás | C23: =TERMÉK!C22 -> 15 | D23: =TERMÉK!D22 -> 0 | E23: =D23/C23 -> 0
B24: =TERMÉK!B23 -> Disztribúció | C24: =TERMÉK!C23 -> 5 | D24: =TERMÉK!D23 -> 0 | E24: =D24/C24 -> 0
B25: =TERMÉK!B24 -> Használati szakasz | C25: =TERMÉK!C24 -> 5 | D25: =TERMÉK!D24 -> 0 | E25: =D25/C25 -> 0
B26: Összesen: | C26: =SUM(C20:C25) -> 100 | D26: =SUM(D20:D25) -> 0 | E26: =D26/C26 -> 0
B28: értékelte:
C33: ALLPLAN GmbH
C34: Schwindgasse 10, 1040 Wien
C35: www.allplan.at
B37: Az előírt 51%-os küszöbérték elérése / meghaladása esetén – a védett EU tanúsító védjegy alapszabályának megfelelően –
B38: a GREEN BRANDS Hungary 2026/2027 minősítés odaítélésre kerül.
B41: Érvényesség: 2027.12.31.
B43: Norbert R. L u x
B44: Ügyvezető igazgató

Sheet Alapinformációk
N3: Kitöltés útmutató / Jelmagyarázat
N4: Jelölés / Mező | O4: Jelentése | P4: Teendő
N5: Kék mező | O5: Szabad szöveges mező | P5: Kérjük, adja meg a kért adatokat / magyarázatokat.
N6: Narancssárga mező | O6: Választómező | P6: Kérjük, válasszon ki egy választ a legördülő menüből.
O7: □ Jelölőnégyzet | P7: Kérjük, tegyen „X” jelet a megfelelő válasz melletti négyzetbe. Több válasz is megjelölhető, amennyiben több válasz is érvényes.
N8: Aláhúzott szöveg | O8: Hivatkozás a „Táblázatok” munkalapra | P8: Kérjük, töltse ki az így megjelölt cellákhoz tartozó táblázatot a „Táblázatok” munkalapon.
N9: "Szükséges igazolás" oszlop | O9: Szükséges igazolás / Kötelező igazoló dokumentum | P9: Kérjük, csatolja a megfelelő dokumentumokat vagy adatokat, pl. számlákat, tanúsítványokat vagy kimutatásokat, és a „Szükséges igazolás” oszlopban tüntesse fel a konkrét dokumentum megnevezését és/vagy az arra mutató hivatkozást.
N11: Beküldés előtt kérjük, győződjön meg arról, hogy: - minden kérdést teljes körűen megválaszolt; - minden szükséges igazoló dokumentumot mellékelt (szükség esetén pl. we transferen keresztül); - az érintett kérdéseknél feltüntette a konkrét dokumentum megnevezését. Fontos: Az olyan általános hivatkozás, mint például „lásd a fenntarthatósági jelentésünket”, nem elegendő. Kérjük, minden esetben adja meg a releváns részhez vezető konkrét hivatkozást/linket. Ezzel elkerülhetők az értékelés során felmerülő felesleges visszakérdezések, amelyek időigényesek, és akár többletköltséget is eredményezhetnek. Köszönjük!

Sheet TERMÉK
B3: TERMÉK KÉRDŐÍV (nem élelmiszer termékek / non-food)
B7: Cégnév
B8: Cím
B9: Iparág
B10: A termék neve
B11: A kiválasztott termék leírása
B12: Kapcsolattartó/ Pozíció
B13: E-mail
B14: Telefon
B16: Eredmény
C18: Elérhető Pontszám | D18: Elért Pontszám | E18: Arány | H18: Év 1 | I18: Év 2 | J18: Év 3
B19: =Validáció!A3 -> Terméktípus | C19: =Értékelés!G3 -> 25 | D19: =Értékelés!I6+Értékelés!I8 -> 0 | E19: =D19/C19 -> 0 | H19: =D19 -> 0 | K19: =I19-H19 -> 0
B20: =Validáció!A10 -> Ellátási lánc / összetevők | C20: =Értékelés!G10 -> 30 | D20: =SUM(Értékelés!I11,Értékelés!I15,Értékelés!I21) -> 0 | E20: =D20/C20 -> 0 | H20: =D20 -> 0 | K20: =I20-H20 -> 0
B21: =Validáció!A23 -> Gyártás / előállítás | C21: =Értékelés!G23 -> 20 | D21: =SUM(Értékelés!I24,Értékelés!I28,Értékelés!I32,Értékelés!I34,Értékelés!I37,Értékelés!I39,Értékelés!I41) -> 0 | E21: =D21/C21 -> 0 | H21: =D21 -> 0 | K21: =I21-H21 -> 0
B22: =Validáció!A44 -> Csomagolás / ártalmatlanítás | C22: =Értékelés!G44 -> 15 | D22: =SUM(Értékelés!I45,Értékelés!I48,Értékelés!I50,Értékelés!I52,Értékelés!I54) -> 0 | E22: =D22/C22 -> 0 | H22: =D22 -> 0 | K22: =I22-H22 -> 0
B23: =Validáció!A56 -> Disztribúció | C23: =Értékelés!G56 -> 5 | D23: =SUM(Értékelés!I57:I61) -> 0 | E23: =D23/C23 -> 0 | H23: =D23 -> 0 | K23: =I23-H23 -> 0
B24: =Validáció!A63 -> Használati szakasz | C24: =Értékelés!G63 -> 5 | D24: =SUM(Értékelés!I64:I72) -> 0 | E24: =D24/C24 -> 0 | H24: =D24 -> 0 | K24: =I24-H24 -> 0
B25: Összesen: | C25: =SUM(C19:C24) -> 100 | D25: =SUM(D19:D24) -> 0 | E25: =D25/C25 -> 0 | H25: =D25 -> 0 | K25: =I25-H25 -> 0
B27: Auditáló: | C27: xxxx
C35: ALLPLAN GmbH
C36: Schwindgasse 10, 1040 Wien
C37: M: +43 676 842 225 220
C38: Firmenbuchnummer: 94000k
C39: Handelsgericht Wien
C40: www.allplan.at
B42: Verzió: | C42: 46296

Sheet Validáció
A1: Kérdés száma | B1: Termék kérdőív | C1: Válaszlehetőség (kérjük, válasszon) | D1: Magyarázat | E1: Szükséges igazolás Kérjük, az adott cellában tüntesse fel a csatolt igazolás pontos megnevezését. (Az útmutató szövegét írja felül.) | F1: Kategória maximális pontszáma | G1: Kérdésenként elérhető max. pontszám
A3: Terméktípus | F3: 25
A4: 1. kérdés | B4: Milyen típusú / termékcsoportba tartozó termékről van szó?
A6: 2. kérdés | B6: Milyen szempontból ökológiailag fenntarthatóbb az Önök által kínált termék az összehasonlítható termékeknél? | C6: Amennyiben releváns, kérjük, a megfelelő válasz melleti „☐” jel helyére tegyen egy „X” jelet. Több válasz is megjelölhető. ☐ Igen, a gyártás során (beleértve a körforgásos megoldásokat) ☐ Igen, a csomagolásnál ☐ Igen, a szállításnál ☐ Igen, a használat során | G6: 12.5
A8: 3. kérdés | B8: Mi igazolja a termék ökológiai fenntarthatóságát? Igazolás szükséges! | C8: Amennyiben releváns, kérjük, a megfelelő válasz melleti „☐” jel helyére tegyen egy „X” jelet. Több válasz is megjelölhető. ☐ A termékre vonatkozó elismert, külső fél által ellenőrzött, átfogó fenntarthatósági tanúsítvány (pl. EU Ecolabel) ☐ A termék csomagolására vonatkozó elismert, külső fél által ellenőrzött, átfogó tanúsítvány ☐ A termékre vonatkozó elismert, külső fél által ellenőrzött, tematikusan korlátozott átfogó tanúsítvány, pl. Fairtrade ☐ A termék csomagolására vonatkozó elismert, külső fél által ellenőrzött, tematikusan korlátozott átfogó tanúsítvány ☐ A termék vagy a csomagolás egyes részeire vonatkozó elismert, külső fél által ellenőrzött tanúsítvány ☐ A gyártó államilag elismert tanúsítása közvetlen termékigazolás nélkül, pl. ISO 14001 ☐ Egyéb igazolások vagy értékelések | E8: Tanúsítvány | G8: 12.5
A9: 3a. kérdés | B9: Átláthatóan kommunikálják-e a termék környezeti előnyeit? Igazolás szükséges! | E9: Igazolás / link
A10: Ellátási lánc / összetevők | F10: 30
A11: 4. kérdés | B11: Csak beruházási javak, tartós fogyasztási cikkek és anyagok esetén: Milyen termékekről van szó? (A további információkat a táblázatban adja meg.) Igazolás szükséges! | D11: Kérjük, töltse ki a releváns táblázatot: 1. Beruházási javak és tartós fogyasztási cikkek (textíliák kivételével), vagy 2. Textíliák | E11: A táblázat szerinti igazolások | G11: 15
A13: 5. kérdés | B13: Csak fogyasztási cikkek esetén: Milyen termékekről van szó? (A további információkat a táblázatban adja meg.) Igazolás szükséges! | D13: Fogyasztási cikk táblázata | E13: A táblázat szerinti igazolások
A15: 6. kérdés | B15: Adja meg a fő beszállítók nevét és telephelyét (logisztikai központját). | G15: 7.5
A16: 6a. kérdés | B16: A termékhez felhasznált nyersanyagok túlnyomó része (>75%-a) regionálisan (100 km-es körzetben) elérhető?
B17: Kérjük, röviden ismertesse a nyersanyagok (földrajzi) származási helyét.
A18: 6b. kérdés | B18: Importálnak-e olyan szükséges nyersanyagokat, amelyek regionálisan (100 km-es körzetben) is elérhetők lennének?
B19: Amennyiben igen, kérjük, indokolja az import szükségességét.
A21: 7. kérdés | B21: Milyen intézkedéseket alkalmaznak a nyersanyagok szállításának fenntarthatóbbá tétele érdekében? | C21: Amennyiben releváns, kérjük, a megfelelő válasz melleti „☐” jel helyére tegyen egy „X” jelet. Több válasz is megjelölhető. ☐ Logisztikai intézkedések (kevesebb szállítási km) ☐ Alternatív üzemanyagok/hajtások (pl. elektromos tehergépkocsi) ☐ Környezetkímélő szállítási módok (pl. vasút) ☐ Egyéb | G21: 7.5
A23: Gyártás / előállítás | F23: 20
A24: 8. kérdés | B24: A terméket saját vállalaton belül állítják elő? (A feldolgozás saját vállalaton belül történik.) | G24: 3
A25: 8a. kérdés | B25: Hol történik a termék előállításának legnagyobb része (a gyártási lépések több mint 75%-a)?
B26: Röviden ismertesse a legfontosabb gyártási lépéseket és azok helyszínét.
A28: 9. kérdés | B28: Milyen energiahordozókat használ a vállalat? (Villamos energia) | D28: A villamos energiára vonatkozóan töltse ki a telephelyenkénti villamosenergia-táblázatot, és adott esetben csatolja a zöldáram-tanúsítványokat. | G28: 5
A29: 9a. kérdés | B29: Milyen energiahordozókat használ a vállalat? (Hőenergia) | D29: A hőenergiára vonatkozóan töltse ki a telephelyenkénti hőenergia-táblázatot.
A30: 9b. kérdés | B30: Külső gyártó általi előállítás esetén adja meg a gyártó villamosenergia- és hőenergia-mixét. | D30: Kérjük, töltse ki a „Táblázatok” munkalap „Külső gyártó” táblázatát!
A32: 10. kérdés | B32: Alkalmaznak-e a gyártás során a jogszabályban előírt minimumkövetelményeken túlmutató intézkedéseket annak érdekében, hogy az energiafelhasználás (villamos energia és hőenergia) a lehető leghatékonyabb legyen? | G32: 2
B33: Kérjük, ismertesse az intézkedéseket és az elért megtakarítást.
A34: 11. kérdés | B34: Alkalmaznak-e a gyártás során a jogszabályban előírt minimumkövetelményeken túlmutató intézkedéseket a víz- és szennyvízkezelés minél hatékonyabb és környezetkímélőbb megvalósítása érdekében? | G34: 2
B35: Kérjük, ismertesse az intézkedéseket és az elért megtakarítást.
A37: 12. kérdés | B37: Alkalmaznak-e a gyártás során a jogszabályban előírt minimumkövetelményeken túlmutató intézkedéseket az egyéb erőforrások (anyagok, segédanyagok, adalékanyagok stb.) minél hatékonyabb és környezetkímélőbb felhasználása érdekében? Kérjük, ismertesse az intézkedéseket. | G37: 2
B38: Kérjük, ismertesse az intézkedéseket és az elért megtakarítást.
A39: 13. kérdés | B39: Alkalmaznak-e a gyártás során a jogszabályban előírt minimumkövetelményeken túlmutató intézkedéseket a hulladék (mennyiség, hulladéktípusok) keletkezésének megelőzésére vagy csökkentésére? | G39: 2
B40: Kérjük, ismertesse az intézkedéseket és az elért megtakarítást.
A41: 14. kérdés | B41: Készült-e az elmúlt három évben a termékre vonatkozó karbonlábnyom-számítás? Amennyiben igen, kérjük, csatolja. Igazolás szükséges! | E41: Karbonlábnyom-számítás | G41: 4
A42: 14a. kérdés | B42: Hogyan alakult az érték az elmúlt években?
A43: 14b. kérdés | B43: Nyilvánosságra hozzák-e az eredményeket? Ha igen, hol?
A44: Csomagolás / ártalmatlanítás | F44: 15
A45: 15. kérdés | B45: Tettek-e már intézkedéseket a csomagolás környezeti hatásainak csökkentésére? | C45: Amennyiben releváns, kérjük, a megfelelő válasz melleti „☐” jel helyére tegyen egy „X” jelet. Több válasz is megjelölhető. ☐ Többször használható csomagolás ☐ Tömegcsökkentés ☐ Anyagcsere ☐ Újrahasznosítható anyagok alkalmazása ☐ A másodlagos csomagolás csökkentését célzó intézkedések ☐ Egyéb intézkedések | G45: 7.5
B46: Kérjük, részletezze.
A48: 16. kérdés | B48: A csomagolóanyagok túlnyomó részét (a csomagolás teljes tömegének >90%-át) regionálisan (<100 km-es körzetből) szerzik be? | G48: 1.5
A50: 17. kérdés | B50: Kérjük, töltse ki a termékcsomagolás mutatóira vonatkozó táblázatot! | D50: Kérjük, töltse ki a „Táblázatok munkalap „Termék” táblázatát! | G50: 1.5
A52: 18. kérdés | B52: A végfelhasználó számára könnyen szétbontható-e a csomagolás különálló alkotóelemekre annak érdekében, hogy az egyes anyagok megfelelően hasznosíthatók legyenek? | G52: 3
B53: Milyen alkotóelemekre (anyagokra) bontható szét a csomagolás?
...

Sheet Értékelés
A1: Reval. Verpflichtendes Update | B1: Frage Nr. | C1: Fragebogen Produkt | D1: =_xlfn.TRANSLATE(Validáció!C1,"hu","de") -> Antwortoption (bitte auswählen) | E1: =_xlfn.TRANSLATE(Validáció!D1,"hu","de") -> Erklärung | F1: =_xlfn.TRANSLATE(Validáció!E1,"hu","de") -> Erforderliche Verifizierung Bitte geben Sie in der angegebenen Zelle den genauen Namen des angehängten Zertifikats an. (Überschreibt den Text der Anweisungen.) | G1: Max. Punkteanzahl Kategorien | H1: max. Punkte je Frage | I1: Erreichte Punkte | J1: Kommentar
A3: Terméktípus | G3: 25
A4: bei Bedarf/Änderung | B4: Frage 1 | C4: Um welche Art/Produktgruppe handelt es sich? | D4: =_xlfn.TRANSLATE(Validáció!C4,"hu","de") | E4: =_xlfn.TRANSLATE(Validáció!D4,"hu","de") | F4: =_xlfn.TRANSLATE(Validáció!E4,"hu","de")
A6: bei Bedarf/Änderung | B6: Frage 2 | C6: Inwiefern ist das von ihnen angebotene Produkt ökologisch nachhaltiger als vergleichbare Produkte? | D6: =_xlfn.TRANSLATE(Validáció!C6,"hu","de") -> Falls relevant, ersetze bitte das "☐" neben der entsprechenden Antwort durch ein "X". Mehrere Antworten können markiert werden. ☐ Ja, in der Produktion (einschließlich zirkulärer Lösungen) ☐ Ja, auf die Verpackung ☐ Ja, in der Auslieferung ☐ Ja, während der Nutzung | E6: =_xlfn.TRANSLATE(Validáció!D6,"hu","de") | F6: =_xlfn.TRANSLATE(Validáció!E6,"hu","de") | G6: 0.5 | H6: =G6*G3 -> 12.5 | J6: 25% pro ausgewählter Kategorie
A8: ja (aktuelles Jahr) | B8: Frage 3 | C8: Wodurch wird die ökologische Nachhaltigkeit der Produkte bestätigt? Nachweis! | D8: =_xlfn.TRANSLATE(Validáció!C8,"hu","de") -> Falls relevant, ersetze bitte das "☐" neben der entsprechenden Antwort durch ein "X". Mehrere Antworten können markiert werden. ☐ Anerkannte, von Dritten verifizierte, umfassende Nachhaltigkeitszertifizierung des Produkts (z. B. EU-Ökolabel) ☐ Anerkannte, von Dritten verifizierte und umfassende Zertifizierung der Produktverpackung ☐ Eine anerkannte, von Dritten verifizierte, thematisch eingeschränkte umfassende Zertifizierung für das Produkt, z. B. Fairtrade ☐ Anerkannte, von Drittanbietern verifizierte, thematisch eingeschränkte umfassende Zertifizierung für Produktverpackungen ☐ Anerkannte, von Drittanbietern verifizierte Zertifizierung für bestimmte Teile des Produkts oder der Verpackung ☐ Staatlich anerkannte Zertifizierung des Herstellers ohne direkte Produktzertifizierung, pl. ISO 14001 ☐ Weitere Zertifizierungen oder Bewertungen | E8: =_xlfn.TRANSLATE(Validáció!D8,"hu","de") | F8: =_xlfn.TRANSLATE(Validáció!E8,"hu","de") -> Zertifikat | G8: 0.5 | H8: =G8*G3 -> 12.5 | J8: Bewertung lt. Vorgaben Bewertung Zertifikate
B9: Frage 3a | C9: Kommunizieren Sie transparent die ökologischen Vorteile Ihres Produktes? Nachweis! | D9: =_xlfn.TRANSLATE(Validáció!C9,"hu","de") | E9: =_xlfn.TRANSLATE(Validáció!D9,"hu","de") | F9: =_xlfn.TRANSLATE(Validáció!E9,"hu","de") -> Zertifikat / Link
A10: Vorkette/Inhaltsstoffe | G10: 30
A11: ja | B11: Frage 4 | C11: nur für Investitionsgüter, Gebrauchsgüter, Werkstoffe: Um welche Güter handelt es sich? (Weitere Informationen in Tabelle eintragen) Nachweis! | D11: =_xlfn.TRANSLATE(Validáció!C11,"hu","de") | E11: =_xlfn.TRANSLATE(Validáció!D11,"hu","de") -> Bitte füllen Sie die entsprechende Tabelle aus: 1. Investitionsgüter und langlebige Konsumgüter (ohne Textilien), oder 2. Textilien | F11: =_xlfn.TRANSLATE(Validáció!E11,"hu","de") -> Zertifikate gemäß der Tabelle | G11: 0.5 | H11: =G10*G11 -> 15
A13: ja | B13: Frage 5 | C13: nur für Verbrauchsgüter: Um welche Güter handelt es sich? (Weitere Informationen in Tabelle eintragen) Nachweis! | D13: =_xlfn.TRANSLATE(Validáció!C13,"hu","de") | E13: =_xlfn.TRANSLATE(Validáció!D13,"hu","de") -> Konsumgütertabelle | F13: =_xlfn.TRANSLATE(Validáció!E13,"hu","de") -> Zertifikate gemäß der Tabelle
A15: bei Bedarf/Änderung | B15: Frage 6 | C15: Nennen Sie Namen und Standorte (Logistikzentren) ihrer Hauptlieferanten. | D15: =_xlfn.TRANSLATE(Validáció!C15,"hu","de") | E15: =_xlfn.TRANSLATE(Validáció!D15,"hu","de") | F15: =_xlfn.TRANSLATE(Validáció!E15,"hu","de") | G15: 0.25 | H15: =G15*G10 -> 7.5
A16: bei Bedarf/Änderung | B16: Frage 6a | C16: Sind die Rohstoffe, welche Sie für Ihr Produkt einsetzen, zum überwiegenden Teil (> 75 % der eingesetzten Rohstoffe) regional (Radius 100 km) verfügbar? | D16: =_xlfn.TRANSLATE(Validáció!C16,"hu","de") | E16: =_xlfn.TRANSLATE(Validáció!D16,"hu","de") | F16: =_xlfn.TRANSLATE(Validáció!E16,"hu","de")
A17: bei Bedarf/Änderung | C17: Bitte um kurze Erklärung der Herkunft. | D17: =_xlfn.TRANSLATE(Validáció!C17,"hu","de") | E17: =_xlfn.TRANSLATE(Validáció!D17,"hu","de") | F17: =_xlfn.TRANSLATE(Validáció!E17,"hu","de") | J17: 100% alles regional, 75% teilweise regional/im Land bzw., 50% bei nicht verfügbar regional und import aus Europa oder Afrika, sonst 0%
A18: bei Bedarf/Änderung | B18: Frage 6b | C18: Importieren Sie benötigte Rohstoffe, welche auch regional (Radius 100 km) verfügbar wären? | D18: =_xlfn.TRANSLATE(Validáció!C18,"hu","de") | E18: =_xlfn.TRANSLATE(Validáció!D18,"hu","de") | F18: =_xlfn.TRANSLATE(Validáció!E18,"hu","de")
A19: bei Bedarf/Änderung | C19: Wenn ja, wodurch wird der Import gerechtfertigt? | D19: =_xlfn.TRANSLATE(Validáció!C19,"hu","de") | E19: =_xlfn.TRANSLATE(Validáció!D19,"hu","de") | F19: =_xlfn.TRANSLATE(Validáció!E19,"hu","de")
A21: ja | B21: Frage 7 | C21: Welche Maßnahmen werden gesetzt um die den Transport der Rohstoffe nachhaltiger zu gestalten? | D21: =_xlfn.TRANSLATE(Validáció!C21,"hu","de") -> Falls relevant, ersetze bitte das "☐" neben der entsprechenden Antwort durch ein "X". Mehrere Antworten können markiert werden. ☐ Logistische Maßnahmen (weniger Transportkilometer) ☐ Alternative Kraftstoffe/Antriebe (z. B. Elektro-Lkw) ☐ Umweltfreundliche Verkehrsmittel (z. B. Bahn) ☐ Sonstiges | E21: =_xlfn.TRANSLATE(Validáció!D21,"hu","de") | F21: =_xlfn.TRANSLATE(Validáció!E21,"hu","de") | G21: 0.25 | H21: =G10*G21 -> 7.5 | J21: 30% pro Kategorie, 100% wenn alle
A23: Herstellung | G23: 20
A24: bei Bedarf/Änderung | B24: Frage 8 | C24: Stellen Sie das Produkt im eigenen Unternehmen her? (Verarbeitung im eigenen Unternehmen) | D24: =_xlfn.TRANSLATE(Validáció!C24,"hu","de") | E24: =_xlfn.TRANSLATE(Validáció!D24,"hu","de") | F24: =_xlfn.TRANSLATE(Validáció!E24,"hu","de") | G24: 0.15 | H24: =$G$23*G24 -> 3
B25: Frage 8a | C25: Wo wird der größte Teil der Fertigung des Produktes (> als 75% der Produktionsschritte) vorgenommen? | D25: =_xlfn.TRANSLATE(Validáció!C25,"hu","de") | E25: =_xlfn.TRANSLATE(Validáció!D25,"hu","de") | F25: =_xlfn.TRANSLATE(Validáció!E25,"hu","de") | J25: ja und regional => 80%; nein und Europa =>50%; nein und sonstiges=>0%
C26: Beschreiben Sie kurz die wichtigsten Produktionsschritte & wo diese vorgenommen werden | D26: =_xlfn.TRANSLATE(Validáció!C26,"hu","de") | E26: =_xlfn.TRANSLATE(Validáció!D26,"hu","de") | F26: =_xlfn.TRANSLATE(Validáció!E26,"hu","de")
A28: bei Bedarf/Änderung | B28: Frage 9 | C28: Welche Energieträger setzen Sie für die Herstellung Ihres Produktes ein? (Strom) | D28: =_xlfn.TRANSLATE(Validáció!C28,"hu","de") | E28: =_xlfn.TRANSLATE(Validáció!D28,"hu","de") -> Für Strom füllen Sie bitte die Stromtabelle pro Standort aus und fügen Sie gegebenenfalls die grünen Stromzertifikate bei. | F28: =_xlfn.TRANSLATE(Validáció!E28,"hu","de") | G28: 0.25 | H28: =$G$23*G28 -> 5 | J28: Punkte analog zu % Anteil EE Strom; wenn eigene Produktion: 100% vom Mittelwert der Antworten Frage 9; sonst 50% vom Mittelwert Frage 9 und Mittelwert Frage 9b (max. 2.5)
B29: Frage 9a | C29: Welche Energieträger setzen Sie für die Herstellung Ihres Produktes ein? (Wärme) | D29: =_xlfn.TRANSLATE(Validáció!C29,"hu","de") | E29: =_xlfn.TRANSLATE(Validáció!D29,"hu","de") -> Für thermische Energie füllen Sie die thermische Energietabelle pro Standort aus. | F29: =_xlfn.TRANSLATE(Validáció!E29,"hu","de") | J29: Punkte analog zu % Anteil EE Wärme; wenn eigene Produktion: 100% vom Mittelwert der Antworten Frage 9; sonst 50% vom Mittelwert Frage 9 und Mittelwert Frage 9b (max. 2.5)
B30: Frage 9b | C30: Bei Produktion durch externen Hersteller: führen Sie den Strom- und Wärmemix des Herstellers an | D30: =_xlfn.TRANSLATE(Validáció!C30,"hu","de") | E30: =_xlfn.TRANSLATE(Validáció!D30,"hu","de") -> Bitte füllen Sie die Tabelle "Drittanbieter-Tabelle" im Arbeitsblatt "Tabellen" aus. | F30: =_xlfn.TRANSLATE(Validáció!E30,"hu","de")
A32: ja (aktuelles Jahr) | B32: Frage 10 | C32: Werden in der Produktion Maßnahmen - welche über den gesetzlich verpflichteten Standard hinaus gehen - unternommen, um Ihren Energieverbrauch (Strom- und Wärmeenergie) möglichst effizient zu gestalten? | D32: =_xlfn.TRANSLATE(Validáció!C32,"hu","de") | E32: =_xlfn.TRANSLATE(Validáció!D32,"hu","de") | F32: =_xlfn.TRANSLATE(Validáció!E32,"hu","de") | G32: 0.1 | H32: =G32*$G$23 -> 2 | J32: Ja und Maßnahmen beschrieben => 50%; Ja und Maßnahmen beschrieben und Einsparungen => 100%; nein => 0%; ja und keine Info => 0%; nicht relevant und plausible Erklärung => 100%; sonst 0%
C33: Bitte Maßnahmen & erzielte Einsparung beschreiben. | D33: =_xlfn.TRANSLATE(Validáció!C33,"hu","de") | E33: =_xlfn.TRANSLATE(Validáció!D33,"hu","de") | F33: =_xlfn.TRANSLATE(Validáció!E33,"hu","de")
A34: ja (aktuelles Jahr) | B34: Frage 11 | C34: Werden in der Produktion Maßnahmen - welche über den gesetzlich verpflichteten Standard hinaus gehen - unternommen, um mit Wasser und Abwasser möglichst effizient und umweltschonend umzugehen? | D34: =_xlfn.TRANSLATE(Validáció!C34,"hu","de") | E34: =_xlfn.TRANSLATE(Validáció!D34,"hu","de") | F34: =_xlfn.TRANSLATE(Validáció!E34,"hu","de") | G34: 0.1 | H34: =G34*$G$23 -> 2 | J34: Ja und Maßnahmen beschrieben => 50%; Ja und Maßnahmen beschrieben und Einsparungen => 100%; nein => 0%; ja und keine Info => 0%; nicht relevant und plausible Erklärung => 100%; sonst 0%
C35: Bitte Maßnahmen & erzielte Einsparung beschreiben. | D35: =_xlfn.TRANSLATE(Validáció!C35,"hu","de") | E35: =_xlfn.TRANSLATE(Validáció!D35,"hu","de") | F35: =_xlfn.TRANSLATE(Validáció!E35,"hu","de")
A37: ja (aktuelles Jahr) | B37: Frage 12 | C37: Werden in der Produktion Maßnahmen - welche über den gesetzlich verpflichteten Standard hinaus gehen - unternommen, um mit sonstigen Ressourcen (Materialien, Hilfsstoffe, Zuschlagsstoffe etc.) möglichst effizient und umweltschonend umzugehen? Bitte Maßnahmen beschreiben | D37: =_xlfn.TRANSLATE(Validáció!C37,"hu","de") | E37: =_xlfn.TRANSLATE(Validáció!D37,"hu","de") | F37: =_xlfn.TRANSLATE(Validáció!E37,"hu","de") | G37: 0.1 | H37: =G37*$G$23 -> 2 | J37: Ja und Maßnahmen beschrieben => 50%; Ja und Maßnahmen beschrieben und Einsparungen => 100%; nein => 0%; ja und keine Info => 0%; nicht relevant und plausible Erklärung => 100%; sonst 0%
C38: Bitte Maßnahmen & erzielte Einsparung beschreiben. | D38: =_xlfn.TRANSLATE(Validáció!C38,"hu","de") | E38: =_xlfn.TRANSLATE(Validáció!D38,"hu","de") | F38: =_xlfn.TRANSLATE(Validáció!E38,"hu","de")
A39: ja (aktuelles Jahr) | B39: Frage 13 | C39: Werden in der Produktion Maßnahmen - welche über den gesetzlich verpflichteten Standard hinaus gehen - unternommen, um Abfall (Menge des Abfalls, Art der Abfälle) zu vermeiden oder zu reduzieren? | D39: =_xlfn.TRANSLATE(Validáció!C39,"hu","de") | E39: =_xlfn.TRANSLATE(Validáció!D39,"hu","de") | F39: =_xlfn.TRANSLATE(Validáció!E39,"hu","de") | G39: 0.1 | H39: =G39*$G$23 -> 2 | J39: Ja und Maßnahmen beschrieben => 50%; Ja und Maßnahmen beschrieben und Einsparungen => 100%; nein => 0%; ja und keine Info => 0%; nicht relevant und plausible Erklärung => 100%; sonst 0%
C40: Bitte Maßnahmen & erzielte Einsparung beschreiben. | D40: =_xlfn.TRANSLATE(Validáció!C40,"hu","de") | E40: =_xlfn.TRANSLATE(Validáció!D40,"hu","de") | F40: =_xlfn.TRANSLATE(Validáció!E40,"hu","de")
A41: ja (aktuelles Jahr) | B41: Frage 14 | C41: Wurde in den letzten 3 Jahren eine Erhebung zum CO2-Fußabdruck (Produkt) durchgeführt? Falls ja, bitte um Übermittlung. Nachweis! | D41: =_xlfn.TRANSLATE(Validáció!C41,"hu","de") | E41: =_xlfn.TRANSLATE(Validáció!D41,"hu","de") | F41: =_xlfn.TRANSLATE(Validáció!E41,"hu","de") -> Berechnung des CO₂-Fußabdrucks | G41: 0.2 | H41: =G41*$G$23 -> 4 | J41: Punktevergabe: 50% Punkte für JA und 30% Zusatzpunkte für Reduktion und 20% Veröffentlichung
B42: Frage 14a | C42: Wie hat sich der Wert in den letzten Jahren entwickelt? | D42: =_xlfn.TRANSLATE(Validáció!C42,"hu","de") | E42: =_xlfn.TRANSLATE(Validáció!D42,"hu","de") | F42: =_xlfn.TRANSLATE(Validáció!E42,"hu","de")
B43: Frage 14b | C43: Veröffentlichen Sie die Ergebnisse (wo?)? | D43: =_xlfn.TRANSLATE(Validáció!C43,"hu","de") | E43: =_xlfn.TRANSLATE(Validáció!D43,"hu","de") | F43: =_xlfn.TRANSLATE(Validáció!E43,"hu","de")
A44: Verpackung/Entsorgung | G44: 15
A45: ja (aktuelles Jahr) | B45: Frage 15 | C45: Wurden bereits Maßnahmen unternommen, um die Umwelteinflüsse durch die Verpackung zu reduzieren | D45: =_xlfn.TRANSLATE(Validáció!C45,"hu","de") -> Falls relevant, ersetze bitte das "☐" neben der entsprechenden Antwort durch ein "X". Mehrere Antworten können markiert werden. ☐ Wiederverwendbare Verpackungen ☐ Gewichtsreduktion ☐ Stoffwechsel ☐ Anwendung recycelbarer Materialien ☐ Maßnahmen zur Reduzierung von Sekundärverpackungen ☐ Weitere Maßnahmen | E45: =_xlfn.TRANSLATE(Validáció!D45,"hu","de") | F45: =_xlfn.TRANSLATE(Validáció!E45,"hu","de") | G45: 0.5 | H45: =$G$44*G45 -> 7.5 | J45: 20% pro ausgewählter Kategorie (nur bei plausibler Beschreibung)
C46: bitte um Erläuterung | D46: =_xlfn.TRANSLATE(Validáció!C46,"hu","de") | E46: =_xlfn.TRANSLATE(Validáció!D46,"hu","de") | F46: =_xlfn.TRANSLATE(Validáció!E46,"hu","de")
A48: bei Bedarf/Änderung | B48: Frage 16 | C48: Beziehen Sie den überwiegenden Teil der Verpackungsmaterialien (> 90 % des Gesamtgewichts der Verpackung) regional (Radius <100km)? | D48: =_xlfn.TRANSLATE(Validáció!C48,"hu","de") | E48: =_xlfn.TRANSLATE(Validáció!D48,"hu","de") | F48: =_xlfn.TRANSLATE(Validáció!E48,"hu","de") | G48: 0.1 | H48: =$G$44*G48 -> 1.5 | J48: Ja=>100%; nein=>0%; nicht möglich und Begründung =>50%
A50: bei Bedarf/Änderung | B50: Frage 17 | C50: Füllen Sie die Tabelle zu Kennzahlen der Produktverpackung aus! | D50: =_xlfn.TRANSLATE(Validáció!C50,"hu","de") | E50: =_xlfn.TRANSLATE(Validáció!D50,"hu","de") -> Bitte füllen Sie die Tabelle "Produkt" im Arbeitsblatt "Tabellen" aus. | F50: =_xlfn.TRANSLATE(Validáció!E50,"hu","de") | G50: 0.1 | H50: =$G$44*G50 -> 1.5 | J50: Wenn 0-5%>> 100% 6-10%>> 50% 11-15%>>30% sonst>>0%; bei mehreren Angaben: Mittelwert Verpackungsanteil heranziehen
A52: bei Bedarf/Änderung | B52: Frage 18 | C52: Ist die Verpackung für Endkunden leicht in einzelne Bestandteile zerlegbar, um die fachgerechte Verwertung der Materialien zu ermöglichen? | D52: =_xlfn.TRANSLATE(Validáció!C52,"hu","de") | E52: =_xlfn.TRANSLATE(Validáció!D52,"hu","de") | F52: =_xlfn.TRANSLATE(Validáció!E52,"hu","de") | G52: 0.2 | H52: =$G$44*G52 -> 3 | J52: ja und Erklärung 100%, sonst 0
C53: in welche Bestandteile (Material) lässt sich die Verpackung zerlegen? | D53: =_xlfn.TRANSLATE(Validáció!C53,"hu","de") | E53: =_xlfn.TRANSLATE(Validáció!D53,"hu","de") | F53: =_xlfn.TRANSLATE(Validáció!E53,"hu","de")
...

Sheet Táblázatok
A1: Értékelés
C2: 4. kérdés: | D2: Beruházási javak / tartós fogyasztási cikkek, TEXTÍLIÁK KIVÉTELÉVEL
A3: Súlyozás | D3: Kategória | E3: Kritérium | F3: Válasz | G3: Arány a termék tömegében | H3: A termékcsoport szempontjából nem releváns | I3: Magyarázat | J3: Igazolás
A4: 0.2 | B4: Pont jár igen válasz és igazolás esetén, a %-os aránnyal szorozva | D4: Összetétel | E4: Tartalmaz-e a termék megújuló forrásból származó összetevőket? | G4: % | H4: FALSE | J4: Adatlap
A5: 0.2 | B5: Pont jár igen válasz és igazolás esetén, a %-os aránnyal szorozva | D5: Összetétel | E5: Tartalmaz-e a termék újrahasznosított összetevőket? | G5: % | H5: FALSE | J5: Adatlap
A6: 0.15 | B6: Pont jár igen válasz és igazolás esetén | D6: Összetétel | E6: Kerülik-e a kritikus nyersanyagok használatát (a jogszabályi előírásokon túl)? | G6: – | H6: FALSE | J6: Adatlap
A7: 0.15 | B7: Pont jár igen válasz és igazolás esetén | D7: Összetétel | E7: Kerülik-e a káros anyagok használatát (a jogszabályi előírásokon túl)? | G7: – | H7: FALSE | J7: Tanúsítvány/adatlap
A8: 0.1 | B8: Pont jár igen válasz és igazolás esetén; ha a terméktípus szempontjából nem releváns és ezt megindokolják: fél pont | D8: Dizájn | E8: Figyelembe vették-e a termék tervezésekor a modularitást/bővíthetőséget? | G8: – | H8: FALSE
A9: 0.1 | B9: Pont jár igen válasz és igazolás esetén; ha a terméktípus szempontjából nem releváns és ezt megindokolják: fél pont | D9: Dizájn | E9: Figyelembe vették-e a termék tervezésekor a karbantarthatóságot/javíthatóságot? | G9: – | H9: FALSE
A10: 0.05 | B10: Pont jár igen válasz és igazolás esetén; ha a terméktípus szempontjából nem releváns és ezt megindokolják: fél pont | D10: Dizájn | E10: Pótalkatrészek vállalat általi biztosítása/elérhetősége | G10: – | H10: FALSE
A11: 0.05 | B11: Pont jár igen válasz és igazolás esetén; ha a terméktípus szempontjából nem releváns és ezt megindokolják: fél pont | D11: Dizájn | E11: Javítás vállalat általi megszervezése/elérhetősége | G11: – | H11: FALSE
D14: Tartós fogyasztási cikkek: textíliák
A15: Súlyozás | D15: Kritérium | E15: Válasz | F15: Magyarázat | G15: Igazolás
A16: 0.2 | B16: Teljes pont igen válasz esetén, egyébként 0 | D16: Mekkora a fenntartható szálak aránya a termékben? (pl. kender, len, lyocell, biopamut) | E16: x% | G16: Tanúsítvány/adatlap
A17: 0.1 | B17: Teljes pont igen válasz esetén, szorozva a %-os aránnyal | D17: Mekkora az újrahasznosított szálak aránya? | E17: x% | G17: Tanúsítvány/adatlap
A18: 0.1 | B18: Teljes pont igen válasz esetén, egyébként 0 | D18: Mellőzik-e az egészségre káros vegyi anyagokat (a jogszabályi előírásokon túl)? | G18: pl. OEKO-TEX
A19: 0.4 | B19: Teljes pont igen válasz esetén, egyébként 0 | D19: Rendelkezik-e a termék vagy annak összetevői elismert környezetvédelmi vagy fenntarthatósági minősítő védjeggyel? | G19: Tanúsítvány
A20: 0.05 | B20: Teljes pont igen válasz esetén, egyébként 0 | D20: Figyelembe vették-e a termék tervezésekor a hosszú élettartamot és a magas feldolgozási/minőségi színvonalat? | G20: Termékleírás
A21: 0.05 | B21: Teljes pont igen válasz esetén, egyébként 0 | D21: Figyelembe vették-e a termék tervezésekor a javíthatóságot vagy újrahasználhatóságot? | G21: Termékleírás
D24: Különböző termékcsoportok esetén minden termékcsoportra külön táblázatot töltsön ki (szükség esetén további táblázatokat illesszen be jobbra).
C26: 5. kérdés: | D26: Fogyasztási cikk, pl. tisztító- és mosószerek, kozmetikumok | I26: Fogyóeszközök, pl. tisztító- és mosószerek, kozmetikumok
D27: Termék/termékcsoport: | F27: Árbevétel aránya: [%] | I27: Termék/termékcsoport: | K27: Árbevétel aránya: [%]
A28: Súlyozás | D28: Kritérium | E28: Válasz | F28: A termékcsoport szempontjából nem releváns | G28: Igazolás | I28: Kritérium | J28: Válasz | K28: A termékcsoport szempontjából nem releváns | L28: Igazolás
A29: 0.1 | B29: Teljes pont igen válasz esetén, egyébként 0 | D29: Tartalmaz-e a termék biológiailag lebomló összetevőket (a jogszabályi előírásokon túl)? | F29: FALSE | G29: Termékadatlap vagy gyártói nyilatkozat | I29: Tartalmaz-e a termék biológiailag lebomló összetevőket (a jogszabályi előírásokon túl)? | K29: FALSE | L29: Termékadatlap vagy gyártói nyilatkozat
A30: 0.1 | B30: Teljes pont igen válasz esetén, egyébként 0 | D30: Mikroműanyag-mentes-e a termék? | F30: FALSE | G30: Termékadatlap | I30: Mikroműanyag-mentes-e a termék? | K30: FALSE | L30: Termékadatlap
A31: 0.1 | B31: Teljes pont igen válasz esetén, egyébként 0 | D31: Mellőzi-e a termék a környezetre vagy egészségre káros vegyi anyagokat/összetevőket (a jogszabályi előírásokon túl)? | F31: FALSE | G31: Biztonsági adatlap | I31: Mellőzi-e a termék a környezetre vagy egészségre káros vegyi anyagokat/összetevőket (a jogszabályi előírásokon túl)? | K31: FALSE | L31: Biztonsági adatlap
A32: 0.1 | B32: Teljes pont igen válasz esetén, egyébként 0 | D32: Koncentrátumról van-e szó? | F32: FALSE | G32: Termékleírás | I32: Koncentrátumról van-e szó? | K32: FALSE | L32: Termékleírás
A33: 0.1 | B33: Teljes pont 0 értéknél, 50% pont EC/LC50 > 100 mg/L esetén | D33: Mekkora a termék vízi toxicitása? (LC50, NC50) | F33: FALSE | G33: Biztonsági adatlap | I33: Mekkora a termék vízi toxicitása? (LC50, NC50) | K33: FALSE | L33: Biztonsági adatlap
A34: 0.1 | B34: Teljes pont igen válasz esetén, egyébként 0 | D34: Megújuló vagy bioalapú nyersanyagokból áll-e a termék? | F34: FALSE | G34: Termékadatlap | I34: Megújuló vagy bioalapú nyersanyagokból áll-e a termék? | K34: FALSE | L34: Termékadatlap
A35: 0.4 | B35: Teljes pont igen válasz esetén, egyébként 0 | D35: Rendelkezik-e a termék vagy fő összetevői (a termék tömegének 75%-a) elismert környezetvédelmi vagy fenntarthatósági minősítő védjeggyel? | F35: FALSE | G35: Tanúsítvány, pl. EU Ecolabel, Blauer Engel, Ecocert | I35: Rendelkezik-e a termék vagy fő összetevői (a termék tömegének 75%-a) elismert környezetvédelmi vagy fenntarthatósági minősítő védjeggyel? | K35: FALSE | L35: Tanúsítvány, pl. EU Ecolabel, Blauer Engel, Ecocert
C38: 9. kérdés: | D38: Villamos energia | F38: Referenciaév:
D39: Villamosenergia-forrás | E39: 1. telephely:…............ | F39: 2. telephely:…........ | G39: 3. telephely:…........ | H39: ... telephely:….....
D40: Hálózatról vásárolt tanúsított zöld villamos energia [MWh] | I40: A KIVÁLASZTOTT TERMÉK szempontjából releváns gyártási helyszínek
D41: Hálózatról vásárolt villamos energia [MWh] Megújuló energia aránya a villamosenergia-szolgáltató adatai szerint [%]
E42: % | F42: % | G42: % | H42: %
D43: Saját napelemes rendszer [MWh]
D44: Egyéb [MWh]
D45: nem releváns | E45: FALSE | F45: FALSE | G45: FALSE | H45: FALSE
D46: Összesen [MWh] | E46: =SUM(E40+E41+E43+E44) -> 0 | F46: =SUM(F40+F41+F43+F44) -> 0 | G46: =SUM(G40+G41+G43+G44) -> 0 | H46: =SUM(H40+H41+H43+H44) -> 0
C48: 9a. kérdés: | D48: Hőenergia | F48: Referenciaév:
...

Sheet Auswahlmöglichkeiten HUN
A3: 1. kérdés | C3: igen, a gyártás során | I3: igen | K3: elismert környezetvédelmi minősítő védjegyek vagy tanúsítványok
C4: csomagolás | I4: nem | K4: államilag elismert tanúsítások (beleértve a gyártó ISO 14001 tanúsítását)
C5: szállítás | I5: részben | K5: egyéb, megfelelően alátámasztott igazolások vagy értékelések
C6: használat során | I6: csak a csomagolás
C7: az összes felsorolt kategória
C10: Tisztító-, takarító- és mosószerek | E10: Gépek/berendezések | K10: Logisztikai intézkedések (kevesebb szállítási km)
C11: Textíliák | E11: Játékok | K11: Alternatív üzemanyagok/hajtások (pl. elektromos tehergépkocsi)
C12: Kozmetikumok | E12: Bútorok | K12: Környezetkímélő szállítási módok (pl. vasút)
C13: Egyéb | E13: Textíliák | K13: Egyéb
C14: x | E14: Egyéb
G15: Példa | K15: igen
C16: Fogyóeszközök (használat során elfogynak) | G16: Kozmetikumok, mosószerek, egyszer használatos edények | K16: nem
C17: Beruházási javak (más termékek vagy szolgáltatások előállításához) | G17: Gépek, járművek | K17: nem releváns, mert fogyóeszköz
C18: Tartós fogyasztási cikkek (hosszabb időn keresztül használják) | G18: Edények, berendezések, gépek
C19: Anyagok és alapanyagok / előtermékek | G19: Műanyagok, anyagok
B22: Beruházási javak és tartós fogyasztási cikkek | G22: TÁBLÁZAT
B24: Fogyóeszközök | G24: TÁBLÁZAT | I24: Tisztítószer | J24: Blauer Engel
J25: EU Ecolabel
J26: Környezetvédelmi minősítő védjegy
J27: Nordic Swan
J28: Cradle to Cradle certified
J29: xx
I31: Textíliák | J31: igen (saját nyilatkozat)
J32: igen, igazolással
J33: nem
C34: igen, használati útmutatóban
C35: igen, a terméken feltüntetve
C36: igen, QR-kóddal
C37: igen, a honlapunkon
C38: igen, ezek közül több helyen/módon (kérjük, részletezze)
C39: nem
C42: saját vállalaton belül
C43: a régióban (<100 km)
C44: Európában
C45: egyéb
C48: Saját gyártás → töltse ki a „Tabelle HUN” munkalap hőenergia-táblázatát | H48: Saját gyártás → töltse ki a „Tabelle HUN” munkalap villamosenergia-táblázatát
C49: Külső szolgáltató/gyártó (tovább a 9b. kérdéshez) | H49: Külső szolgáltató/gyártó (tovább a 9b. kérdéshez)
C50: nem releváns
C53: Többször használható csomagolás
C54: Tömegcsökkentés
...

Sheet Tabelle
A1: Bewertung
C2: Frage 4: | D2: Investitions/Gebrauchsgüter AUSSER Textilien
A3: Gewichtung | D3: Kategorie | E3: Kriterium | F3: Antwort | G3: Anteil am Produktgewicht | H3: für Produktgruppe nicht relevant | I3: Erläuterung | J3: Nachweis
A4: 0.2 | B4: Punkte bei ja, Nachweis multipliziert mit % | D4: Inhalt | E4: Enthält das Produkt erneuerbare Inhaltsstoffe | G4: % | H4: FALSE | J4: Datenblatt
A5: 0.2 | B5: Punkte bei ja, Nachweis multipliziert mit % | D5: Inhalt | E5: Enthält das Produkt recycelte Inhaltsstoffe | G5: % | H5: FALSE | J5: Datenblatt
A6: 0.15 | B6: Punkte bei ja und Nachweis | D6: Inhalt | E6: Wird der Einsatz kritischer Rohstoffe vermieden (über gesetzl. Vorgaben hinaus) | G6: – | H6: FALSE | J6: Datenblatt
A7: 0.15 | B7: Punkte bei ja und Nachweis | D7: Inhalt | E7: Wird der Einsatz von Schadstoffen vermieden (über gesetzl. Vorgaben hinaus) | G7: – | H7: FALSE | J7: Zertifikat/Datenblatt
A8: 0.1 | B8: Punkte bei ja und Nachweis; nicht rel. F. Produktart& Erläuterung: halbe Punkte | D8: Design | E8: Wurde beim Produktdesign auf Modularität/Aufrüstbarkeit geachtet | G8: – | H8: FALSE
A9: 0.1 | B9: Punkte bei ja und Nachweis; nicht rel. F. Produktart& Erläuterung: halbe Punkte | D9: Design | E9: Wurde beim Produktdesign auf Wartungs/Reparaturfähigkeit geachtet: | G9: – | H9: FALSE
A10: 0.05 | B10: Punkte bei ja und Nachweis; nicht rel. F. Produktart& Erläuterung: halbe Punkte | D10: Design | E10: Organisation/Verfügbarkeit von Ersatzteilen durch das Unternehmen | G10: – | H10: FALSE
A11: 0.05 | B11: Punkte bei ja und Nachweis; nicht rel. F. Produktart& Erläuterung: halbe Punkte | D11: Design | E11: Organisation/Verfügbarkeit der Reparatur durch das Unternehmen | G11: – | H11: FALSE
D14: Gebrauchsgüter: Textilien
A15: Gewichtung | D15: Kriterium | E15: Antwort | F15: Erläuterung | G15: Nachweis
A16: 0.2 | B16: volle P bei ja, sonst 0 | D16: Wie hoch ist der Anteil nachhaltiger Fasern am Produkt? (z.B. Hanf, Leinen, Lyocell, Bio-Baumwolle..) | E16: x% | G16: Zertifikat/Datenblatt
A17: 0.1 | B17: volle P bei ja mal % Anteil | D17: Wie hoch ist der Anteil recycelter Fasern? | E17: x% | G17: Zertifikat/Datenblatt
A18: 0.1 | B18: volle P bei ja, sonst 0 | D18: Verzicht auf gesundheitsschädliche Chemikalien (über gesetzl. Vorgaben hinaus)? | G18: z. B. OEKO-TEX
A19: 0.4 | B19: volle P bei ja, sonst 0 | D19: Gibt es für das Produkt oder dessen Inhaltsstoffe ein anerkanntes Umwelt- oder Nachhaltigkeitszeichen? | G19: Zertifikat
A20: 0.05 | B20: volle P bei ja, sonst 0 | D20: Wurde beim Produktdesign auf Langlebigkeit und hohe Verarbeitungsqualität geachtet? | G20: Produktbeschreibung
A21: 0.05 | B21: volle P bei ja, sonst 0 | D21: Wurde beim Produktdesign auf Reparatur- oder Wiederverwendungsmöglichkeit geachtet? | G21: Produktbeschreibung
D24: bei verschiedenen Produktgruppen: füllen Sie jeweils eine Tabelle pro Produktgruppe aus (ggf. rechts weitere Tabellen einfügen)
C26: Frage 5: | D26: Verbrauchsgüter, z.B. Putz-, Reinigungsmittel, Kosmetik | I26: Verbrauchsgüter, z.B. Putz-, Reinigungsmittel, Kosmetik
D27: Produkt/gruppe: | F27: Umsatzanteil:[%] | I27: Produkt/gruppe: | K27: Umsatzanteil:[%]
A28: Gewichtung | D28: Kriterium | E28: Antwort | F28: für Produktgruppe nicht relevant | G28: Nachweis | I28: Kriterium | J28: Antwort | K28: für Produktgruppe nicht relevant | L28: Nachweis
A29: 0.1 | B29: volle P bei ja, sonst 0 | D29: Enthält das Produkt biologisch abbaubare Inhaltsstoffe (über gesetzliche Vorgaben hinaus) | F29: FALSE | G29: Produktdatenblatt oder Herstellerbestätigung | I29: Enthält das Produkt biologisch abbaubare Inhaltsstoffe (über gesetzliche Vorgaben hinaus) | K29: FALSE | L29: Produktdatenblatt oder Herstellerbestätigung
A30: 0.1 | B30: volle P bei ja, sonst 0 | D30: Ist das Produkt frei von Mikroplastik | F30: FALSE | G30: Produktdatenblatt | I30: Ist das Produkt frei von Mikroplastik | K30: FALSE | L30: Produktdatenblatt
A31: 0.1 | B31: volle P bei ja, sonst 0 | D31: Verzichtet das Produkt auf umwelt- oder gesundheitsschädliche Chemikalien/Inhaltsstoffe (über gesetzl. Vorgaben hinaus) | F31: FALSE | G31: Sicherheitsdatenblatt | I31: Verzichtet das Produkt auf umwelt- oder gesundheitsschädliche Chemikalien/Inhaltsstoffe (über gesetzl. Vorgaben hinaus) | K31: FALSE | L31: Sicherheitsdatenblatt
A32: 0.1 | B32: volle P bei ja, sonst 0 | D32: Handelt es sich um ein Konzentrat? | F32: FALSE | G32: Produktbeschreibung | I32: Handelt es sich um ein Konzentrat? | K32: FALSE | L32: Produktbeschreibung
A33: 0.1 | B33: volle P bei 0, 50% bei EC/LC50 > 100 mg/L | D33: Wie hoch ist die aquatische Toxizität des Produktes? (LC50, NC50) | F33: FALSE | G33: Sicherheitsdatenblatt | I33: Wie hoch ist die aquatische Toxizität des Produktes? (LC50, NC50) | K33: FALSE | L33: Sicherheitsdatenblatt
A34: 0.1 | B34: volle P bei ja, sonst 0 | D34: Besteht das Produkt aus nachwachsenden oder biobasierten Rohstoffen? | F34: FALSE | G34: Produktdatenblatt | I34: Besteht das Produkt aus nachwachsenden oder biobasierten Rohstoffen? | K34: FALSE | L34: Produktdatenblatt
A35: 0.4 | B35: volle P bei ja, sonst 0 | D35: Gibt es für das Produkt oder dessen Haupt-Inhaltsstoffe (75% bezogen auf das Produktgewicht) ein anerkanntes Umwelt- oder Nachhaltigkeitszeichen? | F35: FALSE | G35: Zertifikat, z.B. EU Ecolabel, Blauer Engel, Ecocert | I35: Gibt es für das Produkt oder dessen Haupt-Inhaltsstoffe (75% bezogen auf das Produktgewicht) ein anerkanntes Umwelt- oder Nachhaltigkeitszeichen? | K35: FALSE | L35: Zertifikat, z.B. EU Ecolabel, Blauer Engel, Ecocert
C37: =_xlfn.TRANSLATE(Validáció!B37,"hu","de") -> Werden in der Produktion Maßnahmen angewendet, die über die gesetzlich vorgeschriebenen Mindestanforderungen hinausgehen, um andere Ressourcen (Materialien, Hilfsmaterialien, Zusatzstoffe usw.) möglichst effizient und umweltfreundlich zu nutzen? Bitte beschreiben Sie die Maße.
C38: Frage 9: | D38: Strom | F38: Bezugsjahr:
D39: Stromquelle | E39: Standort 1:…............ | F39: Standort 2:…........ | G39: Standort 3:…........ | H39: Standort ..:….....
D40: Netzbezug: zertifizierter Ökostrom [MWh] | I40: relevante Produktionsstandorte FÜR DAS GEWÄHLTE PRODUKT
D41: Netzbezug: Strom [MWh] Anteil Erneuerbare lt. Stromversorger [%]
E42: % | F42: % | G42: % | H42: %
D43: Eigene PV-Anlage [MWh]
D44: Sonstiges [MWh]
D45: nicht relevant | E45: FALSE | F45: FALSE | G45: FALSE | H45: FALSE
D46: Summe [MWh] | E46: =SUM(E40+E41+E43+E44) -> 0 | F46: =SUM(F40+F41+F43+F44) -> 0 | G46: =SUM(G40+G41+G43+G44) -> 0 | H46: =SUM(H40+H41+H43+H44) -> 0
...

Sheet Auswahlmöglichkeiten
A3: Frage 1 | C3: ja bei Herstellung | I3: ja | K3: anerkannte Umweltzeichen oder Gütesiegel
C4: Verpackung | I4: nein | K4: staatlich anerkannte Zertifizierungen (incl. ISO 14001 de Herstellers)
C5: Transport | I5: teilweise | K5: sonstige nachvollziehbare Nachweise oder Einschätzungen
C6: bei der Nutzung | I6: nur Verpackung
C7: alle genannten Kategorien
C10: Putz- Reinigungs-, Waschmittel | E10: Maschinen/Geräte | K10: Logistikmaßnahmen (weniger Transport-km)
C11: Textilien | E11: Spielzeug | K11: alternative Treibstoffe (z.B. E-LKW)
C12: Kosmetik | E12: Möbel | K12: umweltschonende Transportmittel (z.B. Bahn)
C13: Sonstiges | E13: Textilien | K13: sonstige
C14: x | E14: Sonstiges
G15: Bsp | K15: ja
C16: Verbrauchsgüter (werden bei Nutzung verbraucht) | G16: Kosmetik, Waschmittel, Einmalgeschirr | K16: nein
C17: Investitionsgüter (zur Herstellung anderer Güter oder DL) | G17: Maschinen, Fahrzeuge | K17: nicht relevant da Verbrauchsgut
C18: Gebrauchsgüter (über längeren Zeitraum genutzt) | G18: Geschirr, Geräte, Maschinen
C19: Werkstoffe und Materialien/Vorprodukte | G19: Kunststoffe, Materialien
B22: Investitionsgüter & Gebrauchsgüter | G22: TABELLE
B24: Verbrauchsgüter | G24: TABELLE | I24: Putzmittel | J24: Blauer Engel
J25: EU Ecolabel
J26: Umweltzeichen
J27: Nordic Swan
J28: Cradle to Cradle certified
J29: xx
I31: Textilien | J31: ja (eigene Angabe)
J32: ja mit Nachweis
J33: nein
C34: ja in einer Bedienungsanleitung
C35: ja Aufschrift am Produkt
C36: ja QR Code
C37: ja auf unserer homepage
C38: ja mehrere davon (bitte erläutern)
C39: nein
C42: im eigenen Unternehmen
C43: in der Region (<100km)
C44: in Europa
C45: sonstige
C48: Eigene Produktion -> Tabelle ausfüllen (Blatt:Tabellen): Wärme | H48: Eigene Produktion -> Tabelle ausfüllen (Blatt:Tabellen): Strom
C49: Drittanbieter (weiter zu Frage 9b) | H49: Drittanbieter (weiter zu Frage 9b)
C50: nicht relevant
C53: Mehrwegverpackung
C54: Gewichtsreduktion
...

Sheet Összefoglaló

Sheet Rückfragen
