Workbook
Name Text38: Értékelés!#REF!
Name Text38: Validáció!#REF!

Sheet Előlap
C4: ÉRTÉKELÉS EREDMÉNYE:
C5: Ciklus: | D5: 2026 / 2027
C6: Kategória: | D6: Vállalat
C7: Értékelés időpontja: | D7: xxx 2026
B11: GB-ID Azonosító | C11: 2026 xx xxxx
B13: Cégnév | C13: =Vállalat!D7 -> 0
B14: Márkanév
B15: Cím | C15: =Vállalat!D8 -> 0
B16: Iparág | C16: =Vállalat!D9 -> 0
B18: Eredmény
C19: Elérhető pontszám | D19: Elért pontszám | E19: Arány
B20: =Vállalat!C20 -> Vállalati célok | C20: =Vállalat!D20 -> 15 | D20: =Vállalat!E20 -> 0 | E20: =D20/C20 -> 0
B21: =Vállalat!C21 -> Fenntarthatósági / környezetirányítási rendszerek | C21: =Vállalat!D21 -> 15 | D21: =Vállalat!E21 -> 0 | E21: =D21/C21 -> 0
B22: =Vállalat!C22 -> Energiafelhasználás | C22: =Vállalat!D22 -> 10 | D22: =Vállalat!E22 -> 0 | E22: =D22/C22 -> 0
B23: =Vállalat!C23 -> Erőforrás-felhasználás | C23: =Vállalat!D23 -> 10 | D23: =Vállalat!E23 -> 0 | E23: =D23/C23 -> 0
B24: =Vállalat!C24 -> Kibocsátások | C24: =Vállalat!D24 -> 5 | D24: =Vállalat!E24 -> 0 | E24: =D24/C24 -> 0
B25: =Vállalat!C25 -> Mobilitás | C25: =Vállalat!D25 -> 10 | D25: =Vállalat!E25 -> 0 | E25: =D25/C25 -> 0
B26: =Vállalat!C26 -> Vízfelhasználás | C26: =Vállalat!D26 -> 10 | D26: =Vállalat!E26 -> 0 | E26: =D26/C26 -> 0
B27: =Vállalat!C27 -> Hulladékgazdálkodás | C27: =Vállalat!D27 -> 10 | D27: =Vállalat!E27 -> 0 | E27: =D27/C27 -> 0
B28: =Vállalat!C28 -> Szemléletformálás | C28: =Vállalat!D28 -> 10 | D28: =Vállalat!E28 -> 0 | E28: =D28/C28 -> 0
B29: =Vállalat!C29 -> Fenntartható fogyasztás ösztönzése | C29: =Vállalat!D29 -> 5 | D29: =Vállalat!E29 -> 0 | E29: =D29/C29 -> 0
B30: Összesen: | C30: =Vállalat!D30 -> 100 | D30: =Vállalat!E30 -> 0 | E30: =D30/C30 -> 0
B32: értékelte:
C36: ALLPLAN GmbH
C37: Schwindgasse 10, 1040 Wien
C38: www.allplan.at
B40: Az előírt 51%-os küszöbérték elérése / meghaladása esetén – a védett EU tanúsító védjegy alapszabályának megfelelően –
B41: a GREEN BRANDS Hungary 2026/2027 minősítés odaítélésre kerül.
B44: Érvényesség: 2027.12.31.
B46: Norbert R. L u x
B47: Ügyvezető igazgató

Sheet Alapinformációk
O3: Kitöltési útmutató / Jelmagyarázat
O4: Jelölés / Mező | P4: Jelentése | Q4: Teendő
O5: Kék mező | P5: Szabad szöveges mező | Q5: Kérjük, adja meg a kért adatokat / magyarázatokat.
O6: Narancssárga mező | P6: Választómező | Q6: Kérjük, válasszon ki egy választ a legördülő menüből.
P7: □ Jelölőnégyzet | Q7: Kérjük, tegyen „X” jelet a megfelelő válasz melletti négyzetbe. Több válasz is megjelölhető, amennyiben több válasz is érvényes.
O8: Aláhúzott szöveg | P8: Hivatkozás a „Táblázatok” munkalapra | Q8: Kérjük, töltse ki az így megjelölt cellákhoz tartozó táblázatot a „Táblázatok” munkalapon.
O9: "Szükséges igazolás" oszlop | P9: Szükséges igazolás / Kötelező igazoló dokumentum | Q9: Kérjük, csatolja a megfelelő dokumentumokat vagy adatokat, pl. számlákat, tanúsítványokat vagy kimutatásokat, és a „Szükséges igazolás” oszlopban tüntesse fel a konkrét dokumentum megnevezését és/vagy az arra mutató hivatkozást.
O11: Beküldés előtt kérjük, győződjön meg arról, hogy: - minden kérdést teljes körűen megválaszolt; - minden szükséges igazoló dokumentumot mellékelt (szükség esetén pl. we transferen keresztül); - az érintett kérdéseknél feltüntette a konkrét dokumentum megnevezését. Fontos: Az olyan általános hivatkozás, mint például „lásd a fenntarthatósági jelentésünket”, nem elegendő. Kérjük, minden esetben adja meg a releváns részhez vezető konkrét hivatkozást/linket. Ezzel elkerülhetők az értékelés során felmerülő felesleges visszakérdezések, amelyek időigényesek, és akár többletköltséget is eredményezhetnek. Köszönjük!

Sheet Vállalat
C3: VÁLLALATI KÉRDŐÍV
C7: Cégnév
C8: Cím
C9: Iparág
C10: Teékenységi kör leírása
C11: Cégforma
C12: Alkalmazottak száma
C13: A vállalat éves forgalma
C14: Kapcsolattartó személy / pozíció
C15: E-mail
C16: Telefon
C18: Eredmény
D19: Elérhető Pontszám | E19: Elért Pontszám | F19: Arány | H19: Év 1 | I19: Év 2 | J19: Év 3
C20: =Validáció!B4 -> Vállalati célok | D20: =Értékelés!H5 -> 15 | E20: =SUM(Értékelés!I5) -> 0 | F20: =E20/D20 -> 0 | H20: =E20 -> 0 | K20: =I20-H20 -> 0
C21: =Validáció!B11 -> Fenntarthatósági / környezetirányítási rendszerek | D21: =SUM(Értékelés!H12:H18) -> 15 | E21: =SUM(Értékelés!I12:I18) -> 0 | F21: =E21/D21 -> 0 | H21: =E21 -> 0 | K21: =I21-H21 -> 0
C22: =Validáció!B20 -> Energiafelhasználás | D22: =SUM(Értékelés!H21:H49) -> 10 | E22: =SUM(Értékelés!I21:I49) -> 0 | F22: =E22/D22 -> 0 | H22: =E22 -> 0 | K22: =I22-H22 -> 0
C23: =Validáció!B51 -> Erőforrás-felhasználás | D23: =SUM(Értékelés!H52:H60) -> 10 | E23: =SUM(Értékelés!I52:I60) -> 0 | F23: =E23/D23 -> 0 | H23: =E23 -> 0 | K23: =I23-H23 -> 0
C24: =Validáció!B62 -> Kibocsátások | D24: =SUM(Értékelés!H63:H69) -> 5 | E24: =SUM(Értékelés!I63:I69) -> 0 | F24: =E24/D24 -> 0 | H24: =E24 -> 0 | K24: =I24-H24 -> 0
C25: =Validáció!B71 -> Mobilitás | D25: =SUM(Értékelés!H72:H83) -> 10 | E25: =SUM(Értékelés!I72:I83) -> 0 | F25: =E25/D25 -> 0 | H25: =E25 -> 0 | K25: =I25-H25 -> 0
C26: =Validáció!B85 -> Vízfelhasználás | D26: =SUM(Értékelés!H86:H94) -> 10 | E26: =SUM(Értékelés!I86:I94) -> 0 | F26: =E26/D26 -> 0 | H26: =E26 -> 0 | K26: =I26-H26 -> 0
C27: =Validáció!B96 -> Hulladékgazdálkodás | D27: =SUM(Értékelés!H97:H109) -> 10 | E27: =SUM(Értékelés!I97:I109) -> 0 | F27: =E27/D27 -> 0 | H27: =E27 -> 0 | K27: =I27-H27 -> 0
C28: =Validáció!B111 -> Szemléletformálás | D28: =SUM(Értékelés!H112:H128) -> 10 | E28: =SUM(Értékelés!I112:I128) -> 0 | F28: =E28/D28 -> 0 | H28: =E28 -> 0 | K28: =I28-H28 -> 0
C29: =Validáció!B130 -> Fenntartható fogyasztás ösztönzése | D29: =SUM(Értékelés!H131:H139) -> 5 | E29: =SUM(Értékelés!I131:I139) -> 0 | F29: =E29/D29 -> 0 | H29: =E29 -> 0 | K29: =I29-H29 -> 0
C30: Összesen: | D30: =SUM(D20:D29) -> 100 | E30: =SUM(E20:E29) -> 0 | F30: =E30/D30 -> 0 | H30: =E30 -> 0 | K30: =I30-H30 -> 0
C32: Auditáló: | D32: xx
D39: ALLPLAN GmbH
D40: Schwindgasse 10, 1040 Wien
D41: M: +43 676 84 22 252 20
D42: Firmenbuchnummer: 94000k
D43: Handelsgericht Wien
D44: www.allplan.at
C47: Verzió: | D47: 46296

Sheet Validáció
A1: Kötelező frissítés újravalidálás esetén | B1: Kérdés száma | C1: Vállalati kérdőív | D1: Válaszlehetőség (kérjük, válasszon) | E1: Magyarázatok | F1: Szükséges igazolás: Kérjük, az adott cellában tüntesse fel a csatolt igazolás pontos megnevezését. (Az útmutató szövegét írja felül.) | G1: Kategória maximális pontszáma | H1: Kérdésenként elérhető max. pontszám | I1: Elért pontszám | J1: Pontozási rendszer
A3: szükség esetén | B3: 0. kérdés | C3: Hogyan értékeli a környezeti szempontok beágyazottságát vállalatánál az ágazati standardhoz képest? Elsősorban a jelenlegi helyzetre fókuszáljon, de térjen ki a jövőbeni célokra és tevékenységekre is.
B4: Vállalati célok | G4: 15
A5: igen | B5: 1. kérdés | C5: Mekkora az ökológiailag fenntartható termékek árbevételének aránya a vállalat teljes árbevételén belül? [xx%] | H5: =Értékelés!H5 -> 15 | J5: Értékelés: x% × az igazolás típusa (1a)
A7: igen | B7: 1a. kérdés | C7: Mi igazolja a termékek ökológiai fenntarthatóságát? Igazolás szükséges! | D7: Amennyiben releváns, kérjük, a megfelelő válasz melleti „☐” helyére tegyen egy „X” jelet. Több válasz is megjelölhető. ☐ Tanúsítás / minősítő védjegy ☐ Taxonómia-megfelelőség ☐ Külső értékelés ☐ Saját mutatók ☐ Számítások ☐ Nincs igazolás ☐ Egyéb | F7: Tanúsítványok, minősítő védjegyek/ökocímkék, vizsgálati jelentések, számítások vagy egyéb dokumentációk | J7: 100% – Külső fél által ellenőrzött / igazolt taxonómia-megfelelőség 80% – Elismert ökocímke, minősítő védjegy vagy tanúsítvány 60% – Ellenőrizhető termékinformációk / fenntarthatósági jelentés / weboldal 20% – Saját értékelés megalapozott indoklással 10% – Pusztán saját értékelés igazolás nélkül
A9: igen | B9: 1b. kérdés | C9: Kérjük, adjon meg további információkat az ökológiailag fenntartható termékpalettáról. Igazolás szükséges! | F9: Pl. hivatkozások a vállalati weboldalra, termékadatlapokra, fenntarthatósági jelentésekre, tanúsítványokra vagy további termékinformációkra.
B11: Fenntarthatósági / környezetirányítási rendszerek | G11: 15
A12: igen (a tanúsítványoknak aktuálisnak/érvényesnek kell lenniük) | B12: 2. kérdés | C12: A vállalatnál a környezetvédelem témája ISO 14001 vagy EMAS szerinti környezetirányítási rendszer keretében beépült a működésbe? Igazolás szükséges! | F12: Érvényes tanúsítvány | H12: =Értékelés!H12 -> 5 | J12: 0% – Nincs érvényes tanúsítvány 100% – Van érvényes tanúsítvány
A14: szükség esetén (adott esetben új jelentést kérünk) | B14: 3. kérdés | C14: Működtet-e a vállalat átfogó rendszert a fenntarthatósági teljesítmény folyamatos javítására (gazdasági, környezeti, társadalmi/etikai szempontok)? Amennyiben igen, kérjük, dokumentálja (pl. felelősségi körök és szervezeti beágyazottság, érintettek bevonása, aktuális fenntarthatósági jelentés, hatásmérés). Igazolás szükséges! | F14: Fenntarthatósági jelentés, monitoring dashboard, irányítási kézikönyv, folyamatleírás | H14: =Értékelés!H14 -> 5 | J14: 25% – Van lényegességi elemzés és érintetti bevonás 25% – Van hatásmérés 50% – Van aktuális fenntarthatósági jelentés
A16: szükség esetén (adott esetben új jelentést kérünk) | B16: 4. kérdés | C16: Jogszabály alapján köteles a vállalat fenntarthatósági jelentést készíteni? | H16: =Értékelés!H16 -> 2
A18: igen | B18: 5. kérdés | C18: Az ökológiai fenntarthatóság területén adja meg: 1. a három legfontosabb célt, 2. a hozzájuk tartozó KPI-okat (kulcsfontosságú teljesítménymutatókat), 3. valamint minden cél esetében az aktuális állapotot. Igazolás szükséges! | F18: Dokumentáció, pl. fenntarthatósági stratégia, környezeti politika, fenntarthatósági jelentés, környezeti mutatók, éves összehasonlítás (konkrét fejezet, oldal stb.) | H18: =Értékelés!H18 -> 3 | J18: 100% – mindhárom elem rendelkezésre áll; részleges teljesítés esetén: 20% a célokért, 40-40% a KPI-okért és az aktuális állapotért
B20: Energiafelhasználás | G20: 10
A21: szükség esetén/változás esetén | B21: 6. kérdés | C21: Kiszervezte-e a termelés egyes részeit? Amennyiben igen, röviden ismertesse a releváns folyamatokat. Igazolás szükséges! | F21: Rövid leírás, termelési folyamatábra | H21: =Értékelés!H21 -> 1 | J21: Teljes pontszám, ha a fő termelési tevékenységet a vállalat maga végzi, vagy a releváns együttműködési szerződés megfelelő tartalmakat rögzít. 50%, ha részben külső beszerzés történik és a beszállítók kiválasztása szabályozott. 25%, ha a vállalat csak csomagolást/értékesítést végez és a beszállítók kiválasztása szabályozott. Egyébként: 0%
A22: szükség esetén/változás esetén | B22: 6a. kérdés | C22: Az értékesített termékek mekkora hányadát állítják elő saját vállalaton belül? Megjegyzés: a csomagolás nem értendő ide!
A23: szükség esetén/változás esetén | B23: 6b. kérdés | C23: Milyen mértékben veszik figyelembe az energiahatékony termelést az előbeszállítók kiválasztásánál? Igazolás szükséges! | F23: Együttműködési szerződés / beszerzési irányelv kivonata | J23: (csak információ a 6. kérdéshez)
A25: szükség esetén/változás esetén | B25: 7. kérdés | C25: Működik a vállalatnál energiagazdálkodási rendszer (ISO 50001 vagy azzal egyenértékű)? Igazolás szükséges! | F25: Tanúsítvány | H25: =Értékelés!H25 -> 0.5 | J25: 0% – Nincs érvényes tanúsítvány 100% – Van érvényes tanúsítvány
A27: igen | B27: 8. kérdés | C27: Mekkora volt a vállalat összes telephelyének teljes éves villamosenergia-felhasználása az elmúlt három évben? (MWh/év) Hálózati vételezés (PV nélkül). Igazolás szükséges! | D27: Kérjük, töltse ki a „Táblázatok” munkalap „Éves villamosenergia-felhasználás” táblázatát! | F27: Villanyszámlák, energiaelszámolások, mérőóra-adatok/kimutatások, energiagazdálkodási jelentés, belső fogyasztási kimutatás vagy villamosenergia-mutatókat tartalmazó ESG-/fenntarthatósági jelentés. | H27: =Értékelés!H27 -> 1.5 | J27: – Adatok rendelkezésre állnak: 50% (energia és releváns mérőszámok) – 75%, ha a 3. év < 1. év (KPI-ra, nem abszolút értékre vetítve) – 100%, ha az előző két feltétel teljesül és energiahatékonysági intézkedéseket is bemutatnak (8a. kérdés)
A29: igen | B29: 8a. kérdés | C29: Ismertesse a villamosenergia-felhasználás változásának okait a megadott időszakban (pl. munkavállalói létszám, alapterület, kihasználtság, home office, IT-használat vagy energiahatékonysági intézkedések változása).
A31: igen | B31: 9. kérdés | C31: Mekkora volt a vállalat összes telephelyének teljes éves hőenergia-felhasználása az elmúlt három évben? (MWh/év) Kérjük, különítse el a technológiai hőfelhasználást és a fűtési célú hőfelhasználást. Igazolás szükséges! | D31: Kérjük, töltse ki a „Táblázatok” munkalap „Hőenergia-felhasználás” táblázatát! | H31: =Értékelés!H31 -> 1.5 | J31: – Adatok rendelkezésre állnak: 50% (energia és releváns mérőszámok) – 75%, ha a 3. év < 1. év (KPI-ra, nem abszolút értékre vetítve) – 100%, ha az előző két feltétel teljesül és energiahatékonysági intézkedéseket is bemutatnak (9a. kérdés)
A33: szükség esetén/változás esetén | B33: 9a. kérdés | C33: Ismertesse a hőenergia-felhasználás változásának okait a megadott időszakban (pl. termelési volumen változása, végrehajtott energiahatékonysági intézkedések).
A35: igen | B35: 10. kérdés | C35: Vásárol-e a vállalat tanúsított zöld villamos energiát (= kizárólag megújuló energiaforrásból származó villamos energia)? Igazolás szükséges! | D35: Kérjük, a megfelelő válasz melleti „☐” helyére tegyen egy „X” jelet. Több válasz is megjelölhető. 1. telephely: _________ ☐ Igen ☐ Nem 2. telephely: _________ ☐ Igen ☐ Nem 3. telephely: _________ ☐ Igen ☐ Nem stb. | F35: Kérjük, csatolja az aktuális zöldáram-tanúsítványt. Minden telephely esetében csatolja az energiaszolgáltató aktuális villamosenergia-mixének dokumentációját (forrás: villanyszámla). | H35: =Értékelés!H35 -> 1 | J35: Arányos pontszám az érvényes zöldáram-tanúsítvánnyal rendelkező telephelyek aránya alapján (pl. 5 telephelyből 2 igen: 2/5 pont).
A37: szükség esetén/változás esetén | B37: 11. kérdés | C37: Termel-e a vállalat saját maga, helyben villamos energiát megújuló energiaforrásból? | H37: =Értékelés!H37 -> 1 | J37: Igen válasz és rendelkezésre álló dokumentáció: 50%; további pontok a részarány alapján: >10% és <50% a teljes villamosenergia-igényből: +25% >50%: teljes pontszám
A39: szükség esetén/változás esetén | B39: 11a. kérdés | C39: Milyen technológiával és milyen mennyiségben? (MWh/év)
A41: igen | B41: 12. kérdés | C41: Milyen energiaforrásokból fedezi a vállalat hőenergia-igényét (fűtés, meleg víz)? Kérjük, adja meg az egyes energiahordozók arányát a vállalat valamennyi telephelyének teljes hőenergia-felhasználásán belül MWh-ban és %-ban. Igazolás szükséges! | D41: Kérjük, töltse ki a „Táblázatok” munkalap „Energiahordozók & kWh” táblázatát! | F41: Igazolás, pl. fűtési költségelszámolások, energiaszámlák, mérőóra-adatok/kimutatások, távhő-elszámolások, energetikai jelentés, fenntarthatósági jelentés vagy belső fogyasztási kimutatás. | H41: =Értékelés!H41 -> 1 | J41: A pontszám arányos a megújuló hőenergia-hordozók (biomassza, hőszivattyú, geotermikus energia stb.) összes telephelyre vetített részarányával.
A43: szükség esetén/változás esetén | B43: 13. kérdés | C43: Termel-e a vállalat saját maga, helyben hőenergiát megújuló energiaforrásból? | H43: =Értékelés!H43 -> 1 | J43: Igen válasz és rendelkezésre álló dokumentáció: 50%; további pontok a részarány alapján: >10% és <50% a teljes hőenergia-igényből: +25% >50%: teljes pontszám
B45: 13a. kérdés | C45: Milyen technológiával és milyen mennyiségben? (MWh/év)
A47: szükség esetén/változás esetén | B47: 14. kérdés | C47: Milyen energiahatékonysági osztályba tartozik/tartoznak a vállalat épülete(i)? | D47: Kérjük, töltse ki a „Táblázatok” munkalap „Energiahatékonysági osztály” táblázatát! | H47: =Értékelés!H47 -> 1 | J47: 100% max. 15 kWh/m² BGF-Ref esetén 75% max. 25 kWh/m² BGF-Ref esetén 50% max. 50 kWh/m² BGF-Ref esetén 25% max. 100 kWh/m² BGF-Ref esetén
A49: igen | B49: 15. kérdés | C49: Amennyiben az elmúlt évben a vállalat „Energia” témájú projektet valósított meg, itt röviden bemutathatja azt. Igazolás szükséges! | D49: Amennyiben releváns, kérjük, a megfelelő válasz melleti „☐” helyére tegyen egy „X” jelet. Több válasz is megjelölhető. ☐ Épületek energiahatékonyságának javítása, pl. felújítás ☐ Megújuló energia vagy saját energiatermelés, pl. fotovoltaikus rendszer ☐ Fűtés, hűtés vagy szellőzés optimalizálása ☐ Átállás energiahatékony világításra, pl. LED ☐ Energiahatékony berendezések vagy IT-rendszerek alkalmazása ☐ Működési folyamatok optimalizálása ☐ Energiagazdálkodás vagy fogyasztásmonitoring ☐ Munkavállalók képzése vagy szemléletformálása ☐ Egyéb: __________ ☐ Nem valósult meg energiaprojekt | F49: Projektleírás, link | H49: =Értékelés!H49 -> 0.5 | J49: Teljes pontszám, ha tartalmilag új projektről van szó, amelyet a kérdőívben korábban még nem említettek; egyébként 0 pont (puszta „frissítésért” nem jár pont).
B51: Erőforrás-felhasználás | G51: 10
A52: szükség esetén/változás esetén | B52: 16. kérdés | C52: Igazolható módon nyomon követi-e a vállalat az erőforrás-felhasználását? Amennyiben igen, hogyan/hol? Igazolás szükséges! | F52: Dokumentáció kivonata / igazolása | H52: =Értékelés!H52 -> 1
A54: igen | B54: 17. kérdés | C54: Milyen módon járul hozzá a vállalat a magas erőforrás-hatékonysághoz, pl. anyaghatékonysággal (újrahasznosított anyagok vagy fenntartható nyersanyagok alkalmazása), ökodesignnal stb.? Igazolás szükséges! | D54: Kérjük, töltse ki a „Táblázatok” munkalap „Fenntartható/újrahasznosított anyagok” táblázatát! | F54: Csomagolási tanúsítványok, amennyiben releváns | H54: =Értékelés!H54 -> 6 | J54: Területenként 1 pont, megszorozva az adott részaránnyal (%)
A56: szükség esetén/változás esetén | B56: 18. kérdés | C56: Hajtottak-e végre az elmúlt 2 évben intézkedéseket a fenntartható erőforrások használatának növelése érdekében? | D56: Amennyiben releváns, kérjük, a megfelelő válasz melleti „☐” helyére tegyen egy „X” jelet. Több válasz is megjelölhető. ☐ A kínált termékek erőforrás-felhasználásának csökkentése (termékdesign) ☐ Anyagok vagy termékek újrahasználata ☐ Berendezések javítása és hosszabb ideig történő használata ☐ Egyszer használatos termékek kerülése ☐ Csomagolás csökkentése vagy elkerülése ☐ Termékek és előtermékek/szolgáltatások fenntartható beszerzése ☐ Munkavállalók képzése vagy szemléletformálása ☐ Digitalizáció, valamint a papír- és irodaszer-felhasználás csökkentése ☐ Egyéb intézkedés: __________ ☐ Nem valósult meg intézkedés | H56: =Értékelés!H56 -> 1.5
A58: szükség esetén/változás esetén | B58: 19. kérdés | C58: Alkalmaz-e a vállalat környezettudatos beszerzési gyakorlatot (környezeti szempontok figyelembevétele a beszerzések során)? Igazolás szükséges! | F58: Beszerzési irányelv, beszállítói magatartási kódex, beszállítóértékelés | H58: =Értékelés!H58 -> 1
A60: szükség esetén/változás esetén | B60: 20. kérdés | C60: Alkalmaz-e a vállalat környezettudatos irodai működést (pl. alacsony papírfelhasználás, ásványvíz helyett csapvíz, újrahasználható/gyűjtő dobozok)? | H60: =Értékelés!H60 -> 0.5
B62: Kibocsátások | G62: 5
A63: igen | B63: 21. kérdés | C63: Rendelkezik-e a vállalat aktuális, érvényes karbonlábnyom-számítással (vállalati és/vagy termékszinten)? Amennyiben a karbonlábnyom csak a vállalat egyes részeire, illetve egyes termékekre áll rendelkezésre, kérjük, részletezze. Igazolás szükséges! | F63: ÜHG-/CO₂-leltár, karbonlábnyom-számítás vagy kapcsolódó tanúsítvány | H63: =Értékelés!H63 -> 2 | J63: Külső fél által ellenőrzött / tanúsított – 100% Elismert módszertan alapján készült, de külső fél által nem ellenőrzött – 75% Belső számítás, ellenőrizhető módszertannal – 50%
A65: igen | B65: 22. kérdés | C65: Mekkora volt a vállalat összes telephelyére vonatkozó teljes üvegházhatásúgáz-kibocsátása az elmúlt három évben? (t CO₂e/év) | D65: Kérjük, töltse ki a „Táblázatok” munkalap „Kibocsátások” táblázatát! | H65: =Értékelés!H65 -> 2 | J65: – Adatok rendelkezésre állnak: 50% (energia és releváns mérőszámok) – 75%, ha a 3. év < 1. év – 100%, ha az előző két feltétel teljesül és energiahatékonysági intézkedéseket is megneveznek (22a. kérdés)
A67: szükség esetén/változás esetén | B67: 22a. kérdés | C67: Ismertesse a teljes kibocsátás változásának okait a megadott időszakban (pl. energiahatékonysági intézkedések, fenntartható mobilitás, kevesebb üzleti utazás, fenntartható beszerzés, hatékony IT és adatközpontok, egyéb).
A69: igen | B69: 23. kérdés | C69: Amennyiben az elmúlt két évben a vállalat (új) projektet valósított meg „Klímavédelem / klímakutatás” témában, itt röviden bemutathatja azt. Igazolás szükséges! | F69: Projektleírás, link | H69: =Értékelés!H69 -> 1 | J69: Teljes pontszám, ha tartalmilag új projektről van szó, amelyet a kérdőívben korábban még nem említettek; egyébként 0 pont.
B71: Mobilitás | G71: 10
...

Sheet Értékelés
A1: Verpflichtendes Update bei Re-Validierung | B1: Frage Nr. | C1: Fragebogen Unternehmen | D1: Auswahl-Antwort (bitte auswählen) | E1: Erklärungen | F1: Erforderlicher Nachweis: Bitte führen Sie die genaue Bezeichnung der beigefügten Nachweise in der jeweiligen Zelle an. (Hinweise überschreiben) | G1: Max. Punkteanzahl Kategorien | H1: max. Punkte je Frage | I1: Erreichte Punkte | J1: Punkteschema
A3: bei Bedarf | B3: Frage0 | C3: Wie beurteilen Sie die Verankerung von Umweltthemen in Ihrem Unternehmen im Vergleich zum Standard in Ihrer Branche? Fokussieren Sie dabei auf die aktuelle Situation, geben Sie aber auch einen Ausblick auf zukünftige Ziele und Aktivitäten. | D3: =_xlfn.TRANSLATE(Validáció!D3,"hu","de") | E3: =_xlfn.TRANSLATE(Validáció!E3,"hu","de") | F3: =_xlfn.TRANSLATE(Validáció!F3,"hu","de")
A4: Unternehmenszweck | G4: 15
A5: ja | B5: Frage 1 | C5: Wie hoch ist der Umsatzanteil ökologisch nachhaltiger Produkte am Gesamtumsatz des Unternehmens? [Xx%] | D5: =_xlfn.TRANSLATE(Validáció!D5,"hu","de") | E5: =_xlfn.TRANSLATE(Validáció!E5,"hu","de") | F5: =_xlfn.TRANSLATE(Validáció!F5,"hu","de") | H5: 15 | J5: Bewertung: x% * Art des Nachweises (1a)
A7: ja | B7: Frage 1a | C7: Wodurch wird die ökologische Nachhaltigkeit der Produkte bestätigt? Nachweis! | D7: =_xlfn.TRANSLATE(Validáció!D7,"hu","de") -> Falls relevant, ersetze bitte das "☐" neben der entsprechenden Antwort durch ein "X". Mehrere Antworten können markiert werden. ☐ Zertifizierung / Zertifizierung Markenzeichen ☐ Taxonomie-Compliance ☐ Externe Bewertung ☐ Benutzerdefinierte Metriken ☐ Berechnungen ☐ Kein Zertifikat ☐ Sonstiges | E7: =_xlfn.TRANSLATE(Validáció!E7,"hu","de") | F7: =_xlfn.TRANSLATE(Validáció!F7,"hu","de") -> Zertifikate, Zertifizierungszeichen/Ökolabels, Testberichte, Berechnungen oder andere Dokumentationen | J7: 100 % - Extern geprüft / Taxonomie-Konformität nachgewiesen 80% - Anerkanntes Umweltzeichen, Gütesiegel oder Zertifikat 60% Nachvollziehbare Produktinformationen / Nachhaltigkeitsbericht / Website 20% Selbsteinschätzung mit plausibler Begründung 10% Reine Selbsteinschätzung ohne Nachweis
A9: ja | B9: Frage 1b | C9: Bitte stellen Sie ergänzende Informationen zur ökologischen Produktpalette bereit. Nachweis! | D9: =_xlfn.TRANSLATE(Validáció!D9,"hu","de") | E9: =_xlfn.TRANSLATE(Validáció!E9,"hu","de") | F9: =_xlfn.TRANSLATE(Validáció!F9,"hu","de") -> Zum Beispiel Links zur Unternehmenswebsite, Produktdatenblätter, Nachhaltigkeitsberichte, Zertifikate oder zusätzliche Produktinformationen.
A11: Nachhaltigkeit/Umweltmanagement-Systeme | G11: 15
A12: ja (Zertifikate müssen aktuell/gültig sein) | B12: Frage 2 | C12: Ist das Thema "Umwelt" in Form eines Umweltmanagementsystems gem. ISO14001 oder EMAS in Ihrem Unternehmen verankert? Nachweis! | D12: =_xlfn.TRANSLATE(Validáció!D12,"hu","de") | E12: =_xlfn.TRANSLATE(Validáció!E12,"hu","de") | F12: =_xlfn.TRANSLATE(Validáció!F12,"hu","de") -> Gültiges Zertifikat | H12: 5 | J12: 0% - Kein gültiges Zertifikat vorhanden 100% - gültiges Zertifikat vorhanden
A14: bei Bedarf (ggf. neuen Bericht schicken) | B14: Frage 3 | C14: Betreibt ihr Unternehmen ein umfassendes System zur laufenden Verbesserung der Nachhaltigkeit? (ökonomische, ökologische, gesellschaftliche/ethische Aspekte), falls ja bitte um Dokumentation (z.B. Verantwortlichkeiten/Einbettung in die Organisation, Einbeziehung von Stakeholder, aktueller Nachhaltigkeitsbericht, Impact Messung) Nachweis! | D14: =_xlfn.TRANSLATE(Validáció!D14,"hu","de") | E14: =_xlfn.TRANSLATE(Validáció!E14,"hu","de") | F14: =_xlfn.TRANSLATE(Validáció!F14,"hu","de") -> Nachhaltigkeitsbericht, Monitoring-Dashboard, Managementhandbuch, Prozessbeschreibung | H14: 5 | J14: 25%- Wesentlichkeitsanalyse vorhanden und Einbindung von Stakeholdern 25% - Impact-Messung vorhanden 50% - Aktueller Nachhaltigkeitsbericht vorhanden
A16: bei Bedarf (ggf. neuen Bericht schicken) | B16: Frage 4 | C16: Sind Sie gesetzlich verpflichtet einen Nachhaltigkeitsbericht zu erstellen? | D16: =_xlfn.TRANSLATE(Validáció!D16,"hu","de") | E16: =_xlfn.TRANSLATE(Validáció!E16,"hu","de") | F16: =_xlfn.TRANSLATE(Validáció!F16,"hu","de") | H16: 2 | J16: ja: 0 Punkte, nein: 2 Punkte
A18: ja | B18: Frage 5 | C18: Nennen Sie im Bereich der ökologischen Nachhaltigkeit: 1.ihre wichtigsten 3 Ziele 2.die entsprechenden KPI´s (key performance indicators). 3.geben Sie jeweils den aktuellen Ist-Stand bekannt. Nachweis! | D18: =_xlfn.TRANSLATE(Validáció!D18,"hu","de") | E18: =_xlfn.TRANSLATE(Validáció!E18,"hu","de") | F18: =_xlfn.TRANSLATE(Validáció!F18,"hu","de") -> Dokumentation, z. B. Nachhaltigkeitsstrategie, Umweltpolitik, Nachhaltigkeitsbericht, Umweltindikatoren, Jahresvergleich (spezifisches Kapitel, Seite usw.) | H18: 3 | J18: Alle drei Bestandteile sind für 3 Ziele vorhanden und belegt: 100 %. Bei Teilantworten: Ziele 20 %, passende KPIs 40 %, aktuelle Ist-Werte mit Nachweis 40 %.
A20: Energieverbrauch | G20: =SUM(H21:H49) -> 10
A21: bei Bedarf/Änderung | B21: Frage 6 | C21: Haben Sie Teile der Produktion ausgelagert? Falls ja, beschreiben Sie kurz die relevanten Prozesse. Nachweis! | D21: =_xlfn.TRANSLATE(Validáció!D21,"hu","de") | E21: =_xlfn.TRANSLATE(Validáció!E21,"hu","de") | F21: =_xlfn.TRANSLATE(Validáció!F21,"hu","de") -> Kurze Beschreibung, Produktionsflussdiagramm | H21: 1 | J21: volle Punkte wenn Hauptproduktion selbst gemacht, oder relevante Kooperationsvertrag Inhalte vorhanden 50% wenn teilweise Zukauf und Auswahl der Lieferanten 25% wenn nur Verpackung/Vertrieb und Auswahl der Lieferanten sonst: 0%
A22: bei Bedarf/Änderung | B22: Frage 6a | C22: Zu welchem Anteil erstellen sie die verkauften Produkte selbst Im Unternehmen? Anmerkung: Verpackung ist damit nicht gemeint! | D22: =_xlfn.TRANSLATE(Validáció!D22,"hu","de") | E22: =_xlfn.TRANSLATE(Validáció!E22,"hu","de") | F22: =_xlfn.TRANSLATE(Validáció!F22,"hu","de")
A23: bei Bedarf/Änderung | B23: Frage 6b | C23: Inwiefern achten Sie bei Vorlieferanten auf energieeffiziente Produktion? Nachweis! | D23: =_xlfn.TRANSLATE(Validáció!D23,"hu","de") | E23: =_xlfn.TRANSLATE(Validáció!E23,"hu","de") | F23: =_xlfn.TRANSLATE(Validáció!F23,"hu","de") -> Zusammenfassung der Kooperationsvereinbarung / Beschaffungsrichtlinie | J23: (nur Info für 6)
A25: bei Bedarf/Änderung | B25: Frage 7 | C25: Gibt es ein Energiemanagementsystem in Ihrem Unternehmen? (ISO 50001 oder vergleichbar) Nachweis! | D25: =_xlfn.TRANSLATE(Validáció!D25,"hu","de") | E25: =_xlfn.TRANSLATE(Validáció!E25,"hu","de") | F25: =_xlfn.TRANSLATE(Validáció!F25,"hu","de") -> Zertifikat | H25: 0.5 | J25: 0% - Kein gültiges Zertifikat vorhanden 100% - gültiges Zertifikat vorhanden
A27: ja | B27: Frage 8 | C27: Wie hoch war ihr Gesamt-Jahresstromverbrauch über alle Standorte in den letzten drei Jahren? (MWh/Jahr) Nachweis! | D27: =_xlfn.TRANSLATE(Validáció!D27,"hu","de") -> Bitte füllen Sie die Tabelle "Jährlicher Stromverbrauch" im Arbeitsblatt "Tabellen" aus. | E27: =_xlfn.TRANSLATE(Validáció!E27,"hu","de") | F27: =_xlfn.TRANSLATE(Validáció!F27,"hu","de") -> Stromrechnungen, Energierechnungen, Zählerdaten/-abrechnungen, Energiemanagementberichte, interne Verbrauchsabrechnungen oder ESG-/Nachhaltigkeitsberichte mit Stromindikatoren. | H27: 1.5 | J27: 1. Daten vorhanden: 50% 2. +25% Im Jahr 3< Jahr1 3. +25% Wenn Maßnahmen beschrieben sind.
A29: ja | B29: Frage 8a | C29: Erläutern Sie die Gründe für Änderungen des Stromverbrauchs im angegebenen Zeitraum. (z.B. veränderte Mitarbeiterzahl, Fläche, Auslastung, Homeoffice, IT-Nutzung oder Effizienzmaßnahmen) | D29: =_xlfn.TRANSLATE(Validáció!D29,"hu","de") | E29: =_xlfn.TRANSLATE(Validáció!E29,"hu","de") | F29: =_xlfn.TRANSLATE(Validáció!F29,"hu","de")
A31: ja | B31: Frage 9 | C31: Wie hoch war ihr Gesamt-Wärmeverbrauch über alle Standorte in den letzten drei Jahren? (MWh/Jahr) Unterscheiden Sie Prozesswärme und Heizwärme. Nachweis! | D31: =_xlfn.TRANSLATE(Validáció!D31,"hu","de") -> Bitte füllen Sie die Tabelle "Thermischer Energieverbrauch" im Arbeitsblatt "Tabellen" aus. | E31: =_xlfn.TRANSLATE(Validáció!E31,"hu","de") | F31: =_xlfn.TRANSLATE(Validáció!F31,"hu","de") | H31: 1.5 | J31: 1. Daten vorhanden: 50% 2. +25% Im Jahr 3< Jahr1 3. +25% Wenn Maßnahmen beschrieben sind.
A33: bei Bedarf/Änderung | B33: Frage 9a | C33: Erläutern Sie die Gründe für Änderungen des Wärmeverbrauchs im angegebenen Zeitraum. (z.B. geänderte Produktionsmengen, getätigte Energieeffizienzmaßnahmen) | D33: =_xlfn.TRANSLATE(Validáció!D33,"hu","de") | E33: =_xlfn.TRANSLATE(Validáció!E33,"hu","de") | F33: =_xlfn.TRANSLATE(Validáció!F33,"hu","de")
A35: ja | B35: Frage 10 | C35: Beziehen Sie zertifizierten Ökostrom (= Strom aus ausschließlich erneuerbaren Energieträgern)? Nachweis! | D35: =_xlfn.TRANSLATE(Validáció!D35,"hu","de") -> Bitte ersetzen Sie das "☐" neben der entsprechenden Antwort durch ein "X". Mehrere Antworten können markiert werden. Ort 1: _________ ☐ Ja Nein ☐ Standort 2: _________ ☐ Ja Nein ☐ Ort 3: _________ ☐ Ja Nein ☐ usw. | E35: =_xlfn.TRANSLATE(Validáció!E35,"hu","de") | F35: =_xlfn.TRANSLATE(Validáció!F35,"hu","de") -> Bitte fügen Sie das aktuelle grüne Stromzertifikat bei. Für jeden Standort fügen Sie die Dokumentation des aktuellen Strommixes des Energieversorgers an (Quelle: Stromrechnung). | H35: 1 | J35: aliquote Punkte pro Standort mit gültigem Ökostromzertifikat (z.B. 5 Standorte, davon 2 ja: dann 2/5 Punkte)
A37: bei Bedarf/Änderung | B37: Frage 11 | C37: Wird vom Unternehmen selbst vor Ort Strom erzeugt (aus erneuerbaren Energiequellen)? | D37: =_xlfn.TRANSLATE(Validáció!D37,"hu","de") | E37: =_xlfn.TRANSLATE(Validáció!E37,"hu","de") | F37: =_xlfn.TRANSLATE(Validáció!F37,"hu","de") | H37: 1 | J37: Antwort ja & Dokumentation vorhanden: 50%; Zusatzpunkte je nach Größe: >10%<50% Gesamtstrom-Bedarf: +25% >50%: volle Punke
A39: bei Bedarf/Änderung | B39: Frage 11a | C39: Mit welcher Technologie und in welchem Ausmaß? (MWh/a) | D39: =_xlfn.TRANSLATE(Validáció!D39,"hu","de") | E39: =_xlfn.TRANSLATE(Validáció!E39,"hu","de") | F39: =_xlfn.TRANSLATE(Validáció!F39,"hu","de")
A41: ja | B41: Frage 12 | C41: Woraus beziehen Sie Ihre Wärmeenergie? (Heizung, Warmwasser) Bitte um Angabe der Anteile der einzelnen Energieträger am gesamten Wärmeverbrauch über alle Standorte des Unternehmens in MWh und % Nachweis! | D41: =_xlfn.TRANSLATE(Validáció!D41,"hu","de") -> Bitte füllen Sie die Tabelle "Energie & kWh" im Arbeitsblatt "Tabellen" aus. | E41: =_xlfn.TRANSLATE(Validáció!E41,"hu","de") | F41: =_xlfn.TRANSLATE(Validáció!F41,"hu","de") -> Zertifikat, z. B. Heizkostenabrechnungen, Energierechnungen, Zählerdaten/-abrechnungen, Fernwärme-Siedlungen, Energiebericht, Nachhaltigkeitsbericht oder interne Verbrauchsrechnung. | H41: 1 | J41: Punkte % analog zu % Anteil Summe erneuerbare Energieträger Wärme alle Standorte (Biomasse, Wärmepumpe, Geothermie..)
A43: bei Bedarf/Änderung | B43: Frage 13 | C43: Wird vom Unternehmen selbst vor Ort Wärme erzeugt (aus erneuerbaren Energiequellen)? | D43: =_xlfn.TRANSLATE(Validáció!D43,"hu","de") | E43: =_xlfn.TRANSLATE(Validáció!E43,"hu","de") | F43: =_xlfn.TRANSLATE(Validáció!F43,"hu","de") | H43: 1 | J43: Antwort ja & Dokumentation vorhanden: 50%; Zusatzpunkte je nach Größe: >10%<50% Gesamtwärme-Bedarf: +25% >50%: volle Punke
B45: Frage 13a | C45: Mit welcher Technologie und in welchem Ausmaß? (MWh/a) | D45: =_xlfn.TRANSLATE(Validáció!D45,"hu","de") | E45: =_xlfn.TRANSLATE(Validáció!E45,"hu","de") | F45: =_xlfn.TRANSLATE(Validáció!F45,"hu","de")
A47: bei Bedarf/Änderung | B47: Frage 14 | C47: Welche Energieeffizienzklasse(n) hat/haben ihre Unternehmensgebäude? | D47: =_xlfn.TRANSLATE(Validáció!D47,"hu","de") -> Bitte füllen Sie die Tabelle "Energieeffizienzklasse" im Arbeitsblatt "Tabellen" aus. | E47: =_xlfn.TRANSLATE(Validáció!E47,"hu","de") | F47: =_xlfn.TRANSLATE(Validáció!F47,"hu","de") | H47: 1 | J47: Auswertung bei mehreren Standorten: HWB Angaben gewichtet nach Anteil m² 100% bei max 15 kWh/m² BGF-Ref 75% bei max 25 kWh/m² BGF-Ref 50% bei max 50 kWh/m² BGF-Ref 25% bei max 100 kWh/m² BGF-Ref
A49: ja | B49: Frage 15 | C49: Wenn Sie im letzten Jahr ein Projekt zum Thema "Energie"durchgeführt haben, haben Sie hier die Gelegenheit dieses kurz vorzustellen. Nachweis! | D49: =_xlfn.TRANSLATE(Validáció!D49,"hu","de") -> Falls relevant, ersetze bitte das "☐" neben der entsprechenden Antwort durch ein "X". Mehrere Antworten können markiert werden. ☐ Verbesserung der Energieeffizienz von Gebäuden, z. B. Renovierung ☐ Erneuerbare Energien oder Selbsterzeugung, z. B. Photovoltaiksysteme, ☐ Optimieren Sie Heizung, Kühlung oder Belüftung ☐ Umstellung auf energieeffiziente Beleuchtung, z. B. LED ☐ Anwendung energieeffizienter Geräte oder IT-Systeme ☐ Optimierung der Betriebsprozesse ☐ Energiemanagement oder Verbrauchsüberwachung ☐ Mitarbeiterschulung oder Sensibilisierung ☐ Sonstiges: __________ ☐ Kein Energieprojekt umgesetzt | E49: =_xlfn.TRANSLATE(Validáció!E49,"hu","de") | F49: =_xlfn.TRANSLATE(Validáció!F49,"hu","de") -> Projektbeschreibung, Link | H49: 0.5 | J49: volle Punkte wenn inhaltlich neues Projekt & bisher nicht genannt im FB, sonst 0 (keine Punkte für bloße "updates")
A51: Resourcenverbrauch | G51: =SUM(H52:H60) -> 10
A52: bei Bedarf/Änderung | B52: Frage 16 | C52: Wird der Resourcenverbrauch des Unternehmens nachweislich erhoben? Falls ja, wie/wo. Nachweis! | D52: =_xlfn.TRANSLATE(Validáció!D52,"hu","de") | E52: =_xlfn.TRANSLATE(Validáció!E52,"hu","de") | F52: =_xlfn.TRANSLATE(Validáció!F52,"hu","de") -> Abstract / Dokumentationszertifikat | H52: 1
A54: ja | B54: Frage 17 | C54: Inwiefern trägt ihr Unternehmen zu einer hohen Ressourceneffizienz bei: z.B. durch Materialeffizienz (Einsatz von recycleten Materialien oder nachhaltigen Rohstoffen), Ökodesign.. Nachweis! | D54: =_xlfn.TRANSLATE(Validáció!D54,"hu","de") -> Bitte füllen Sie die Tabelle "Nachhaltige/recycelte Materialien" im Arbeitsblatt "Tabellen" aus. | E54: =_xlfn.TRANSLATE(Validáció!E54,"hu","de") | F54: =_xlfn.TRANSLATE(Validáció!F54,"hu","de") -> Verpackungszertifikate, falls relevant | H54: 6 | J54: 1 punkt für jeden Bereich multipliziert mit jeweiligem % Anteil
A56: bei Bedarf/Änderung | B56: Frage 18 | C56: Wurden in den letzten 2 Jahren Maßnahmen umgesetzt, um den Einsatz nachhaltiger Ressourcen zu erhöhen? | D56: =_xlfn.TRANSLATE(Validáció!D56,"hu","de") -> Falls relevant, ersetze bitte das "☐" neben der entsprechenden Antwort durch ein "X". Mehrere Antworten können markiert werden. ☐ Reduzierung des Ressourcenverbrauchs der angebotenen Produkte (Produktdesign) ☐ Wiederverwendung von Materialien oder Produkten ☐ Ausrüstung reparieren und über längere Zeiträume verwenden ☐ Vermeiden Sie Einwegprodukte ☐ Verpackung reduzieren oder vermeiden ☐ Nachhaltige Beschaffung von Produkten und Vorprodukten/Dienstleistungen ☐ Mitarbeiterschulung oder Sensibilisierung ☐ Digitalisierung und Reduzierung des Verbrauchs von Papier und Bürobedarf ☐ Andere Messgröße: __________ ☐ Es wurden keine Maßnahmen ergriffen | E56: =_xlfn.TRANSLATE(Validáció!E56,"hu","de") | F56: =_xlfn.TRANSLATE(Validáció!F56,"hu","de") | H56: 1.5 | J56: 25% bei oberen drei Auswahlmöglichkeiten, sonst je 10%, max 100%
A58: bei Bedarf/Änderung | B58: Frage 19 | C58: Findet im Unternehmen ein ökologisches Beschaffungswesen statt? (Beachtung von ökologischen Aspekten im Einkauf) Nachweis! | D58: =_xlfn.TRANSLATE(Validáció!D58,"hu","de") | E58: =_xlfn.TRANSLATE(Validáció!E58,"hu","de") | F58: =_xlfn.TRANSLATE(Validáció!F58,"hu","de") -> Beschaffungspolitik, Lieferantenkodex, Lieferantenbewertung | H58: 1 | J58: ja 100% nein 0
A60: bei Bedarf/Änderung | B60: Frage 20 | C60: Findet im Unternehmen ein ökologisches Office Management statt? (z.B. geringer Papierverbrauch, Leitungswasser anstatt Mineralwasser, Ökoboxen) | D60: =_xlfn.TRANSLATE(Validáció!D60,"hu","de") | E60: =_xlfn.TRANSLATE(Validáció!E60,"hu","de") | F60: =_xlfn.TRANSLATE(Validáció!F60,"hu","de") | H60: 0.5 | J60: ja 100% nein 0
A62: Emissionen | G62: =SUM(H63:H69) -> 5
A63: ja | B63: Frage 21 | C63: Liegt ein aktuell gültiger CO2-Fußabdruck (Unternehmen, Produkte) vor? Falls der Fußabdruck nur für Unternehmensteile bzw. einzelne Produkte vorliegt, bitte um Erläuterung. Nachweis! | D63: =_xlfn.TRANSLATE(Validáció!D63,"hu","de") | E63: =_xlfn.TRANSLATE(Validáció!E63,"hu","de") | F63: =_xlfn.TRANSLATE(Validáció!F63,"hu","de") -> THG/CO₂-Inventar, Berechnung des CO₂-Fußabdrucks oder zugehöriges Zertifikat | H63: 2 | J63: Extern geprüft / zertifiziert - 100 % der Punkte Nach anerkannter Methode erstellt, aber nicht extern geprüft - 75 % der Punkte Interne Berechnung mit nachvollziehbarer Methodik - 50 % der Punkte
A65: ja | B65: Frage 22 | C65: Wie hoch waren ihr Gesamt-Emissionen über alle Standorte (Unternehmen) in den letzten drei Jahren? (t CO2eq/Jahr) | D65: =_xlfn.TRANSLATE(Validáció!D65,"hu","de") -> Bitte füllen Sie die Tabelle "Emissionen" im Arbeitsblatt "Tabellen" aus. | E65: =_xlfn.TRANSLATE(Validáció!E65,"hu","de") | F65: =_xlfn.TRANSLATE(Validáció!F65,"hu","de") | H65: 2 | J65: 1. Daten vorhanden: 50% 2. +25% Im Jahr 3< Jahr1 3. +25% Wenn Maßnahmen beschrieben sind.
A67: bei Bedarf/Änderung | B67: Frage 22a | C67: Erläutern Sie die Gründe für Änderungen der Gesamt-Emissionen im angegebenen Zeitraum. (z.B. getätigte Energieeffizienzmaßnahmen/ nachhaltige Mobilität / weniger Dienstreisen / nachhaltige Beschaffung / effiziente IT und Rechenzentren / Sonstige) | D67: =_xlfn.TRANSLATE(Validáció!D67,"hu","de") | E67: =_xlfn.TRANSLATE(Validáció!E67,"hu","de") | F67: =_xlfn.TRANSLATE(Validáció!F67,"hu","de")
A69: ja | B69: Frage 23 | C69: Wenn Sie in den letzten zwei Jahren ein (neues) Projekt zum Thema "Klimaschutz/Klimaforschung" durchgeführt haben, haben Sie hier die Gelegenheit dieses kurz vorzustellen. Nachweis! | D69: =_xlfn.TRANSLATE(Validáció!D69,"hu","de") | E69: =_xlfn.TRANSLATE(Validáció!E69,"hu","de") | F69: =_xlfn.TRANSLATE(Validáció!F69,"hu","de") -> Projektbeschreibung, Link | H69: 1 | J69: volle Punkte wenn inhaltlich neues Projekt & bisher nicht genannt im FB, sonst 0
A71: Mobilität | G71: =SUM(H72:H83) -> 10
...

Sheet Táblázatok
A1: A kérdések a vállalat valamennyi telephelyére vonatkoznak:
A2: Megjegyzés: A teljes fogyasztási adatoknál a validált vállalat adott országban található valamennyi releváns telephelyét figyelembe kell venni. Az azonos jellegű telephelyek összevonhatók. A hálózatból vételezett és a napelemes (PV) villamos energiát külön kell feltüntetni.
A4: 8. kérdés: | B4: Éves villamosenergia-felhasználás
B5: Év | C5: 1. telephely: …........ [MWh] | D5: 2. telephely: …........ [MWh] | E5: 3. telephely: …........ [MWh] | F5: n. telephely: …........ [MWh]
B6: 2023
B7: 2024 | H7: Szükség esetén további oszlopok beszúrhatók
B8: 2025
A11: 9. kérdés: | B11: Hőenergia-felhasználás | C11: 1. telephely: …........ | E11: 2. telephely: …........ | G11: 3. telephely: …........
B12: Év | C12: [MWh] | D12: ebből technológiai hő aránya (%)* | E12: [MWh] | F12: ebből technológiai hő aránya (%) | G12: [MWh] | H12: ebből technológiai hő aránya (%) | I12: * a gyártási/technológiai folyamatok során használt hő
B13: 2023
B14: 2024
B15: 2025
A18: 12. kérdés: | B18: Energiahordozók & kWh: | C18: Referenciaév:
B19: Energiahordozó / hőforrás | C19: Felhasználás MWh/év | D19: A teljes hőenergia-felhasználáson belüli arány (%) | E19: Megjegyzés
B20: Földgáz
B21: Fűtőolaj
B22: Távhő | E22: Kérjük, itt tüntesse fel az alkalmazott energiahordozókat, pl. faapríték, hulladék, földgáz, hulladékhő
B23: Biomassza
B24: Hőszivattyú | E24: Kérjük, itt tüntesse fel az alkalmazott villamosenergia-forrást, pl. hálózati villamos energia vagy PV-áram
B25: Napkollektoros hőenergia
B26: Geotermikus energia
B27: Egyéb | E27: Kérjük, részletezze
B28: Összesen | C28: =SUM(C20:C27) -> 0 | D28: =SUM(D20:D27) -> 0
A31: 14. kérdés: | B31: Energiahatékonysági osztály
B32: Telephely | C32: HWB kWh/m² BGF-Ref | D32: BGF (m²)
B33: 1. telephely
B34: 2. telephely
B35: 3. telephely
B36: 4. telephely
B37: Szükség esetén további sorok beszúrhatók
A40: 17. kérdés: | B40: Fenntartható anyagok | C40: Referenciaév:
B41: Terület | C41: Használnak fenntartható anyagokat? | D41: Arány (%) | E41: Milyen fenntartható anyagokat? (pl. bioalapú nyersanyagok, újrahasznosított műanyag, FSC-fa stb.) | F41: Alkalmaznak többször használható megoldást? | G41: Igazolás
B42: Termékek | G42: kérjük, csatolja
B43: Csomagolások | G43: kérjük, csatolja
B44: Szállítási csomagolások | G44: kérjük, csatolja
A47: 22. kérdés: | B47: Kibocsátások
B48: Év | C48: Kibocsátások [t CO₂e]
B49: 2023
B50: 2024
B51: 2025
...

Sheet Tabellen
A1: Fragen betreffen alle Standorte des Unternehmens:
A2: Hinweis: Bei Gesamtverbräuchen sind alle relevanten Standorte des validierten Unternehmens im betreffenden Land zu berücksichtigen. Gleichartige Standorte können zusammengefasst werden. Netzbezug und PV sind getrennt auszuweisen.
A4: Frage 8: | B4: Jahresstromverbrauch
B5: Jahr | C5: Standort 1:…........[MWh] | D5: Standort 2:…........[MWh] | E5: Standort 3:…........[MWh] | F5: Standort n:…........[MWh]
B6: 2023
B7: 2024 | H7: ggf. Spalten einfügen
B8: 2025
A11: Frage 9: | B11: Wärmeverbrauch | C11: Standort 1:…........ | E11: Standort 2:…........ | G11: Standort 3:…........
B12: Jahr | C12: [MWh] | D12: davon Anteil Prozesswärme (%) | E12: [MWh] | F12: davon Anteil Prozesswärme (%) | G12: [MWh] | H12: davon Anteil Prozesswärme (%)
B13: 2023
B14: 2024
B15: 2025
A18: Frage 12: | B18: Energieträger & kWh: | C18: Bezugsjahr:
B19: Energieträger / Wärmequelle | C19: Verbrauch in MWh/Jahr | D19: Anteil am Gesamtwärmeverbrauch in % | E19: Bemerkung
B20: Erdgas
B21: Heizöl
B22: Fernwärme | E22: Bitte hier die eingesetzten Energieträger anführen, z.B. Hackschnitzel, Abfall, Erdgas, Abwärme
B23: Biomasse
B24: Wärmepumpe | E24: Bitte hier die eingesetzte Stromquelle anführen: z.B. Netzbezug oder PV Strom
B25: Solarthermie
B26: Geothermie
B27: Sonstige | E27: Bitte erläutern
B28: Summe | C28: =SUM(C20:C27) -> 0 | D28: =SUM(D20:D27) -> 0
A31: Frage 14: | B31: Energieeffizienzklasse
B32: Standort | C32: HWB kWh/m² BGF-Ref | D32: BGF (m²)
B33: Standort 1
B34: Standort 2
B35: Standort 3
B36: Standort 4
B37: ggf. weitere Zeilen einfügen
A40: Frage 17: | B40: Nachhaltige Materialien | C40: Bezugsjahr:
B41: Bereich | C41: Nachhaltige Materialien verwendet? | D41: Anteil in % | E41: Welche nachhaltige Materialien?(z.B. biobasierte Rohstoffe, Recyclingkunststoff, FSC Holz..) | F41: wird Mehrweg genutzt? | G41: Nachweis
B42: Produkte | G42: bitte beilegen
B43: Verpackungen | G43: bitte beilegen
B44: Transportverpackungen | G44: bitte beilegen
A47: Frage 22: | B47: Emissionen
B48: Jahr | C48: Emissionen [ t CO2eq]
B49: 2023
B50: 2024
B51: 2025
...

Sheet Auswahlmöglichkeiten HUN
C2: Tanúsítás | E2: igen
C3: Minősítő védjegy / ökocímke | E3: nem
C4: Taxonómia-megfelelőség | E4: nem releváns
C5: Külső értékelés
C6: Saját mutatók vagy számítások
C7: Nincs igazolás
C8: Egyéb
C11: – max. 15 kWh/m² BGF-Ref (passzívház) vagy alacsonyabb
C12: – max. 25 kWh/m² BGF-Ref (alacsony energiaigényű épület)
C13: – max. 50 kWh/m² BGF-Ref (energiatakarékos épület)
C14: – max. 100 kWh/m² BGF-Ref
C15: – 100 kWh/m² BGF-Ref felett
C16: ismeretlen
C19: a) igen, a teljes vállalatra
C20: b) csak egyes termékekre
... C72: Egyéb

Sheet Auswahlmöglichkeiten
C2: Zertifizierung | E2: ja
C3: Gütesiegel | E3: nein
C4: Taxonomie-Konformität | E4: nicht relevant
C5: externe Bewertung
C6: eigene Kennzahlen oder Berechnungen
C7: kein Nachweis
C8: sonstige
C11: -max. 15 kWh/m² BGF-Ref (Passivhaus) und geringer
C12: -max. 25 kWh/m² BGF-Ref (Niedrigenergiehaus)
C13: -max. 50 kWh/m² BGF-Ref (Energiesparhaus)
C14: -max. 100 kWh/m² BGF-Ref
C15: -höher als 100 kWh/m² BGF-Ref
C16: unbekannt
C19: A) ja zum Gesamtunternehmen
C20: b) nur zu einzelnen Produkten
... C72: Andere

Sheet Összefoglaló

Sheet Rückfragen
