Workbook

Sheet Előlap
C4: ÉRTÉKELÉS EREDMÉNYE:
C5: Ciklus: | D5: 2026 / 2027
C6: Kategória: | D6: Vállalat (Szolgáltató)
C7: Értékelés időpontja: | D7: xx
B11: GB-ID Azonosító: | C11: xxx
B13: Cégnév | C13: ='Vállalat (Szolgáltató)'!C7 -> 0
B14: Cím
B15: Iparág | C15: ='Vállalat (Szolgáltató)'!C8 -> 0
B16: Márkanév | C16: ='Vállalat (Szolgáltató)'!C9 -> 0
B18: Eredmény
C19: Elérhető pontszám | D19: Elért pontszám | E19: Arány
B20: ='Vállalat (Szolgáltató)'!B20 -> Vállalati célok | C20: ='Vállalat (Szolgáltató)'!C20 -> 20 | D20: ='Vállalat (Szolgáltató)'!D20 -> 0 | E20: =D20/C20 -> 0
B21: ='Vállalat (Szolgáltató)'!B21 -> Fenntarthatósági / környezetirányítási rendszerek | C21: ='Vállalat (Szolgáltató)'!C21 -> 15 | D21: ='Vállalat (Szolgáltató)'!D21 -> 0 | E21: =D21/C21 -> 0
B22: ='Vállalat (Szolgáltató)'!B22 -> Energiafelhasználás | C22: ='Vállalat (Szolgáltató)'!C22 -> 10 | D22: ='Vállalat (Szolgáltató)'!D22 -> 0 | E22: =D22/C22 -> 0
B23: ='Vállalat (Szolgáltató)'!B23 -> Erőforrás-felhasználás | C23: ='Vállalat (Szolgáltató)'!C23 -> 10 | D23: ='Vállalat (Szolgáltató)'!D23 -> 0 | E23: =D23/C23 -> 0
B24: ='Vállalat (Szolgáltató)'!B24 -> Kibocsátások | C24: ='Vállalat (Szolgáltató)'!C24 -> 10 | D24: ='Vállalat (Szolgáltató)'!D24 -> 0 | E24: =D24/C24 -> 0
B25: ='Vállalat (Szolgáltató)'!B25 -> Mobilitás | C25: ='Vállalat (Szolgáltató)'!C25 -> 10 | D25: ='Vállalat (Szolgáltató)'!D25 -> 0 | E25: =D25/C25 -> 0
B26: ='Vállalat (Szolgáltató)'!B26 -> Vízfelhasználás | C26: ='Vállalat (Szolgáltató)'!C26 -> 5 | D26: ='Vállalat (Szolgáltató)'!D26 -> 0 | E26: =D26/C26 -> 0
B27: ='Vállalat (Szolgáltató)'!B27 -> Hulladékgazdálkodás | C27: ='Vállalat (Szolgáltató)'!C27 -> 10 | D27: ='Vállalat (Szolgáltató)'!D27 -> 0 | E27: =D27/C27 -> 0
B28: ='Vállalat (Szolgáltató)'!B28 -> Szemléletformálás | C28: ='Vállalat (Szolgáltató)'!C28 -> 10 | D28: ='Vállalat (Szolgáltató)'!D28 -> 0 | E28: =D28/C28 -> 0
B29: Összesen: | C29: =SUM(C20:C28) -> 100 | D29: =SUM(D20:D28) -> 0 | E29: =D29/C29 -> 0
B31: értékelte:
C36: ALLPLAN GmbH
C37: Schwindgasse 10, 1040 Wien
C38: www.allplan.at
B40: Az előírt 51%-os küszöbérték elérése / meghaladása esetén – a védett EU tanúsító védjegy alapszabályának megfelelően –
B41: a GREEN BRANDS Hungary 2026/2027 minősítés odaítélésre kerül.
B44: Érvényesség: 2027.12.31.
B46: Norbert R. L u x
B47: Ügyvezető igazgató

Sheet Alapinformációk
N3: Kitöltési útmutató / Jelmagyarázat
N4: Jelölés / Mező | O4: Jelentése | P4: Teendő
N5: Kék mező | O5: Szabad szöveges mező | P5: Kérjük, adja meg a kért adatokat / magyarázatokat.
N6: Narancssárga mező | O6: Választómező | P6: Kérjük, válasszon ki egy választ a legördülő menüből.
O7: □ Jelölőnégyzet | P7: Kérjük, tegyen „X” jelet a megfelelő válasz melletti négyzetbe. Több válasz is megjelölhető, amennyiben több válasz is érvényes.
N8: Aláhúzott szöveg | O8: Hivatkozás a „Táblázatok” munkalapra | P8: Kérjük, töltse ki az így megjelölt cellákhoz tartozó táblázatot a „Táblázatok” munkalapon.
N9: "Szükséges igazolás" oszlop | O9: Szükséges igazolás / Kötelező igazoló dokumentum | P9: Kérjük, csatolja a megfelelő dokumentumokat vagy adatokat, pl. számlákat, tanúsítványokat vagy kimutatásokat, és a „Szükséges igazolás” oszlopban tüntesse fel a konkrét dokumentum megnevezését és/vagy az arra mutató hivatkozást.
N11: Beküldés előtt kérjük, győződjön meg arról, hogy: - minden kérdést teljes körűen megválaszolt; - minden szükséges igazoló dokumentumot mellékelt (szükség esetén pl. we transferen keresztül); - az érintett kérdéseknél feltüntette a konkrét dokumentum megnevezését. Fontos: Az olyan általános hivatkozás, mint például „lásd a fenntarthatósági jelentésünket”, nem elegendő. Kérjük, minden esetben adja meg a releváns részhez vezető konkrét hivatkozást/linket. Ezzel elkerülhetők az értékelés során felmerülő felesleges visszakérdezések, amelyek időigényesek, és akár többletköltséget is eredményezhetnek. Köszönjük!

Sheet Vállalat (Szolgáltató)
B3: VÁLLALATI (Szolgáltató) KÉRDŐÍV
B7: Cégnév
B8: Cím
B9: Iparág
B10: Tevékenységi kör leírása
B11: Cégforma
B12: Alkalmazottak száma
B13: A vállalat éves forgalma
B14: Kapcsolattartó személy / pozíció
B15: E-mail
B16: Telefon
B18: Eredmény
C19: Elérhető Pontszám | D19: Elért Pontszám | E19: Arány | G19: Év 1 | H19: Év 2 | I19: Év 3
B20: =Validáció!A4 -> Vállalati célok | C20: =Értékelés!G4 -> 20 | D20: =SUM(Értékelés!I5) -> 0 | E20: =D20/C20 -> 0 | G20: =D20 -> 0 | J20: =H20-G20 -> 0
B21: =Validáció!A10 -> Fenntarthatósági / környezetirányítási rendszerek | C21: =Értékelés!G10 -> 15 | D21: =SUM(Értékelés!I11:I17) -> 0 | E21: =D21/C21 -> 0 | G21: =D21 -> 0 | J21: =H21-G21 -> 0
B22: =Validáció!A18 -> Energiafelhasználás | C22: =Értékelés!G18 -> 10 | D22: =SUM(Értékelés!I19:I43) -> 0 | E22: =D22/C22 -> 0 | G22: =D22 -> 0 | J22: =H22-G22 -> 0
B23: =Validáció!A44 -> Erőforrás-felhasználás | C23: =Értékelés!G44 -> 10 | D23: =SUM(Értékelés!I45:I53) -> 0 | E23: =D23/C23 -> 0 | G23: =D23 -> 0 | J23: =H23-G23 -> 0
B24: =Validáció!A54 -> Kibocsátások | C24: =Értékelés!G54 -> 10 | D24: =SUM(Értékelés!I55:I61) -> 0 | E24: =D24/C24 -> 0 | G24: =D24 -> 0 | J24: =H24-G24 -> 0
B25: =Validáció!A62 -> Mobilitás | C25: =Értékelés!G62 -> 10 | D25: =SUM(Értékelés!I63:I74) -> 0 | E25: =D25/C25 -> 0 | G25: =D25 -> 0 | J25: =H25-G25 -> 0
B26: =Validáció!A75 -> Vízfelhasználás | C26: =Értékelés!G75 -> 5 | D26: =SUM(Értékelés!I76:I83) -> 0 | E26: =D26/C26 -> 0 | G26: =D26 -> 0 | J26: =H26-G26 -> 0
B27: =Validáció!A84 -> Hulladékgazdálkodás | C27: =Értékelés!G84 -> 10 | D27: =SUM(Értékelés!I85:I93) -> 0 | E27: =D27/C27 -> 0 | G27: =D27 -> 0 | J27: =H27-G27 -> 0
B28: =Validáció!A94 -> Szemléletformálás | C28: =Értékelés!G94 -> 10 | D28: =SUM(Értékelés!I95:I113) -> 0 | E28: =D28/C28 -> 0 | G28: =D28 -> 0 | J28: =H28-G28 -> 0
B29: Összesen: | C29: =SUM(C20:C28) -> 100 | D29: =SUM(D20:D28) -> 0 | E29: =D29/C29 -> 0 | G29: =D29 -> 0 | J29: =H29-G29 -> 0
B31: Auditáló: | C31: xxx
C39: ALLPLAN GmbH
C40: Schwindgasse 10, 1040 Wien
C41: M: +43 676 842 225 220
C42: Firmenbuchnummer: 94000k
C43: Handelsgericht Wien
C44: www.allplan.at
B46: Verzió: | C46: 46296

Sheet Validáció
A1: Kérdés száma | B1: VÁLLALATI Kérdőív | C1: Válaszlehetőség (kérjük, válasszon) | D1: Magyarázat | E1: Szükséges igazolás: Kérjük, az adott cellában tüntesse fel a csatolt igazolás pontos megnevezését. (Az útmutató szövegét írja felül.) | F1: A kategória maximális pontszáma | G1: Kérdésenként elérhető max. pontszám
A3: 0.kérdés | B3: Hogyan értékeli vállalatánál a környezetvédelmi szempontok beépülését a működésbe az ágazati átlaghoz képest? Kérjük, válaszában mutassa be a jelenlegi helyzetet, de ezen túl térjen ki a jövőbeni célokra és tervezett fejlesztésekre is.
A4: Vállalati célok | F4: 20
A5: 1.kérdés | B5: Mekkora az ökológiailag fenntartható szolgáltatások árbevételének aránya a vállalat teljes árbevételén belül? [xx%] | G5: 20
B6: Mutassa be a vállalat által kínált valamennyi szolgáltatást, és emelje ki közülük az ökológiailag fenntarthatónak minősített szolgáltatásokat. | G6: 0
A7: 1a. kérdés | B7: Milyen környezeti terheléseket csökkentenek vagy előznek meg ezek a szolgáltatások? | C7: Amennyiben releváns, kérjük, a megfelelő „☐” jelet cserélje „X”-re. Több válasz is megjelölhető. ☐ Energiafelhasználás ☐ Üvegházhatásúgáz-kibocsátás ☐ Erőforrás- és anyagfelhasználás ☐ Hulladékképződés ☐ Vízfelhasználás ☐ Mobilitásból és szállításból eredő környezeti terhelés ☐ Egyéb: __________________ | G7: 0
B8: Röviden mutassa be a releváns hatásokat megfelelő környezeti mutatók segítségével. | G8: 0
A9: 1b. kérdés | B9: Hogyan igazolják e szolgáltatások ökológiai fenntarthatóságát? Igazolás szükséges! | E9: Tanúsítványok, minősítő védjegyek/ökocímkék, vizsgálati jelentések, számítások vagy egyéb dokumentációk | G9: 0
A10: Fenntarthatósági / környezetirányítási rendszerek | F10: 15
A11: 2.kérdés | B11: A vállalatnál a környezetvédelem témája ISO 14001 vagy EMAS szerinti környezetirányítási rendszer keretében beépült a működésbe? Igazolás szükséges! | E11: Érvényes tanúsítvány | G11: 5
A13: 3. kérdés | B13: Működtet-e a vállalat átfogó rendszert a fenntarthatósági teljesítmény folyamatos javítására (gazdasági, környezeti, társadalmi/etikai szempontok)? Amennyiben igen, kérjük, dokumentálja (pl. felelősségi körök és szervezeti beágyazottság, érintettek bevonása, aktuális fenntarthatósági jelentés, hatásmérés). Igazolás szükséges! | E13: Fenntarthatósági jelentés, monitoring dashboard, irányítási kézikönyv, folyamatleírás | G13: 5
A15: 4. kérdés | B15: Jogszabály alapján köteles a vállalat fenntarthatósági jelentést készíteni? | G15: 2
A17: 5. kérdés | B17: Az ökológiai fenntarthatóság területén adja meg: 1. a három legfontosabb célt, 2. a hozzájuk tartozó KPI-okat (kulcsfontosságú teljesítménymutatókat), 3. valamint minden cél esetében az aktuális állapotot. Igazolás szükséges! | E17: Dokumentáció, pl. fenntarthatósági stratégia, környezeti politika, fenntarthatósági jelentés, környezeti mutatók, éves összehasonlítás (konkrét fejezet, oldal stb.) | G17: 3
A18: Energiafelhasználás | F18: 10
A19: 6. kérdés | B19: Működik a vállalatnál energiagazdálkodási rendszer (ISO 50001 vagy azzal egyenértékű)? Igazolás szükséges! | E19: Tanúsítvány | G19: 1
A21: 7. kérdés | B21: Mekkora volt a vállalat összes telephelyének teljes éves villamosenergia-felhasználása az elmúlt három évben? (MWh/év) Hálózati vételezés (PV nélkül). Igazolás szükséges! | C21: Kérjük, töltse ki a „Táblázatok” munkalap „Éves villamosenergia-felhasználás” táblázatát! | E21: Villanyszámlák, energiaelszámolások, mérőóra-adatok/kimutatások, energiagazdálkodási jelentés, belső fogyasztási kimutatás vagy villamosenergia-mutatókat tartalmazó ESG-/fenntarthatósági jelentés. | G21: 1.5
A23: 7a. kérdés | B23: Ismertesse a villamosenergia-felhasználás változásának okait a megadott időszakban (pl. munkavállalói létszám, alapterület, kihasználtság, home office, IT-használat vagy energiahatékonysági intézkedések változása).
A25: 8. kérdés | B25: Mekkora volt a vállalat összes telephelyének teljes éves hőenergia-felhasználása az elmúlt három évben? (MWh/év) Kérjük, különítse el a technológiai hőfelhasználást és a fűtési célú hőfelhasználást. Igazolás szükséges! | C25: Kérjük, töltse ki a „Táblázatok” munkalap „Hőenergia-felhasználás” táblázatát! | G25: 1.5
A27: 8a. kérdés | B27: Ismertesse a hőenergia-felhasználás változásának okait a megadott időszakban (pl. termelési volumen változása, végrehajtott energiahatékonysági intézkedések).
A29: 9. kérdés | B29: Vásárol-e a vállalat tanúsított zöld villamos energiát (= kizárólag megújuló energiaforrásból származó villamos energia)? Igazolás szükséges! | C29: Amennyiben releváns, kérjük, a megfelelő „☐” jelet cserélje „X”-re. 1. telephely: _________ ☐ Igen ☐ Nem 2. telephely: _________ ☐ Igen ☐ Nem 3. telephely: _________ ☐ Igen ☐ Nem stb. | E29: Kérjük, csatolja az aktuális zöldáram-tanúsítványt. Minden telephely esetében csatolja az energiaszolgáltató aktuális villamosenergia-mixének dokumentációját (forrás: villanyszámla). | G29: 1
A31: 10. kérdés | B31: Termel-e a vállalat saját maga, helyben villamos energiát megújuló energiaforrásból? | G31: 1
A33: 10a. kérdés | B33: Milyen technológiával és milyen mennyiségben? (MWh/év)
A35: 11. kérdés | B35: Milyen energiaforrásokból fedezi a vállalat hőenergia-igényét (fűtés, meleg víz)? Kérjük, adja meg az egyes energiahordozók arányát a vállalat valamennyi telephelyének teljes hőenergia-felhasználásán belül MWh-ban és %-ban. Igazolás szükséges! | C35: Kérjük, töltse ki a „Táblázatok” munkalap „Energiahordozók & kWh” táblázatát! | E35: Igazolás, pl. fűtési költségelszámolások, energiaszámlák, mérőóra-adatok/kimutatások, távhő-elszámolások, energetikai jelentés, fenntarthatósági jelentés vagy belső fogyasztási kimutatás. | G35: 1
A37: 12. kérdés | B37: Termel-e a vállalat saját maga, helyben hőenergiát megújuló energiaforrásból? | G37: 1
A39: 12a. kérdés | B39: Milyen technológiával és milyen mennyiségben? (MWh/év)
A41: 13. kérdés | B41: Milyen energiahatékonysági osztályba tartozik/tartoznak a vállalat épülete(i)? | C41: Kérjük, töltse ki a „Táblázatok” munkalap „Energiahatékonysági osztály” táblázatát! | G41: 1
A43: 14. kérdés | B43: Amennyiben az elmúlt évben a vállalat „Energia” témájú projektet valósított meg, itt röviden bemutathatja azt. Igazolás szükséges! | C43: Amennyiben releváns, kérjük, a megfelelő „☐” jelet cserélje „X”-re. Több válasz is megjelölhető. ☐ Épületek energiahatékonyságának javítása, pl. felújítás ☐ Megújuló energia vagy saját energiatermelés, pl. fotovoltaikus rendszer ☐ Fűtés, hűtés vagy szellőzés optimalizálása ☐ Átállás energiahatékony világításra, pl. LED ☐ Energiahatékony berendezések vagy IT-rendszerek alkalmazása ☐ Működési folyamatok optimalizálása ☐ Energiagazdálkodás vagy fogyasztásmonitoring ☐ Munkavállalók képzése vagy szemléletformálása ☐ Egyéb: __________ ☐ Nem valósult meg energiaprojekt | E43: Projektleírás, link | G43: 1
A44: Erőforrás-felhasználás | F44: 10
A45: 15. kérdés | B45: Rendszeresen nyomon követi-e a vállalat a szolgáltatásnyújtáshoz lényeges anyagok és erőforrások felhasználását? Igazolás szükséges! | E45: Dokumentáció kivonata / igazolása | G45: 2
A47: 15a. kérdés | B47: Mely anyagok és erőforrások felhasználását követik nyomon? | C47: Kérjük, töltse ki a „Táblázatok” munkalap „Anyagfelhasználás” táblázatát!
A49: 16. kérdés | B49: Milyen intézkedéseket hajtottak végre az elmúlt három évben az erőforrás-felhasználás csökkentése érdekében? | C49: Amennyiben releváns, kérjük, a megfelelő „☐” jelet cserélje „X”-re. Több válasz is megjelölhető. ☐ A nyújtott szolgáltatás (alaptevékenység) erőforrás-felhasználásának csökkentése ☐ Digitalizáció, valamint a papír- és irodaszer-felhasználás csökkentése ☐ Anyagok vagy termékek újrahasználata ☐ Berendezések javítása és hosszabb ideig történő használata ☐ Egyszer használatos termékek kerülése ☐ Csomagolás csökkentése vagy elkerülése ☐ Termékek és szolgáltatások fenntartható beszerzése ☐ Munkavállalók képzése vagy szemléletformálása ☐ Egyéb intézkedés: __________ ☐ Nem valósult meg intézkedés | G49: 6
A51: 17. kérdés | B51: A beszerzések során előnyben részesítik-e a környezetbarát termékeket és szolgáltatásokat? Igazolás szükséges! | E51: Beszerzési irányelv, beszállítói magatartási kódex, környezetvédelmi tanúsítványok | G51: 1
A53: 18. kérdés | B53: Alkalmaz-e a vállalat környezettudatos irodai működést (pl. alacsony papírfelhasználás, ásványvíz helyett csapvíz, újrahasználható/gyűjtő dobozok)? | G53: 1
A54: Kibocsátások | F54: 10
A55: 19. kérdés | B55: Rendelkezik-e a vállalat aktuális, érvényes karbonlábnyom-számítással (vállalati és/vagy termékszinten)? Amennyiben a karbonlábnyom csak a vállalat egyes részeire, illetve egyes termékekre áll rendelkezésre, kérjük, részletezze. Igazolás szükséges! | E55: ÜHG-/CO₂-leltár, karbonlábnyom-számítás vagy kapcsolódó tanúsítvány | G55: 4
A57: 20. kérdés | B57: Mekkora volt a vállalat összes telephelyére vonatkozó teljes üvegházhatásúgáz-kibocsátása az elmúlt három évben? (t CO₂e/év) | C57: Kérjük, töltse ki a „Táblázatok” munkalap „Kibocsátások” táblázatát! | G57: 4
G58: 0
A59: 20a. kérdés | B59: Ismertesse a teljes kibocsátás változásának okait a megadott időszakban (pl. energiahatékonysági intézkedések, fenntartható mobilitás, kevesebb üzleti utazás, fenntartható beszerzés, hatékony IT és adatközpontok, egyéb). | G59: 0
A61: 21. kérdés | B61: Amennyiben az elmúlt két évben a vállalat (új) projektet valósított meg „Klímavédelem / klímakutatás” témában, itt röviden bemutathatja azt. Igazolás szükséges! | E61: Projektleírás, link | G61: 2
A62: Mobilitás | F62: 10
...

Sheet Értékelés
A1: Verpflichtendes Update bei Re-Validierung | B1: =_xlfn.TRANSLATE(Validáció!A1,"hu","de") -> Fragenummer | C1: =_xlfn.TRANSLATE(Validáció!B1,"hu","de") -> UNTERNEHMENSFRAGEBOG | D1: =_xlfn.TRANSLATE(Validáció!C1,"hu","de") -> Antwortoption (bitte auswählen) | E1: =_xlfn.TRANSLATE(Validáció!D1,"hu","de") -> Erklärung | F1: =_xlfn.TRANSLATE(Validáció!E1,"hu","de") -> Erforderlicher Beweis: Bitte geben Sie in der angegebenen Zelle den genauen Namen des angehängten Zertifikats an. (Überschreibt den Text der Anweisungen.) | G1: Max. Punkteanzahl Kategorien | H1: max. Punkte je Frage | I1: Erreichte Punkte | J1: Punkteschema
A3: bei Bedarf | B3: Frage0 | C3: Wie beurteilen Sie die Verankerung von Umweltthemen in Ihrem Unternehmen im Vergleich zum Standard in Ihrer Branche? Fokussieren Sie dabei auf die aktuelle Situation, geben Sie aber auch einen Ausblick auf zukünftige Ziele und Aktivitäten. | D3: =_xlfn.TRANSLATE(Validáció!C3,"hu","de") | E3: =_xlfn.TRANSLATE(Validáció!D3,"hu","de") | F3: =_xlfn.TRANSLATE(Validáció!E3,"hu","de")
A4: Unternehmenszweck | G4: 20
A5: ja | B5: Frage1 | C5: Wie hoch ist der Umsatzanteil ökologisch nachhaltiger Dienstleistungen am Gesamtumsatz des Unternehmens? [Xx%] | D5: =_xlfn.TRANSLATE(Validáció!C5,"hu","de") | E5: =_xlfn.TRANSLATE(Validáció!D5,"hu","de") | F5: =_xlfn.TRANSLATE(Validáció!E5,"hu","de") | H5: 20 | J5: Bewertung: x% * Art des Nachweises (1a)
C6: Beschreiben sie alle von Ihnen angebotenen Dienstleistungen und heben Sie die als ökologisch nachhaltig bezeichneten hervor. | D6: =_xlfn.TRANSLATE(Validáció!C6,"hu","de") | E6: =_xlfn.TRANSLATE(Validáció!D6,"hu","de") | F6: =_xlfn.TRANSLATE(Validáció!E6,"hu","de") | H6: 0
A7: ja | B7: Frage 1a | C7: Welche Umweltbelastungen werden durch diese Dienstleistungen reduziert oder vermieden? | D7: =_xlfn.TRANSLATE(Validáció!C7,"hu","de") -> Falls relevant, ersetzen Sie bitte das entsprechende "☐" durch "X". Mehrere Antworten können markiert werden. ☐ Energieverbrauch ☐ Treibhausgasemissionen ☐ Ressourcen- und Materialnutzung ☐ Abfallerzeugung ☐ Wasserverbrauch ☐ Umweltbelastungen durch Mobilität und Transport ☐ Sonstiges: __________________ | E7: =_xlfn.TRANSLATE(Validáció!D7,"hu","de") | F7: =_xlfn.TRANSLATE(Validáció!E7,"hu","de") | H7: 0
C8: Beschreiben sie die relevanten Auswirkungen kurz an Hand von relevanten Umweltkennzahlen. | D8: =_xlfn.TRANSLATE(Validáció!C8,"hu","de") | E8: =_xlfn.TRANSLATE(Validáció!D8,"hu","de") | H8: 0
A9: ja | B9: Frage 1b | C9: Wie wird die ökologische Nachhaltigkeit dieser Dienstleistungen nachgewiesen? Nachweis! | D9: =_xlfn.TRANSLATE(Validáció!C9,"hu","de") | E9: =_xlfn.TRANSLATE(Validáció!D9,"hu","de") | F9: =_xlfn.TRANSLATE(Validáció!E9,"hu","de") -> Zertifikate, Zertifizierungszeichen/Ökolabels, Testberichte, Berechnungen oder andere Dokumentationen | H9: 0 | J9: 100 % - Extern geprüft / Taxonomie-Konformität nachgewiesen 80% - Anerkanntes Umweltzeichen, Gütesiegel oder Zertifikat 60% Nachvollziehbare Produktinformationen / Nachhaltigkeitsbericht / Website 20% Selbsteinschätzung mit plausibler Begründung 10% Reine Selbsteinschätzung ohne Nachweis
A10: Nachhaltigkeit/Umweltmanagement-Systeme | G10: 15
A11: ja (Zertifikate müssen aktuell/gültig sein) | B11: Frage 2 | C11: Ist das Thema "Umwelt" in Form eines Umweltmanagementsystems gem. ISO14001 oder EMAS in Ihrem Unternehmen verankert? Nachweis! | D11: =_xlfn.TRANSLATE(Validáció!C11,"hu","de") | E11: =_xlfn.TRANSLATE(Validáció!D11,"hu","de") | F11: =_xlfn.TRANSLATE(Validáció!E11,"hu","de") -> Gültiges Zertifikat | H11: 5 | J11: 0% - Kein gültiges Zertifikat vorhanden 100% - gültiges Zertifikat vorhanden
A13: bei Bedarf (ggf. neuen Bericht schicken) | B13: Frage 3 | C13: Betreibt ihr Unternehmen ein umfassendes System zur laufenden Verbesserung der Nachhaltigkeit? (ökonomische, ökologische, gesellschaftliche/ethische Aspekte), falls ja bitte um Dokumentation (z.B. Verantwortlichkeiten/Einbettung in die Organisation, Einbeziehung von Stakeholder, aktueller Nachhaltigkeitsbericht, Impact Messung) Nachweis! | D13: =_xlfn.TRANSLATE(Validáció!C13,"hu","de") | E13: =_xlfn.TRANSLATE(Validáció!D13,"hu","de") | F13: =_xlfn.TRANSLATE(Validáció!E13,"hu","de") -> Nachhaltigkeitsbericht, Monitoring-Dashboard, Managementhandbuch, Prozessbeschreibung | H13: 5 | J13: 25%- Wesentlichkeitsanalyse vorhanden und Einbindung von Stakeholdern 25% - Impact-Messung vorhanden 50% - Aktueller Nachhaltigkeitsbericht vorhanden
A15: bei Bedarf (ggf. neuen Bericht schicken) | B15: Frage 4 | C15: Sind Sie gesetzlich verpflichtet einen Nachhaltigkeitsbericht zu erstellen? | D15: =_xlfn.TRANSLATE(Validáció!C15,"hu","de") | E15: =_xlfn.TRANSLATE(Validáció!D15,"hu","de") | F15: =_xlfn.TRANSLATE(Validáció!E15,"hu","de") | H15: 2 | J15: ja: 0 Punkte
A17: ja | B17: Frage 5 | C17: Nennen Sie im Bereich der ökologischen Nachhaltigkeit: 1.ihre wichtigsten 3 Ziele 2.die entsprechenden KPI´s (key performance indicators). 3.geben Sie jeweils den aktuellen Ist-Stand bekannt. Nachweis! | D17: =_xlfn.TRANSLATE(Validáció!C17,"hu","de") | E17: =_xlfn.TRANSLATE(Validáció!D17,"hu","de") | F17: =_xlfn.TRANSLATE(Validáció!E17,"hu","de") -> Dokumentation, z. B. Nachhaltigkeitsstrategie, Umweltpolitik, Nachhaltigkeitsbericht, Umweltindikatoren, Jahresvergleich (spezifisches Kapitel, Seite usw.) | H17: 3 | J17: Alle drei Bestandteile sind für 3 Ziele vorhanden und belegt: 100 %. Bei Teilantworten: Ziele 20 %, passende KPIs 40 %, aktuelle Ist-Werte mit Nachweis 40 %.
A18: Energieverbrauch | G18: 10
A19: bei Bedarf/Änderung | B19: Frage 6 | C19: Gibt es ein Energiemanagementsystem in Ihrem Unternehmen? (ISO 50001 oder vergleichbar) Nachweis! | D19: =_xlfn.TRANSLATE(Validáció!C19,"hu","de") | E19: =_xlfn.TRANSLATE(Validáció!D19,"hu","de") | F19: =_xlfn.TRANSLATE(Validáció!E19,"hu","de") -> Zertifikat | H19: 1 | J19: 0% - Kein gültiges Zertifikaat vorhanden 100% - gültiges Zertifikat vorhanden
A21: ja | B21: Frage 7 | C21: Wie hoch war ihr Gesamt-Jahresstromverbrauch über alle Standorte in den letzten drei Jahren? (MWh/Jahr) Nachweis! | D21: =_xlfn.TRANSLATE(Validáció!C21,"hu","de") -> Bitte füllen Sie die Tabelle "Jährlicher Stromverbrauch" im Arbeitsblatt "Tabellen" aus. | E21: =_xlfn.TRANSLATE(Validáció!D21,"hu","de") | F21: =_xlfn.TRANSLATE(Validáció!E21,"hu","de") -> Stromrechnungen, Energierechnungen, Zählerdaten/-abrechnungen, Energiemanagementberichte, interne Verbrauchsabrechnungen oder ESG-/Nachhaltigkeitsberichte mit Stromindikatoren. | H21: 1.5 | J21: 1. Daten vorhanden: 50% 2. +25% Im Jahr 3< Jahr1 3. +25% Wenn Maßnahmen beschrieben sind.
A23: ja | B23: Frage 7a | C23: Erläutern Sie die Gründe für Änderungen des Stromverbrauchs im angegebenen Zeitraum. (z.B. veränderte Mitarbeiterzahl, Fläche, Auslastung, Homeoffice, IT-Nutzung oder Effizienzmaßnahmen) | D23: =_xlfn.TRANSLATE(Validáció!C23,"hu","de") | E23: =_xlfn.TRANSLATE(Validáció!D23,"hu","de") | F23: =_xlfn.TRANSLATE(Validáció!E23,"hu","de")
A25: ja | B25: Frage 8 | C25: Wie hoch war ihr Gesamt-Wärmeverbrauch über alle Standorte in den letzten drei Jahren? (MWh/Jahr) Unterscheiden Sie Prozesswärme und Heizwärme. Nachweis! | D25: =Validáció!C25 -> Kérjük, töltse ki a „Táblázatok” munkalap „Hőenergia-felhasználás” táblázatát! | E25: =_xlfn.TRANSLATE(Validáció!D25,"hu","de") | F25: =_xlfn.TRANSLATE(Validáció!E25,"hu","de") | H25: 1.5 | J25: 1. Daten vorhanden: 50% 2. +25% Im Jahr 3< Jahr1 3. +25% Wenn Maßnahmen beschrieben sind.
A27: bei Bedarf/Änderung | B27: Frage 8a | C27: Erläutern Sie die Gründe für Änderungen des Wärmeverbrauchs im angegebenen Zeitraum. (z.B. geänderte Produktionsmengen, getätigte Energieeffizienzmaßnahmen) | D27: =_xlfn.TRANSLATE(Validáció!C27,"hu","de") | E27: =_xlfn.TRANSLATE(Validáció!D27,"hu","de") | F27: =_xlfn.TRANSLATE(Validáció!E27,"hu","de")
A29: ja | B29: Frage 9 | C29: Beziehen Sie zertifizierten Ökostrom (= Strom aus ausschließlich erneuerbaren Energieträgern)? Nachweis! | D29: =_xlfn.TRANSLATE(Validáció!C29,"hu","de") -> Falls relevant, ersetze bitte das entsprechende "☐" durch "X". Ort 1: _________ ☐ Ja Nein ☐ Standort 2: _________ ☐ Ja Nein ☐ Ort 3: _________ ☐ Ja Nein ☐ usw. | E29: =_xlfn.TRANSLATE(Validáció!D29,"hu","de") | F29: =_xlfn.TRANSLATE(Validáció!E29,"hu","de") -> Bitte fügen Sie das aktuelle grüne Stromzertifikat bei. Für jeden Standort fügen Sie die Dokumentation des aktuellen Strommixes des Energieversorgers an (Quelle: Stromrechnung). | H29: 1 | J29: aliquote Punkte pro Standort mit gültigem Ökostromzertifikat (z.B. 5 Standorte, davon 2 ja: dann 2/5 Punkte)
A31: bei Bedarf/Änderung | B31: Frage 10 | C31: Wird vom Unternehmen selbst vor Ort Strom erzeugt (aus erneuerbaren Energiequellen)? | D31: =_xlfn.TRANSLATE(Validáció!C31,"hu","de") | E31: =_xlfn.TRANSLATE(Validáció!D31,"hu","de") | F31: =_xlfn.TRANSLATE(Validáció!E31,"hu","de") | H31: 1 | J31: Antwort ja & Dokumentation vorhanden: 50%; Zusatzpunkte je nach Größe: >10%<50% Gesamtstrom-Bedarf: +25% >50%: volle Punke
A33: bei Bedarf/Änderung | B33: Frage 10a | C33: Mit welcher Technologie und in welchem Ausmaß? (MWh/a) | D33: =_xlfn.TRANSLATE(Validáció!C33,"hu","de") | E33: =_xlfn.TRANSLATE(Validáció!D33,"hu","de") | F33: =_xlfn.TRANSLATE(Validáció!E33,"hu","de")
A35: ja | B35: Frage 11 | C35: Woraus beziehen Sie Ihre Wärmeenergie? (Heizung, Warmwasser) Bitte um Angabe der Anteile der einzelnen Energieträger am gesamten Wärmeverbrauch über alle Standorte des Unternehmens in MWh und % Nachweis! | D35: =_xlfn.TRANSLATE(Validáció!C35,"hu","de") -> Bitte füllen Sie die Tabelle "Energie & kWh" im Arbeitsblatt "Tabellen" aus. | E35: =_xlfn.TRANSLATE(Validáció!D35,"hu","de") | F35: =_xlfn.TRANSLATE(Validáció!E35,"hu","de") -> Zertifikat, z. B. Heizkostenabrechnungen, Energierechnungen, Zählerdaten/-abrechnungen, Fernwärme-Siedlungen, Energiebericht, Nachhaltigkeitsbericht oder interne Verbrauchsrechnung. | H35: 1 | J35: Punkte % analog zu % Anteil Summe erneuerbare Energieträger Wärme alle Standorte (Biomasse, Wärmepumpe, Geothermie..)
A37: bei Bedarf/Änderung | B37: Frage 12 | C37: Wird vom Unternehmen selbst vor Ort Wärme erzeugt (aus erneuerbaren Energiequellen)? | D37: =_xlfn.TRANSLATE(Validáció!C37,"hu","de") | E37: =_xlfn.TRANSLATE(Validáció!D37,"hu","de") | F37: =_xlfn.TRANSLATE(Validáció!E37,"hu","de") | H37: 1 | J37: Antwort ja & Dokumentation vorhanden: 50%; Zusatzpunkte je nach Größe: >10%<50% Gesamtwärme-Bedarf: +25% >50%: volle Punke
A39: 0 | B39: Frage 12a | C39: Mit welcher Technologie und in welchem Ausmaß? (MWh/a) | D39: =_xlfn.TRANSLATE(Validáció!C39,"hu","de") | E39: =_xlfn.TRANSLATE(Validáció!D39,"hu","de") | F39: =_xlfn.TRANSLATE(Validáció!E39,"hu","de")
A41: bei Bedarf/Änderung | B41: Frage13 | C41: Welche Energieeffizienzklasse(n) hat/haben ihre Unternehmensgebäude? | D41: =_xlfn.TRANSLATE(Validáció!C41,"hu","de") -> Bitte füllen Sie die Tabelle "Energieeffizienzklasse" im Arbeitsblatt "Tabellen" aus. | E41: =_xlfn.TRANSLATE(Validáció!D41,"hu","de") | F41: =_xlfn.TRANSLATE(Validáció!E41,"hu","de") | H41: 1 | J41: Auswertung bei mehreren Standorten: HWB Angaben gewichtet nach Anteil m² 100% bei max 15 kWh/m² BGF-Ref 75% bei max 25 kWh/m² BGF-Ref 50% bei max 50 kWh/m² BGF-Ref 25% bei max 100 kWh/m² BGF-Ref
A43: ja | B43: Frage14 | C43: Wenn Sie im letzten Jahr ein Projekt zum Thema "Energie"durchgeführt haben, haben Sie hier die Gelegenheit dieses kurz vorzustellen. Nachweis! | D43: =_xlfn.TRANSLATE(Validáció!C43,"hu","de") -> Falls relevant, ersetzen Sie bitte das entsprechende "☐" durch "X". Mehrere Antworten können markiert werden. ☐ Verbesserung der Energieeffizienz von Gebäuden, z. B. Renovierung ☐ Erneuerbare Energien oder Selbsterzeugung, z. B. Photovoltaiksysteme, ☐ Optimieren Sie Heizung, Kühlung oder Belüftung ☐ Umstellung auf energieeffiziente Beleuchtung, z. B. LED ☐ Anwendung energieeffizienter Geräte oder IT-Systeme ☐ Optimierung der Betriebsprozesse ☐ Energiemanagement oder Verbrauchsüberwachung ☐ Mitarbeiterschulung oder Sensibilisierung ☐ Sonstiges: __________ ☐ Kein Energieprojekt umgesetzt | E43: =_xlfn.TRANSLATE(Validáció!D43,"hu","de") | F43: =_xlfn.TRANSLATE(Validáció!E43,"hu","de") -> Projektbeschreibung, Link | H43: 1 | J43: volle Punkte wenn inhaltlich neues Projekt & bisher nicht genannt im FB, sonst 0 (keine Punkte für bloße "updates")
A44: Resourcenverbrauch | G44: 10
A45: bei Bedarf/Änderung | B45: Frage 15 | C45: Erfasst Ihr Unternehmen regelmäßig den Verbrauch den für die Erbringung ihrer Dienstleistung wesentlicher Materialien und Ressourcen? Nachweis! | D45: =_xlfn.TRANSLATE(Validáció!C45,"hu","de") | E45: =_xlfn.TRANSLATE(Validáció!D45,"hu","de") | F45: =_xlfn.TRANSLATE(Validáció!E45,"hu","de") -> Abstract / Dokumentationszertifikat | H45: 2
A47: ja | B47: Frage15a | C47: Welche Materialien und Ressourcen werden erfasst? | D47: =_xlfn.TRANSLATE(Validáció!C47,"hu","de") -> Bitte füllen Sie die Tabelle "Material Use" im Arbeitsblatt "Tabellen" aus. | E47: =_xlfn.TRANSLATE(Validáció!D47,"hu","de") | F47: =_xlfn.TRANSLATE(Validáció!E47,"hu","de") | J47: 1 punkt für jeden Bereich multipliziert mit jeweiligem % Anteil
A49: bei Bedarf/Änderung | B49: Frage16 | C49: Welche Maßnahmen zur Verringerung des Ressourcenverbrauchs wurden in den letzten drei Jahren umgesetzt? | D49: =_xlfn.TRANSLATE(Validáció!C49,"hu","de") -> Falls relevant, ersetzen Sie bitte das entsprechende "☐" durch "X". Mehrere Antworten können markiert werden. ☐ Reduzierung des Ressourcenverbrauchs der bereitgestellten Dienstleistung (Kerngeschäft) ☐ Digitalisierung und Reduzierung des Verbrauchs von Papier und Bürobedarf ☐ Wiederverwendung von Materialien oder Produkten ☐ Ausrüstung reparieren und über längere Zeiträume verwenden ☐ Vermeiden Sie Einwegprodukte ☐ Verpackung reduzieren oder vermeiden ☐ Nachhaltige Beschaffung von Produkten und Dienstleistungen ☐ Mitarbeiterschulung oder Sensibilisierung ☐ Andere Messgröße: __________ ☐ Es wurden keine Maßnahmen ergriffen | E49: =_xlfn.TRANSLATE(Validáció!D49,"hu","de") | F49: =_xlfn.TRANSLATE(Validáció!E49,"hu","de") | H49: 6 | J49: 25% bei oberen drei Auswahlmöglichkeiten, sonst je 10%, max 100%
A51: bei Bedarf/Änderung | B51: Frage 17 | C51: Werden beim Einkauf umweltfreundliche Produkte und Dienstleistungen bevorzugt? Nachweis! | D51: =_xlfn.TRANSLATE(Validáció!C51,"hu","de") | E51: =_xlfn.TRANSLATE(Validáció!D51,"hu","de") | F51: =_xlfn.TRANSLATE(Validáció!E51,"hu","de") -> Beschaffungspolitik, Verhaltenskodex für Lieferanten, Umweltzertifizierungen | H51: 1 | J51: ja 100% nein 0
A53: bei Bedarf/Änderung | B53: Frage 18 | C53: Findet im Unternehmen ein ökologisches Office Management statt? (z.B. geringer Papierverbrauch, Leitungswasser anstatt Mineralwasser, Ökoboxen) | D53: =_xlfn.TRANSLATE(Validáció!C53,"hu","de") | E53: =_xlfn.TRANSLATE(Validáció!D53,"hu","de") | F53: =_xlfn.TRANSLATE(Validáció!E53,"hu","de") | H53: 1 | J53: ja 100% nein 0
A54: Emissionen | G54: 10
A55: ja | B55: Frage 19 | C55: Liegt ein aktuell gültiger CO2-Fußabdruck (Unternehmen, Produkte) vor? Falls der Fußabdruck nur für Unternehmensteile bzw. einzelne Produkte vorliegt, bitte um Erläuterung. Nachweis! | D55: =_xlfn.TRANSLATE(Validáció!C55,"hu","de") | E55: =_xlfn.TRANSLATE(Validáció!D55,"hu","de") | F55: =_xlfn.TRANSLATE(Validáció!E55,"hu","de") -> THG/CO₂-Inventar, Berechnung des CO₂-Fußabdrucks oder zugehöriges Zertifikat | H55: 4 | J55: Extern geprüft / zertifiziert - 100 % der Punkte Nach anerkannter Methode erstellt, aber nicht extern geprüft - 75 % der Punkte Interne Berechnung mit nachvollziehbarer Methodik - 50 % der Punkte
A57: ja | B57: Frage 20 | C57: Wie hoch waren ihr Gesamt-Emissionen über alle Standorte (Unternehmen) in den letzten drei Jahren? (t CO2eq/Jahr) | D57: =_xlfn.TRANSLATE(Validáció!C57,"hu","de") -> Bitte füllen Sie die Tabelle "Emissionen" im Arbeitsblatt "Tabellen" aus. | E57: =_xlfn.TRANSLATE(Validáció!D57,"hu","de") | F57: =_xlfn.TRANSLATE(Validáció!E57,"hu","de") | H57: 4 | J57: 1. Daten vorhanden: 50% 2. +25% Im Jahr 3< Jahr1 3. +25% Wenn Maßnahmen beschrieben sind.
H58: 0
A59: bei Bedarf/Änderung | B59: Frage 20a | C59: Erläutern Sie die Gründe für Änderungen der Gesamt-Emissionen im angegebenen Zeitraum. (z.B. getätigte Energieeffizienzmaßnahmen/ nachhaltige Mobilität / weniger Dienstreisen / nachhaltige Beschaffung / effiziente IT und Rechenzentren / Sonstige) | D59: =_xlfn.TRANSLATE(Validáció!C59,"hu","de") | E59: =_xlfn.TRANSLATE(Validáció!D59,"hu","de") | F59: =_xlfn.TRANSLATE(Validáció!E59,"hu","de") | H59: 0
A61: ja | B61: Frage 21 | C61: Wenn Sie in den letzten zwei Jahren ein (neues) Projekt zum Thema "Klimaschutz/Klimaforschung" durchgeführt haben, haben Sie hier die Gelegenheit dieses kurz vorzustellen. Nachweis! | D61: =_xlfn.TRANSLATE(Validáció!C61,"hu","de") | E61: =_xlfn.TRANSLATE(Validáció!D61,"hu","de") | F61: =_xlfn.TRANSLATE(Validáció!E61,"hu","de") -> Projektbeschreibung, Link | H61: 2 | J61: volle Punkte wenn inhaltlich neues Projekt & bisher nicht genannt im FB, sonst 0
A62: Mobilität | G62: 10
...

Sheet Táblázatok
A1: A kérdések a vállalat valamennyi telephelyére vonatkoznak:
A2: Megjegyzés: Az összesített fogyasztási adatoknál a validált vállalat adott országban található valamennyi releváns telephelyét figyelembe kell venni. Az azonos jellegű telephelyek összevonhatók. A hálózatról vételezett és a napelemes (PV) villamos energiát külön kell feltüntetni.
A4: 7. kérdés: | B4: Éves villamosenergia-felhasználás
B5: Év | C5: 1. telephely: …........ [MWh] | D5: 2. telephely: …........ [MWh] | E5: 3. telephely: …........ [MWh] | F5: n. telephely: …........ [MWh]
B6: 2023
B7: 2024
B8: 2025
A11: 8. kérdés: | B11: Hőenergia-felhasználás | C11: 1. telephely: …........ | E11: 2. telephely: …........ | G11: 3. telephely: …........
B12: Év | C12: [MWh] | D12: ebből technológiai hő aránya (%) | E12: [MWh] | F12: ebből technológiai hő aránya (%) | G12: [MWh] | H12: ebből technológiai hő aránya (%)
B13: 2023
B14: 2024
B15: 2025
A18: 11. kérdés: | B18: Energiahordozók és kWh: | C18: Referenciaév:
B19: Energiahordozó / hőforrás | C19: Felhasználás MWh/év | D19: A teljes hőenergia-felhasználáson belüli arány (%) | E19: Megjegyzés
B20: Földgáz
B21: Fűtőolaj
B22: Távhő | E22: Kérjük, adja meg a felhasznált energiahordozókat, pl. faapríték, hulladék, földgáz, hulladékhő.
B23: Biomassza
B24: Hőszivattyú | E24: Kérjük, adja meg a felhasznált villamos energia forrását, pl. hálózati vételezés vagy napelemes (PV) villamos energia.
B25: Napenergia (napkollektor)
B26: Geotermikus energia
B27: Egyéb | E27: Kérjük, részletezze.
B28: Összesen | C28: =SUM(C20:C27) -> 0 | D28: =SUM(D20:D27) -> 0
A31: 13. kérdés: | B31: Energiahatékonysági osztály
B32: Telephely | C32: HWB kWh/m² BGF-Ref | D32: BGF (m²)
B33: 1. telephely
B34: 2. telephely
B35: 3. telephely
B36: 4. telephely
B37: Szükség esetén további sorok beszúrhatók.
A40: 15a. kérdés: | B40: Anyagfelhasználás | C40: Referenciaév:
B41: Anyag / erőforrás | C41: Éves felhasználás | D41: Mértékegység [pl. kg, db, liter...] | E41: Fenntartható/újrahasznosított arány [%]
A53: 20. kérdés: | B53: Kibocsátások
B54: Év | C54: Kibocsátás [t CO₂e]
B55: 2023
B56: 2024
B57: 2025
A60: 22a. kérdés: | B60: Hajtástípus | C60: Referenciaév:
B61: Hajtástípus | C61: Járművek száma
B62: Dízel
...

Sheet Tabellen
A1: Fragen betreffen alle Standorte des Unternehmens:
A2: Hinweis: Bei Gesamtverbräuchen sind alle relevanten Standorte des validierten Unternehmens im betreffenden Land zu berücksichtigen. Gleichartige Standorte können zusammengefasst werden. Netzbezug und PV sind getrennt auszuweisen.
A4: Frage 7: | B4: Jahresstromverbrauch/
B5: Jahr | C5: Standort 1:…........[MWh] | D5: Standort 2:…........[MWh] | E5: Standort 3:…........[MWh] | F5: Standort n:…........[MWh]
B6: 2023
B7: 2024
B8: 2025
A11: Frage 8: | B11: Wärmeverbrauch | C11: Standort 1:…........ | E11: Standort 2:…........ | G11: Standort 3:…........
B12: Jahr | C12: [MWh] | D12: davon Anteil Prozesswärme (%) | E12: [MWh] | F12: davon Anteil Prozesswärme (%) | G12: [MWh] | H12: davon Anteil Prozesswärme (%)
B13: 2023
B14: 2024
B15: 2025
A18: Frage 11: | B18: Energieträger & kWh: | C18: Bezugsjahr:
B19: Energieträger / Wärmequelle | C19: Verbrauch in MWh/Jahr | D19: Anteil am Gesamtwärmeverbrauch in % | E19: Bemerkung
B20: Erdgas
B21: Heizöl
B22: Fernwärme | E22: Bitte eingesetzte Energieträger anführen, z.B. Hackschnitzel, Abfall, Erdgas, Abwärme
B23: Biomasse
B24: Wärmepumpe | E24: Bitte eingesetzte Stromquelle anführen: z.B. Netzbezug oder PV Strom
B25: Solarthermie
B26: Geothermie
B27: Sonstige | E27: Bitte erläutern
B28: Summe | C28: =SUM(C20:C27) -> 0 | D28: =SUM(D20:D27) -> 0
A31: Frage 13: | B31: Energieeffizienzklasse
B32: Standort | C32: HWB kWh/m² BGF-Ref | D32: BGF (m²)
B33: Standort 1
B34: Standort 2
B35: Standort 3
B36: Standort 4
B37: ggf. weitere Zeilen einfügen
A40: Frage 15a: | B40: Materialverbrauch | C40: Bezugsjahr:
B41: Material/Ressource | C41: Jahresverbrauch | D41: Einheit [z.B. kg, Stück, Liter...] | E41: Nachhaltiger/recycelter Anteil [%]
A53: Frage 20: | B53: Emissionen
B54: Jahr | C54: Emissionen [ t CO2eq]
B55: 2023
B56: 2024
B57: 2025
A60: Frage 22a: | B60: Antriebsart | C60: Bezugsjahr:
B61: Antriebsart | C61: Anzahl Fahrzeuge
B62: Diesel
...

Sheet Auswahlmöglichkeiten HUN
B1: igen
B2: nem
B3: részben
B6: Energiafelhasználás
B7: Üvegházhatásúgáz-kibocsátás
B8: Erőforrás-felhasználás
B9: Hulladék
B10: Vízfelhasználás
B11: Mobilitás és szállítás
B12: Egyéb
B15: Tanúsítás
B16: Minősítő védjegy / ökocímke
... B62: Egyéb energiaprojektek

Sheet Auswahlmöglichkeiten 
B1: ja
B2: nein
B3: teilweise
B6: Energieverbrauch
B7: Treibhausgasemissionen
B8: Ressourcenverbrauch
B9: Abfall
B10: Wasserverbrauch
B11: Mobilität und Transport
B12: Sonstige
B15: Zertifizierung
B16: Gütesiegel
... B62: Sonstige Energieprojekte

Sheet Összefoglaló

Sheet Rückfragen
