Workbook

Sheet Előlap
C4: ÉRTÉKELÉS EREDMÉNYE:
C5: Ciklus: | D5: 2026 / 2027
C6: Kategória: | D6: Vállalat (Szolgáltató)
C7: Értékelés időpontja: | D7: xx
B11: GB-ID Azonosító: | C11: xxx
B13: Cégnév | C13: ='Vállalat (Szolgáltató)'!C7 -> 0
B14: Cím
B15: Iparág | C15: ='Vállalat (Szolgáltató)'!C8 -> 0
B16: Márkanév | C16: ='Vállalat (Szolgáltató)'!C9 -> 0
B18: Eredmény
C19: Elérhető pontszám | D19: Elért pontszám | E19: Arány
B20: ='Vállalat (Szolgáltató)'!B20 -> Vállalati célok | C20: ='Vállalat (Szolgáltató)'!C20 -> 20 | D20: ='Vállalat (Szolgáltató)'!D20 -> 0 | E20: =D20/C20 -> 0
B21: ='Vállalat (Szolgáltató)'!B21 -> Fenntarthatósági / környezetirányítási rendszerek | C21: ='Vállalat (Szolgáltató)'!C21 -> 15 | D21: ='Vállalat (Szolgáltató)'!D21 -> 0 | E21: =D21/C21 -> 0
B22: ='Vállalat (Szolgáltató)'!B22 -> Energiafelhasználás | C22: ='Vállalat (Szolgáltató)'!C22 -> 10 | D22: ='Vállalat (Szolgáltató)'!D22 -> 0 | E22: =D22/C22 -> 0
B23: ='Vállalat (Szolgáltató)'!B23 -> Erőforrás-felhasználás | C23: ='Vállalat (Szolgáltató)'!C23 -> 10 | D23: ='Vállalat (Szolgáltató)'!D23 -> 0 | E23: =D23/C23 -> 0
B24: ='Vállalat (Szolgáltató)'!B24 -> Kibocsátások | C24: ='Vállalat (Szolgáltató)'!C24 -> 10 | D24: ='Vállalat (Szolgáltató)'!D24 -> 0 | E24: =D24/C24 -> 0
B25: ='Vállalat (Szolgáltató)'!B25 -> Mobilitás | C25: ='Vállalat (Szolgáltató)'!C25 -> 10 | D25: ='Vállalat (Szolgáltató)'!D25 -> 0 | E25: =D25/C25 -> 0
B26: ='Vállalat (Szolgáltató)'!B26 -> Vízfelhasználás | C26: ='Vállalat (Szolgáltató)'!C26 -> 5 | D26: ='Vállalat (Szolgáltató)'!D26 -> 0 | E26: =D26/C26 -> 0
B27: ='Vállalat (Szolgáltató)'!B27 -> Hulladékgazdálkodás | C27: ='Vállalat (Szolgáltató)'!C27 -> 10 | D27: ='Vállalat (Szolgáltató)'!D27 -> 0 | E27: =D27/C27 -> 0
B28: ='Vállalat (Szolgáltató)'!B28 -> Szemléletformálás | C28: ='Vállalat (Szolgáltató)'!C28 -> 10 | D28: ='Vállalat (Szolgáltató)'!D28 -> 0 | E28: =D28/C28 -> 0
B29: Összesen: | C29: =SUM(C20:C28) -> 100 | D29: =SUM(D20:D28) -> 0 | E29: =D29/C29 -> 0
B31: értékelte:
C36: ALLPLAN GmbH
C37: Schwindgasse 10, 1040 Wien
C38: www.allplan.at
B40: Az előírt 51%-os küszöbérték elérése / meghaladása esetén – a védett EU tanúsító védjegy alapszabályának megfelelően –
B41: a GREEN BRANDS Hungary 2026/2027 minősítés odaítélésre kerül.
B44: Érvényesség: 2027.12.31.
B46: Norbert R. L u x
B47: Ügyvezető igazgató

Sheet Alapinformációk
N3: Kitöltési útmutató / Jelmagyarázat
N4: Jelölés / Mező | O4: Jelentése | P4: Teendő
N5: Kék mező | O5: Szabad szöveges mező | P5: Kérjük, adja meg a kért adatokat / magyarázatokat.
N6: Narancssárga mező | O6: Választómező | P6: Kérjük, válasszon ki egy választ a legördülő menüből.
O7: □ Jelölőnégyzet | P7: Kérjük, tegyen „X” jelet a megfelelő válasz melletti négyzetbe. Több válasz is megjelölhető, amennyiben több válasz is érvényes.
N8: Aláhúzott szöveg | O8: Hivatkozás a „Táblázatok” munkalapra | P8: Kérjük, töltse ki az így megjelölt cellákhoz tartozó táblázatot a „Táblázatok” munkalapon.
N9: "Szükséges igazolás" oszlop | O9: Szükséges igazolás / Kötelező igazoló dokumentum | P9: Kérjük, csatolja a megfelelő dokumentumokat vagy adatokat, pl. számlákat, tanúsítványokat vagy kimutatásokat, és a „Szükséges igazolás” oszlopban tüntesse fel a konkrét dokumentum megnevezését és/vagy az arra mutató hivatkozást.
N11: Beküldés előtt kérjük, győződjön meg arról, hogy: - minden kérdést teljes körűen megválaszolt; - minden szükséges igazoló dokumentumot mellékelt (szükség esetén pl. we transferen keresztül); - az érintett kérdéseknél feltüntette a konkrét dokumentum megnevezését. Fontos: Az olyan általános hivatkozás, mint például „lásd a fenntarthatósági jelentésünket”, nem elegendő. Kérjük, minden esetben adja meg a releváns részhez vezető konkrét hivatkozást/linket. Ezzel elkerülhetők az értékelés során felmerülő felesleges visszakérdezések, amelyek időigényesek, és akár többletköltséget is eredményezhetnek. Köszönjük!

Sheet Vállalat (Szolgáltató)
B3: VÁLLALATI (Szolgáltató) KÉRDŐÍV
B7: Cégnév
B8: Cím
B9: Iparág
B10: Tevékenységi kör leírása
B11: Cégforma
B12: Alkalmazottak száma
B13: A vállalat éves forgalma
B14: Kapcsolattartó személy / pozíció
B15: E-mail
B16: Telefon
B18: Eredmény
C19: Elérhető Pontszám | D19: Elért Pontszám | E19: Arány | G19: Év 1 | H19: Év 2 | I19: Év 3
B20: =Validáció!A4 -> Vállalati célok | C20: =Értékelés!G4 -> 20 | D20: =SUM(Értékelés!I5) -> 0 | E20: =D20/C20 -> 0 | G20: =D20 -> 0 | J20: =H20-G20 -> 0
B21: =Validáció!A10 -> Fenntarthatósági / környezetirányítási rendszerek | C21: =Értékelés!G10 -> 15 | D21: =SUM(Értékelés!I11:I17) -> 0 | E21: =D21/C21 -> 0 | G21: =D21 -> 0 | J21: =H21-G21 -> 0
B22: =Validáció!A18 -> Energiafelhasználás | C22: =Értékelés!G18 -> 10 | D22: =SUM(Értékelés!I19:I43) -> 0 | E22: =D22/C22 -> 0 | G22: =D22 -> 0 | J22: =H22-G22 -> 0
B23: =Validáció!A44 -> Erőforrás-felhasználás | C23: =Értékelés!G44 -> 10 | D23: =SUM(Értékelés!I45:I53) -> 0 | E23: =D23/C23 -> 0 | G23: =D23 -> 0 | J23: =H23-G23 -> 0
B24: =Validáció!A54 -> Kibocsátások | C24: =Értékelés!G54 -> 10 | D24: =SUM(Értékelés!I55:I61) -> 0 | E24: =D24/C24 -> 0 | G24: =D24 -> 0 | J24: =H24-G24 -> 0
B25: =Validáció!A62 -> Mobilitás | C25: =Értékelés!G62 -> 10 | D25: =SUM(Értékelés!I63:I74) -> 0 | E25: =D25/C25 -> 0 | G25: =D25 -> 0 | J25: =H25-G25 -> 0
B26: =Validáció!A75 -> Vízfelhasználás | C26: =Értékelés!G75 -> 5 | D26: =SUM(Értékelés!I76:I83) -> 0 | E26: =D26/C26 -> 0 | G26: =D26 -> 0 | J26: =H26-G26 -> 0
B27: =Validáció!A84 -> Hulladékgazdálkodás | C27: =Értékelés!G84 -> 10 | D27: =SUM(Értékelés!I85:I93) -> 0 | E27: =D27/C27 -> 0 | G27: =D27 -> 0 | J27: =H27-G27 -> 0
B28: =Validáció!A94 -> Szemléletformálás | C28: =Értékelés!G94 -> 10 | D28: =SUM(Értékelés!I95:I113) -> 0 | E28: =D28/C28 -> 0 | G28: =D28 -> 0 | J28: =H28-G28 -> 0
B29: Összesen: | C29: =SUM(C20:C28) -> 100 | D29: =SUM(D20:D28) -> 0 | E29: =D29/C29 -> 0 | G29: =D29 -> 0 | J29: =H29-G29 -> 0
B31: Auditáló: | C31: xxx
C39: ALLPLAN GmbH
C40: Schwindgasse 10, 1040 Wien
C41: M: +43 676 842 225 220
C42: Firmenbuchnummer: 94000k
C43: Handelsgericht Wien
C44: www.allplan.at
B46: Verzió: | C46: 46296

Sheet Validáció
A1: Kérdés száma | B1: VÁLLALATI Kérdőív | C1: Válaszlehetőség (kérjük, válasszon) | D1: Magyarázat | E1: Szükséges igazolás: Kérjük, az adott cellában tüntesse fel a csatolt igazolás pontos megnevezését. (Az útmutató szövegét írja felül.) | F1: A kategória maximális pontszáma | G1: Kérdésenként elérhető max. pontszám
A3: 0.kérdés | B3: Hogyan értékeli vállalatánál a környezetvédelmi szempontok beépülését a működésbe az ágazati átlaghoz képest? Kérjük, válaszában mutassa be a jelenlegi helyzetet, de ezen túl térjen ki a jövőbeni célokra és tervezett fejlesztésekre is.
A4: Vállalati célok | F4: 20
A5: 1.kérdés | B5: Mekkora az ökológiailag fenntartható szolgáltatások árbevételének aránya a vállalat teljes árbevételén belül? [xx%] | G5: 20
B6: Mutassa be a vállalat által kínált valamennyi szolgáltatást, és emelje ki közülük az ökológiailag fenntarthatónak minősített szolgáltatásokat. | G6: 0
A7: 1a. kérdés | B7: Milyen környezeti terheléseket csökkentenek vagy előznek meg ezek a szolgáltatások? | C7: Amennyiben releváns, kérjük, a megfelelő „☐” jelet cserélje „X”-re. Több válasz is megjelölhető. ☐ Energiafelhasználás ☐ Üvegházhatásúgáz-kibocsátás ☐ Erőforrás- és anyagfelhasználás ☐ Hulladékképződés ☐ Vízfelhasználás ☐ Mobilitásból és szállításból eredő környezeti terhelés ☐ Egyéb: __________________ | G7: 0
B8: Röviden mutassa be a releváns hatásokat megfelelő környezeti mutatók segítségével. | G8: 0
A9: 1b. kérdés | B9: Hogyan igazolják e szolgáltatások ökológiai fenntarthatóságát? Igazolás szükséges! | E9: Tanúsítványok, minősítő védjegyek/ökocímkék, vizsgálati jelentések, számítások vagy egyéb dokumentációk | G9: 0
A10: Fenntarthatósági / környezetirányítási rendszerek | F10: 15
A11: 2.kérdés | B11: A vállalatnál a környezetvédelem témája ISO 14001 vagy EMAS szerinti környezetirányítási rendszer keretében beépült a működésbe? Igazolás szükséges! | E11: Érvényes tanúsítvány | G11: 5
A13: 3. kérdés | B13: Működtet-e a vállalat átfogó rendszert a fenntarthatósági teljesítmény folyamatos javítására (gazdasági, környezeti, társadalmi/etikai szempontok)? Amennyiben igen, kérjük, dokumentálja (pl. felelősségi körök és szervezeti beágyazottság, érintettek bevonása, aktuális fenntarthatósági jelentés, hatásmérés). Igazolás szükséges! | E13: Fenntarthatósági jelentés, monitoring dashboard, irányítási kézikönyv, folyamatleírás | G13: 5
A15: 4. kérdés | B15: Jogszabály alapján köteles a vállalat fenntarthatósági jelentést készíteni? | G15: 2
A17: 5. kérdés | B17: Az ökológiai fenntarthatóság területén adja meg: 1. a három legfontosabb célt, 2. a hozzájuk tartozó KPI-okat (kulcsfontosságú teljesítménymutatókat), 3. valamint minden cél esetében az aktuális állapotot. Igazolás szükséges! | E17: Dokumentáció, pl. fenntarthatósági stratégia, környezeti politika, fenntarthatósági jelentés, környezeti mutatók, éves összehasonlítás (konkrét fejezet, oldal stb.) | G17: 3
A18: Energiafelhasználás | F18: 10
A19: 6. kérdés | B19: Működik a vállalatnál energiagazdálkodási rendszer (ISO 50001 vagy azzal egyenértékű)? Igazolás szükséges! | E19: Tanúsítvány | G19: 1
A21: 7. kérdés | B21: Mekkora volt a vállalat összes telephelyének teljes éves villamosenergia-felhasználása az elmúlt három évben? (MWh/év) Hálózati vételezés (PV nélkül). Igazolás szükséges! | C21: Kérjük, töltse ki a „Táblázatok” munkalap „Éves villamosenergia-felhasználás” táblázatát! | E21: Villanyszámlák, energiaelszámolások, mérőóra-adatok/kimutatások, energiagazdálkodási jelentés, belső fogyasztási kimutatás vagy villamosenergia-mutatókat tartalmazó ESG-/fenntarthatósági jelentés. | G21: 1.5
A23: 7a. kérdés | B23: Ismertesse a villamosenergia-felhasználás változásának okait a megadott időszakban (pl. munkavállalói létszám, alapterület, kihasználtság, home office, IT-használat vagy energiahatékonysági intézkedések változása).
A25: 8. kérdés | B25: Mekkora volt a vállalat összes telephelyének teljes éves hőenergia-felhasználása az elmúlt három évben? (MWh/év) Kérjük, különítse el a technológiai hőfelhasználást és a fűtési célú hőfelhasználást. Igazolás szükséges! | C25: Kérjük, töltse ki a „Táblázatok” munkalap „Hőenergia-felhasználás” táblázatát! | G25: 1.5
A27: 8a. kérdés | B27: Ismertesse a hőenergia-felhasználás változásának okait a megadott időszakban (pl. termelési volumen változása, végrehajtott energiahatékonysági intézkedések).
A29: 9. kérdés | B29: Vásárol-e a vállalat tanúsított zöld villamos energiát (= kizárólag megújuló energiaforrásból származó villamos energia)? Igazolás szükséges! | C29: Amennyiben releváns, kérjük, a megfelelő „☐” jelet cserélje „X”-re. 1. telephely: _________ ☐ Igen ☐ Nem 2. telephely: _________ ☐ Igen ☐ Nem 3. telephely: _________ ☐ Igen ☐ Nem stb. | E29: Kérjük, csatolja az aktuális zöldáram-tanúsítványt. Minden telephely esetében csatolja az energiaszolgáltató aktuális villamosenergia-mixének dokumentációját (forrás: villanyszámla). | G29: 1
A31: 10. kérdés | B31: Termel-e a vállalat saját maga, helyben villamos energiát megújuló energiaforrásból? | G31: 1
A33: 10a. kérdés | B33: Milyen technológiával és milyen mennyiségben? (MWh/év)
A35: 11. kérdés | B35: Milyen energiaforrásokból fedezi a vállalat hőenergia-igényét (fűtés, meleg víz)? Kérjük, adja meg az egyes energiahordozók arányát a vállalat valamennyi telephelyének teljes hőenergia-felhasználásán belül MWh-ban és %-ban. Igazolás szükséges! | C35: Kérjük, töltse ki a „Táblázatok” munkalap „Energiahordozók & kWh” táblázatát! | E35: Igazolás, pl. fűtési költségelszámolások, energiaszámlák, mérőóra-adatok/kimutatások, távhő-elszámolások, energetikai jelentés, fenntarthatósági jelentés vagy belső fogyasztási kimutatás. | G35: 1
A37: 12. kérdés | B37: Termel-e a vállalat saját maga, helyben hőenergiát megújuló energiaforrásból? | G37: 1
A39: 12a. kérdés | B39: Milyen technológiával és milyen mennyiségben? (MWh/év)
A41: 13. kérdés | B41: Milyen energiahatékonysági osztályba tartozik/tartoznak a vállalat épülete(i)? | C41: Kérjük, töltse ki a „Táblázatok” munkalap „Energiahatékonysági osztály” táblázatát! | G41: 1
A43: 14. kérdés | B43: Amennyiben az elmúlt évben a vállalat „Energia” témájú projektet valósított meg, itt röviden bemutathatja azt. Igazolás szükséges! | C43: Amennyiben releváns, kérjük, a megfelelő „☐” jelet cserélje „X”-re. Több válasz is megjelölhető. ☐ Épületek energiahatékonyságának javítása, pl. felújítás ☐ Megújuló energia vagy saját energiatermelés, pl. fotovoltaikus rendszer ☐ Fűtés, hűtés vagy szellőzés optimalizálása ☐ Átállás energiahatékony világításra, pl. LED ☐ Energiahatékony berendezések vagy IT-rendszerek alkalmazása ☐ Működési folyamatok optimalizálása ☐ Energiagazdálkodás vagy fogyasztásmonitoring ☐ Munkavállalók képzése vagy szemléletformálása ☐ Egyéb: __________ ☐ Nem valósult meg energiaprojekt | E43: Projektleírás, link | G43: 1
A44: Erőforrás-felhasználás | F44: 10
A45: 15. kérdés | B45: Rendszeresen nyomon követi-e a vállalat a szolgáltatásnyújtáshoz lényeges anyagok és erőforrások felhasználását? Igazolás szükséges! | E45: Dokumentáció kivonata / igazolása | G45: 2
A47: 15a. kérdés | B47: Mely anyagok és erőforrások felhasználását követik nyomon? | C47: Kérjük, töltse ki a „Táblázatok” munkalap „Anyagfelhasználás” táblázatát!
A49: 16. kérdés | B49: Milyen intézkedéseket hajtottak végre az elmúlt három évben az erőforrás-felhasználás csökkentése érdekében? | C49: Amennyiben releváns, kérjük, a megfelelő „☐” jelet cserélje „X”-re. Több válasz is megjelölhető. ☐ A nyújtott szolgáltatás (alaptevékenység) erőforrás-felhasználásának csökkentése ☐ Digitalizáció, valamint a papír- és irodaszer-felhasználás csökkentése ☐ Anyagok vagy termékek újrahasználata ☐ Berendezések javítása és hosszabb ideig történő használata ☐ Egyszer használatos termékek kerülése ☐ Csomagolás csökkentése vagy elkerülése ☐ Termékek és szolgáltatások fenntartható beszerzése ☐ Munkavállalók képzése vagy szemléletformálása ☐ Egyéb intézkedés: __________ ☐ Nem valósult meg intézkedés | G49: 6
A51: 17. kérdés | B51: A beszerzések során előnyben részesítik-e a környezetbarát termékeket és szolgáltatásokat? Igazolás szükséges! | E51: Beszerzési irányelv, beszállítói magatartási kódex, környezetvédelmi tanúsítványok | G51: 1
A53: 18. kérdés | B53: Alkalmaz-e a vállalat környezettudatos irodai működést (pl. alacsony papírfelhasználás, ásványvíz helyett csapvíz, újrahasználható/gyűjtő dobozok)? | G53: 1
A54: Kibocsátások | F54: 10
A55: 19. kérdés | B55: Rendelkezik-e a vállalat aktuális, érvényes karbonlábnyom-számítással (vállalati és/vagy termékszinten)? Amennyiben a karbonlábnyom csak a vállalat egyes részeire, illetve egyes termékekre áll rendelkezésre, kérjük, részletezze. Igazolás szükséges! | E55: ÜHG-/CO₂-leltár, karbonlábnyom-számítás vagy kapcsolódó tanúsítvány | G55: 4
A57: 20. kérdés | B57: Mekkora volt a vállalat összes telephelyére vonatkozó teljes üvegházhatásúgáz-kibocsátása az elmúlt három évben? (t CO₂e/év) | C57: Kérjük, töltse ki a „Táblázatok” munkalap „Kibocsátások” táblázatát! | G57: 4
G58: 0
A59: 20a. kérdés | B59: Ismertesse a teljes kibocsátás változásának okait a megadott időszakban (pl. energiahatékonysági intézkedések, fenntartható mobilitás, kevesebb üzleti utazás, fenntartható beszerzés, hatékony IT és adatközpontok, egyéb). | G59: 0
A61: 21. kérdés | B61: Amennyiben az elmúlt két évben a vállalat (új) projektet valósított meg „Klímavédelem / klímakutatás” témában, itt röviden bemutathatja azt. Igazolás szükséges! | E61: Projektleírás, link | G61: 2
A62: Mobilitás | F62: 10
A63: 22. kérdés | B63: Rendelkezik-e a vállalat saját járműflottával (személygépkocsi/tehergépjármű)? Milyen célokra használják, és hány járműből áll a flotta? Igazolás szükséges! | E63: Járműflotta-lista | G63: 6
G64: 0
A65: 22a. kérdés | B65: Adja meg a járművek arányát az alkalmazott hajtás-/üzemanyagtípusok szerint. | C65: Kérjük, töltse ki a „Táblázatok” munkalap „Hajtástípus” táblázatát! | G65: 0
G66: 0
A67: 22b. kérdés | B67: Mekkora volt a vállalati járműflotta teljes éves üzemanyag-felhasználása az elmúlt három évben? | C67: Kérjük, töltse ki a „Táblázatok” munkalap „Üzemanyag-felhasználás” táblázatát! | G67: 0
G68: 0
A69: 22c. kérdés | B69: Ismertesse az üzemanyag-felhasználás változásának okait a megadott időszakban (pl. a közlekedés energiafelhasználását csökkentő aktív intézkedések, például a járműflotta elektrifikációja, vagy a működési feltételek változása). | G69: 0
A71: 23. kérdés | B71: Rendelkezik-e a vállalat aktuális, érvényes irányelvvel az üzleti utazások ökológiai lábnyomának csökkentésére? Ilyen irányelv tartalma lehet például: az üzleti utak szükségességének felülvizsgálata, online megbeszélések előnyben részesítése, vasúti utazás előnyben részesítése a repüléssel szemben, alacsony kibocsátású közlekedési módok használata. Igazolás szükséges! | E71: Üzleti utazási irányelv | G71: 2
A72: 23a. kérdés | B72: Környezeti szempontok alapján nyomon követik-e az üzleti utazásokat (megtett távolság, közlekedési mód stb.)? Igazolás szükséges! | E72: Utazási költségelszámolások, vasúti/repülési statisztikák | G72: 0
A74: 24. kérdés | B74: Támogatja-e a vállalat a munkavállalókat abban, hogy környezetbarát módon jussanak el a telephely(ek)re, illetve hogy az utazások számát csökkentsék vagy teljesen elkerüljék? Amennyiben igen, hogyan (pl. közösségi közlekedési bérlet támogatása, home office szabályozás, kerékpárlízing stb.)? | G74: 2
A75: Vízfelhasználás | F75: 5
A76: 25. kérdés | B76: A vállalat mely területein releváns a vízfelhasználás? Igazolás szükséges! | C76: Amennyiben releváns, kérjük, a megfelelő „☐” jelet cserélje „X”-re. Több válasz is megjelölhető. ☐ A kínált szolgáltatás nyújtásához kapcsolódó vízfelhasználás ☐ Zöldterületek öntözése ☐ Szaniter helyiségek ☐ Konyha ☐ Egyéb: ______ | D76: Amennyiben a szolgáltatásnyújtáshoz kapcsolódó vízfelhasználás releváns: kérjük, adjon magyarázatot. | E76: Telephelylista/-áttekintés, folyamatleírás, környezetirányítási dokumentáció | G76: 3
A77: 25a. kérdés | B77: Milyen intézkedéseket alkalmaznak a vízfelhasználás csökkentésére? | C77: Amennyiben releváns, kérjük, a megfelelő „☐” jelet cserélje „X”-re. Több válasz is megjelölhető. ☐ A nyújtott szolgáltatáshoz kapcsolódó vízfelhasználás csökkentése ☐ Irodai vízfelhasználás csökkentése ☐ Vízfelhasználás monitorozása ☐ Szemléletformálás ☐ Műszaki vagy működési folyamatok módosítása ☐ Egyéb ☐ Nincs ilyen intézkedés | G77: 0
A79: 26. kérdés | B79: Ismeri-e a vállalat a szolgáltatásaira vetített vízfelhasználást? Amennyiben igen, adja meg a releváns KPI-okat és azok alakulását az elmúlt három évben. Ismertesse a vízfelhasználás változásának okait a megadott időszakban (pl. végrehajtott víztakarékossági intézkedések, irodai kihasználtság változása, munkavállalói létszám változása stb.). Igazolás szükséges! | D79: Amennyiben releváns: magyarázat, pl. vízfelhasználás ügyfelenként, vendégenként vagy árbevétel-egységre vetítve. | E79: Víziközmű-szolgáltatói számlák/elszámolások, mérőóra-állások, fenntarthatósági jelentés, belső monitoring | G79: 1
A81: 27. kérdés | B81: Keletkezik-e a vállalat tevékenysége során a háztartási mennyiséget meghaladó szennyvíz? Igazolás szükséges! | E81: Szennyvízelszámolás / kivonat | G81: 1
G82: 0
A83: 27a. kérdés | B83: Milyen, a jogszabályi előírásokon túlmutató intézkedéseket alkalmaznak a szennyvíz kezelésére és keletkezésének megelőzésére? Igazolás szükséges! | E83: Intézkedési jelentés / link | G83: 0
A84: Hulladékgazdálkodás | F84: 10
A85: 28. kérdés | B85: Nyilvántartják-e a keletkező hulladék mennyiségét hulladéktípusonként elkülönítve? Igazolás szükséges! | C85: Kérjük, töltse ki a „Táblázatok” munkalap „Hulladéktípus” táblázatát! | E85: Hulladékmérlegek, ártalmatlanítási/elszállítási bizonylatok, belső hulladékstatisztika, fenntarthatósági jelentés | G85: 2
A87: 29. kérdés | B87: Milyen intézkedéseket alkalmaznak a hulladék keletkezésének megelőzésére vagy az újrahasználat növelésére? Mutassa be az intézkedéseket és az elért javulást (pl. szelektív hulladékgyűjtés optializálása/fejlesztése/eredmények javulása, hulladékmennyiség csökkenése, újrahasználat növekedése, anyagfelhasználás csökkenése, költségmegtakarítás). | C87: Amennyiben releváns, kérjük, a megfelelő „☐” jelet cserélje „X”-re. Több válasz is megjelölhető. ☐ Egyszer használatos termékek kerülése ☐ Többször használható rendszerek alkalmazása ☐ Berendezések javítása és hosszabb ideig történő használata ☐ Berendezések és anyagok újrahasználata vagy továbbadása ☐ Csomagolások visszavétele vagy újrahasználata ☐ Papírtakarékos működés ☐ Egyéb intézkedés: __________________ ☐ Nem valósult meg intézkedés | G87: 4
A89: 30. kérdés | B89: Tájékoztatják-e a munkavállalókat a hulladék megfelelő kezeléséről (pl. belső tájékoztató anyagok, jelölések és piktogramok, belső kommunikáció, képzések vagy továbbképzések)? Amennyiben igen, hogyan? Igazolás szükséges! | E89: Fotók, linkek | G89: 2
A91: 31. kérdés | B91: Keletkezik-e veszélyes hulladék a vállalat tevékenysége során? Amennyiben igen, milyen? | G91: 2
G92: 0
A93: 31a. kérdés | B93: Alkalmaznak-e intézkedéseket a veszélyes hulladék mennyiségének csökkentésére? Amennyiben igen, milyeneket? (pl. veszélyes anyagok helyettesítése kevésbé veszélyes alternatívákkal, veszélyes hulladék csökkentése technológiai fejlesztésekkel, veszélyes anyagok felhasználásának optimalizálása stb.) | G93: 0
A94: Szemléletformálás | F94: 10
A95: 32. kérdés | B95: Tartanak-e rendszeresen munkavállalói képzéseket, tájékoztató eseményeket vagy beszélgetőcsoportokat környezetvédelmi témákban? Igazolás szükséges! | E95: Igazolás, pl. képzési terv, oktatási anyagok, belső kommunikációs tervek, képzési naptár | G95: 3
G96: 0
A97: 32a. kérdés | B97: Milyen gyakran kerül sor ezekre? | G97: 0
G98: 0
A99: 32b. kérdés | B99: Milyen eszközöket, csatornákat vagy platformokat használnak erre a célra? | G99: 0
G100: 0
A101: 32c. kérdés | B101: A munkavállalók mekkora hányadát érik el/bevonják ezekkel a kommunikációs eszközökkel? [x%] | G101: 0
A103: 33. kérdés | B103: Bevonják-e a munkavállalókat a fenntarthatósági intézkedésekre vonatkozó ötletek/javaslatok kidolgozásába és megvalósításába? Amennyiben igen, hogyan, és erre munkaidőben is van-e lehetőség (pl. ötletládák, innovációs műhelyek stb.)? Igazolás szükséges! | E103: Igazolások, pl. belső körlevelek, linkek vagy hasonló dokumentumok | G103: 1
G104: 0
A105: 33a. kérdés | B105: Mely tématerületekre fókuszálnak/fókuszáltak ennek során (pl. energiahatékonyság, klímavédelem és az üvegházhatásúgáz-kibocsátás csökkentése, vízgazdálkodás, fenntartható mobilitás, biodiverzitás és zöldterületek stb.)? | G105: 0
A107: 34. kérdés | B107: Amennyiben az elmúlt két évben a vállalat „BELSŐ szemléletformálás” témájú, fenntarthatósági kérdésekhez kapcsolódó projektet valósított meg, itt röviden bemutathatja azt (pl. belső versenyek és kihívások). Igazolás szükséges! | E107: Pl. fotók, linkek | G107: 1
A109: 35. kérdés | B109: Kapott-e a vállalat az elmúlt két évben a GREEN BRANDS minősítésen kívül különleges környezetvédelmi vagy fenntarthatósági díjat/elismerést, illetve jelölték-e ilyen díjra? Amennyiben igen, melyikre (pl. klímavédelmi díj, fenntarthatósági díj, környezetvédelmi díj, Energy Globe stb.)? Igazolás szükséges! | E109: Tanúsítvány / az elismerést igazoló dokumentum | G109: 3
A111: 36. kérdés | B111: Volt-e az elmúlt két évben célzott együttműködés NGO-kkal, tudományos intézményekkel, szakmai szövetségekkel, önkormányzatokkal stb. klímavédelmi témában? Amennyiben igen, milyen? | G111: 1
A113: 37. kérdés | B113: Végzett-e a vállalat az elmúlt két évben külső tájékoztatási vagy oktatási tevékenységet környezetvédelmi és fenntarthatósági témákban (pl. ügyfélprogramok, nyílt napok, társadalmi szemléletformáló kampányok stb.)? | G113: 1
F115: Summe: | G115: =SUM(G3:G113) -> 100

Sheet Értékelés
A1: Verpflichtendes Update bei Re-Validierung | B1: =_xlfn.TRANSLATE(Validáció!A1,"hu","de") -> Fragenummer | C1: =_xlfn.TRANSLATE(Validáció!B1,"hu","de") -> UNTERNEHMENSFRAGEBOG | D1: =_xlfn.TRANSLATE(Validáció!C1,"hu","de") -> Antwortoption (bitte auswählen) | E1: =_xlfn.TRANSLATE(Validáció!D1,"hu","de") -> Erklärung | F1: =_xlfn.TRANSLATE(Validáció!E1,"hu","de") -> Erforderlicher Beweis: Bitte geben Sie in der angegebenen Zelle den genauen Namen des angehängten Zertifikats an. (Überschreibt den Text der Anweisungen.) | G1: Max. Punkteanzahl Kategorien | H1: max. Punkte je Frage | I1: Erreichte Punkte | J1: Punkteschema
A3: bei Bedarf | B3: Frage0 | C3: Wie beurteilen Sie die Verankerung von Umweltthemen in Ihrem Unternehmen im Vergleich zum Standard in Ihrer Branche? Fokussieren Sie dabei auf die aktuelle Situation, geben Sie aber auch einen Ausblick auf zukünftige Ziele und Aktivitäten. | D3: =_xlfn.TRANSLATE(Validáció!C3,"hu","de") | E3: =_xlfn.TRANSLATE(Validáció!D3,"hu","de") | F3: =_xlfn.TRANSLATE(Validáció!E3,"hu","de")
A4: Unternehmenszweck | G4: 20
A5: ja | B5: Frage1 | C5: Wie hoch ist der Umsatzanteil ökologisch nachhaltiger Dienstleistungen am Gesamtumsatz des Unternehmens? [Xx%] | D5: =_xlfn.TRANSLATE(Validáció!C5,"hu","de") | E5: =_xlfn.TRANSLATE(Validáció!D5,"hu","de") | F5: =_xlfn.TRANSLATE(Validáció!E5,"hu","de") | H5: 20 | J5: Bewertung: x% * Art des Nachweises (1a)
C6: Beschreiben sie alle von Ihnen angebotenen Dienstleistungen und heben Sie die als ökologisch nachhaltig bezeichneten hervor. | D6: =_xlfn.TRANSLATE(Validáció!C6,"hu","de") | E6: =_xlfn.TRANSLATE(Validáció!D6,"hu","de") | F6: =_xlfn.TRANSLATE(Validáció!E6,"hu","de") | H6: 0
A7: ja | B7: Frage 1a | C7: Welche Umweltbelastungen werden durch diese Dienstleistungen reduziert oder vermieden? | D7: =_xlfn.TRANSLATE(Validáció!C7,"hu","de") -> Falls relevant, ersetzen Sie bitte das entsprechende "☐" durch "X". Mehrere Antworten können markiert werden. ☐ Energieverbrauch ☐ Treibhausgasemissionen ☐ Ressourcen- und Materialnutzung ☐ Abfallerzeugung ☐ Wasserverbrauch ☐ Umweltbelastungen durch Mobilität und Transport ☐ Sonstiges: __________________ | E7: =_xlfn.TRANSLATE(Validáció!D7,"hu","de") | F7: =_xlfn.TRANSLATE(Validáció!E7,"hu","de") | H7: 0
C8: Beschreiben sie die relevanten Auswirkungen kurz an Hand von relevanten Umweltkennzahlen. | D8: =_xlfn.TRANSLATE(Validáció!C8,"hu","de") | E8: =_xlfn.TRANSLATE(Validáció!D8,"hu","de") | H8: 0
A9: ja | B9: Frage 1b | C9: Wie wird die ökologische Nachhaltigkeit dieser Dienstleistungen nachgewiesen? Nachweis! | D9: =_xlfn.TRANSLATE(Validáció!C9,"hu","de") | E9: =_xlfn.TRANSLATE(Validáció!D9,"hu","de") | F9: =_xlfn.TRANSLATE(Validáció!E9,"hu","de") -> Zertifikate, Zertifizierungszeichen/Ökolabels, Testberichte, Berechnungen oder andere Dokumentationen | H9: 0 | J9: 100 % - Extern geprüft / Taxonomie-Konformität nachgewiesen 80% - Anerkanntes Umweltzeichen, Gütesiegel oder Zertifikat 60% Nachvollziehbare Produktinformationen / Nachhaltigkeitsbericht / Website 20% Selbsteinschätzung mit plausibler Begründung 10% Reine Selbsteinschätzung ohne Nachweis
A10: Nachhaltigkeit/Umweltmanagement-Systeme | G10: 15
A11: ja (Zertifikate müssen aktuell/gültig sein) | B11: Frage 2 | C11: Ist das Thema "Umwelt" in Form eines Umweltmanagementsystems gem. ISO14001 oder EMAS in Ihrem Unternehmen verankert? Nachweis! | D11: =_xlfn.TRANSLATE(Validáció!C11,"hu","de") | E11: =_xlfn.TRANSLATE(Validáció!D11,"hu","de") | F11: =_xlfn.TRANSLATE(Validáció!E11,"hu","de") -> Gültiges Zertifikat | H11: 5 | J11: 0% - Kein gültiges Zertifikat vorhanden 100% - gültiges Zertifikat vorhanden
A13: bei Bedarf (ggf. neuen Bericht schicken) | B13: Frage 3 | C13: Betreibt ihr Unternehmen ein umfassendes System zur laufenden Verbesserung der Nachhaltigkeit? (ökonomische, ökologische, gesellschaftliche/ethische Aspekte), falls ja bitte um Dokumentation (z.B. Verantwortlichkeiten/Einbettung in die Organisation, Einbeziehung von Stakeholder, aktueller Nachhaltigkeitsbericht, Impact Messung) Nachweis! | D13: =_xlfn.TRANSLATE(Validáció!C13,"hu","de") | E13: =_xlfn.TRANSLATE(Validáció!D13,"hu","de") | F13: =_xlfn.TRANSLATE(Validáció!E13,"hu","de") -> Nachhaltigkeitsbericht, Monitoring-Dashboard, Managementhandbuch, Prozessbeschreibung | H13: 5 | J13: 25%- Wesentlichkeitsanalyse vorhanden und Einbindung von Stakeholdern 25% - Impact-Messung vorhanden 50% - Aktueller Nachhaltigkeitsbericht vorhanden
A15: bei Bedarf (ggf. neuen Bericht schicken) | B15: Frage 4 | C15: Sind Sie gesetzlich verpflichtet einen Nachhaltigkeitsbericht zu erstellen? | D15: =_xlfn.TRANSLATE(Validáció!C15,"hu","de") | E15: =_xlfn.TRANSLATE(Validáció!D15,"hu","de") | F15: =_xlfn.TRANSLATE(Validáció!E15,"hu","de") | H15: 2 | J15: ja: 0 Punkte
A17: ja | B17: Frage 5 | C17: Nennen Sie im Bereich der ökologischen Nachhaltigkeit: 1.ihre wichtigsten 3 Ziele 2.die entsprechenden KPI´s (key performance indicators). 3.geben Sie jeweils den aktuellen Ist-Stand bekannt. Nachweis! | D17: =_xlfn.TRANSLATE(Validáció!C17,"hu","de") | E17: =_xlfn.TRANSLATE(Validáció!D17,"hu","de") | F17: =_xlfn.TRANSLATE(Validáció!E17,"hu","de") -> Dokumentation, z. B. Nachhaltigkeitsstrategie, Umweltpolitik, Nachhaltigkeitsbericht, Umweltindikatoren, Jahresvergleich (spezifisches Kapitel, Seite usw.) | H17: 3 | J17: Alle drei Bestandteile sind für 3 Ziele vorhanden und belegt: 100 %. Bei Teilantworten: Ziele 20 %, passende KPIs 40 %, aktuelle Ist-Werte mit Nachweis 40 %.
A18: Energieverbrauch | G18: 10
A19: bei Bedarf/Änderung | B19: Frage 6 | C19: Gibt es ein Energiemanagementsystem in Ihrem Unternehmen? (ISO 50001 oder vergleichbar) Nachweis! | D19: =_xlfn.TRANSLATE(Validáció!C19,"hu","de") | E19: =_xlfn.TRANSLATE(Validáció!D19,"hu","de") | F19: =_xlfn.TRANSLATE(Validáció!E19,"hu","de") -> Zertifikat | H19: 1 | J19: 0% - Kein gültiges Zertifikaat vorhanden 100% - gültiges Zertifikat vorhanden
A21: ja | B21: Frage 7 | C21: Wie hoch war ihr Gesamt-Jahresstromverbrauch über alle Standorte in den letzten drei Jahren? (MWh/Jahr) Nachweis! | D21: =_xlfn.TRANSLATE(Validáció!C21,"hu","de") -> Bitte füllen Sie die Tabelle "Jährlicher Stromverbrauch" im Arbeitsblatt "Tabellen" aus. | E21: =_xlfn.TRANSLATE(Validáció!D21,"hu","de") | F21: =_xlfn.TRANSLATE(Validáció!E21,"hu","de") -> Stromrechnungen, Energierechnungen, Zählerdaten/-abrechnungen, Energiemanagementberichte, interne Verbrauchsabrechnungen oder ESG-/Nachhaltigkeitsberichte mit Stromindikatoren. | H21: 1.5 | J21: 1. Daten vorhanden: 50% 2. +25% Im Jahr 3< Jahr1 3. +25% Wenn Maßnahmen beschrieben sind.
A23: ja | B23: Frage 7a | C23: Erläutern Sie die Gründe für Änderungen des Stromverbrauchs im angegebenen Zeitraum. (z.B. veränderte Mitarbeiterzahl, Fläche, Auslastung, Homeoffice, IT-Nutzung oder Effizienzmaßnahmen) | D23: =_xlfn.TRANSLATE(Validáció!C23,"hu","de") | E23: =_xlfn.TRANSLATE(Validáció!D23,"hu","de") | F23: =_xlfn.TRANSLATE(Validáció!E23,"hu","de")
A25: ja | B25: Frage 8 | C25: Wie hoch war ihr Gesamt-Wärmeverbrauch über alle Standorte in den letzten drei Jahren? (MWh/Jahr) Unterscheiden Sie Prozesswärme und Heizwärme. Nachweis! | D25: =Validáció!C25 -> Kérjük, töltse ki a „Táblázatok” munkalap „Hőenergia-felhasználás” táblázatát! | E25: =_xlfn.TRANSLATE(Validáció!D25,"hu","de") | F25: =_xlfn.TRANSLATE(Validáció!E25,"hu","de") | H25: 1.5 | J25: 1. Daten vorhanden: 50% 2. +25% Im Jahr 3< Jahr1 3. +25% Wenn Maßnahmen beschrieben sind.
A27: bei Bedarf/Änderung | B27: Frage 8a | C27: Erläutern Sie die Gründe für Änderungen des Wärmeverbrauchs im angegebenen Zeitraum. (z.B. geänderte Produktionsmengen, getätigte Energieeffizienzmaßnahmen) | D27: =_xlfn.TRANSLATE(Validáció!C27,"hu","de") | E27: =_xlfn.TRANSLATE(Validáció!D27,"hu","de") | F27: =_xlfn.TRANSLATE(Validáció!E27,"hu","de")
A29: ja | B29: Frage 9 | C29: Beziehen Sie zertifizierten Ökostrom (= Strom aus ausschließlich erneuerbaren Energieträgern)? Nachweis! | D29: =_xlfn.TRANSLATE(Validáció!C29,"hu","de") -> Falls relevant, ersetze bitte das entsprechende "☐" durch "X". Ort 1: _________ ☐ Ja Nein ☐ Standort 2: _________ ☐ Ja Nein ☐ Ort 3: _________ ☐ Ja Nein ☐ usw. | E29: =_xlfn.TRANSLATE(Validáció!D29,"hu","de") | F29: =_xlfn.TRANSLATE(Validáció!E29,"hu","de") -> Bitte fügen Sie das aktuelle grüne Stromzertifikat bei. Für jeden Standort fügen Sie die Dokumentation des aktuellen Strommixes des Energieversorgers an (Quelle: Stromrechnung). | H29: 1 | J29: aliquote Punkte pro Standort mit gültigem Ökostromzertifikat (z.B. 5 Standorte, davon 2 ja: dann 2/5 Punkte)
A31: bei Bedarf/Änderung | B31: Frage 10 | C31: Wird vom Unternehmen selbst vor Ort Strom erzeugt (aus erneuerbaren Energiequellen)? | D31: =_xlfn.TRANSLATE(Validáció!C31,"hu","de") | E31: =_xlfn.TRANSLATE(Validáció!D31,"hu","de") | F31: =_xlfn.TRANSLATE(Validáció!E31,"hu","de") | H31: 1 | J31: Antwort ja & Dokumentation vorhanden: 50%; Zusatzpunkte je nach Größe: >10%<50% Gesamtstrom-Bedarf: +25% >50%: volle Punke
A33: bei Bedarf/Änderung | B33: Frage 10a | C33: Mit welcher Technologie und in welchem Ausmaß? (MWh/a) | D33: =_xlfn.TRANSLATE(Validáció!C33,"hu","de") | E33: =_xlfn.TRANSLATE(Validáció!D33,"hu","de") | F33: =_xlfn.TRANSLATE(Validáció!E33,"hu","de")
A35: ja | B35: Frage 11 | C35: Woraus beziehen Sie Ihre Wärmeenergie? (Heizung, Warmwasser) Bitte um Angabe der Anteile der einzelnen Energieträger am gesamten Wärmeverbrauch über alle Standorte des Unternehmens in MWh und % Nachweis! | D35: =_xlfn.TRANSLATE(Validáció!C35,"hu","de") -> Bitte füllen Sie die Tabelle "Energie & kWh" im Arbeitsblatt "Tabellen" aus. | E35: =_xlfn.TRANSLATE(Validáció!D35,"hu","de") | F35: =_xlfn.TRANSLATE(Validáció!E35,"hu","de") -> Zertifikat, z. B. Heizkostenabrechnungen, Energierechnungen, Zählerdaten/-abrechnungen, Fernwärme-Siedlungen, Energiebericht, Nachhaltigkeitsbericht oder interne Verbrauchsrechnung. | H35: 1 | J35: Punkte % analog zu % Anteil Summe erneuerbare Energieträger Wärme alle Standorte (Biomasse, Wärmepumpe, Geothermie..)
A37: bei Bedarf/Änderung | B37: Frage 12 | C37: Wird vom Unternehmen selbst vor Ort Wärme erzeugt (aus erneuerbaren Energiequellen)? | D37: =_xlfn.TRANSLATE(Validáció!C37,"hu","de") | E37: =_xlfn.TRANSLATE(Validáció!D37,"hu","de") | F37: =_xlfn.TRANSLATE(Validáció!E37,"hu","de") | H37: 1 | J37: Antwort ja & Dokumentation vorhanden: 50%; Zusatzpunkte je nach Größe: >10%<50% Gesamtwärme-Bedarf: +25% >50%: volle Punke
A39: 0 | B39: Frage 12a | C39: Mit welcher Technologie und in welchem Ausmaß? (MWh/a) | D39: =_xlfn.TRANSLATE(Validáció!C39,"hu","de") | E39: =_xlfn.TRANSLATE(Validáció!D39,"hu","de") | F39: =_xlfn.TRANSLATE(Validáció!E39,"hu","de")
A41: bei Bedarf/Änderung | B41: Frage13 | C41: Welche Energieeffizienzklasse(n) hat/haben ihre Unternehmensgebäude? | D41: =_xlfn.TRANSLATE(Validáció!C41,"hu","de") -> Bitte füllen Sie die Tabelle "Energieeffizienzklasse" im Arbeitsblatt "Tabellen" aus. | E41: =_xlfn.TRANSLATE(Validáció!D41,"hu","de") | F41: =_xlfn.TRANSLATE(Validáció!E41,"hu","de") | H41: 1 | J41: Auswertung bei mehreren Standorten: HWB Angaben gewichtet nach Anteil m² 100% bei max 15 kWh/m² BGF-Ref 75% bei max 25 kWh/m² BGF-Ref 50% bei max 50 kWh/m² BGF-Ref 25% bei max 100 kWh/m² BGF-Ref
A43: ja | B43: Frage14 | C43: Wenn Sie im letzten Jahr ein Projekt zum Thema "Energie"durchgeführt haben, haben Sie hier die Gelegenheit dieses kurz vorzustellen. Nachweis! | D43: =_xlfn.TRANSLATE(Validáció!C43,"hu","de") -> Falls relevant, ersetzen Sie bitte das entsprechende "☐" durch "X". Mehrere Antworten können markiert werden. ☐ Verbesserung der Energieeffizienz von Gebäuden, z. B. Renovierung ☐ Erneuerbare Energien oder Selbsterzeugung, z. B. Photovoltaiksysteme, ☐ Optimieren Sie Heizung, Kühlung oder Belüftung ☐ Umstellung auf energieeffiziente Beleuchtung, z. B. LED ☐ Anwendung energieeffizienter Geräte oder IT-Systeme ☐ Optimierung der Betriebsprozesse ☐ Energiemanagement oder Verbrauchsüberwachung ☐ Mitarbeiterschulung oder Sensibilisierung ☐ Sonstiges: __________ ☐ Kein Energieprojekt umgesetzt | E43: =_xlfn.TRANSLATE(Validáció!D43,"hu","de") | F43: =_xlfn.TRANSLATE(Validáció!E43,"hu","de") -> Projektbeschreibung, Link | H43: 1 | J43: volle Punkte wenn inhaltlich neues Projekt & bisher nicht genannt im FB, sonst 0 (keine Punkte für bloße "updates")
A44: Resourcenverbrauch | G44: 10
A45: bei Bedarf/Änderung | B45: Frage 15 | C45: Erfasst Ihr Unternehmen regelmäßig den Verbrauch den für die Erbringung ihrer Dienstleistung wesentlicher Materialien und Ressourcen? Nachweis! | D45: =_xlfn.TRANSLATE(Validáció!C45,"hu","de") | E45: =_xlfn.TRANSLATE(Validáció!D45,"hu","de") | F45: =_xlfn.TRANSLATE(Validáció!E45,"hu","de") -> Abstract / Dokumentationszertifikat | H45: 2
A47: ja | B47: Frage15a | C47: Welche Materialien und Ressourcen werden erfasst? | D47: =_xlfn.TRANSLATE(Validáció!C47,"hu","de") -> Bitte füllen Sie die Tabelle "Material Use" im Arbeitsblatt "Tabellen" aus. | E47: =_xlfn.TRANSLATE(Validáció!D47,"hu","de") | F47: =_xlfn.TRANSLATE(Validáció!E47,"hu","de") | J47: 1 punkt für jeden Bereich multipliziert mit jeweiligem % Anteil
A49: bei Bedarf/Änderung | B49: Frage16 | C49: Welche Maßnahmen zur Verringerung des Ressourcenverbrauchs wurden in den letzten drei Jahren umgesetzt? | D49: =_xlfn.TRANSLATE(Validáció!C49,"hu","de") -> Falls relevant, ersetzen Sie bitte das entsprechende "☐" durch "X". Mehrere Antworten können markiert werden. ☐ Reduzierung des Ressourcenverbrauchs der bereitgestellten Dienstleistung (Kerngeschäft) ☐ Digitalisierung und Reduzierung des Verbrauchs von Papier und Bürobedarf ☐ Wiederverwendung von Materialien oder Produkten ☐ Ausrüstung reparieren und über längere Zeiträume verwenden ☐ Vermeiden Sie Einwegprodukte ☐ Verpackung reduzieren oder vermeiden ☐ Nachhaltige Beschaffung von Produkten und Dienstleistungen ☐ Mitarbeiterschulung oder Sensibilisierung ☐ Andere Messgröße: __________ ☐ Es wurden keine Maßnahmen ergriffen | E49: =_xlfn.TRANSLATE(Validáció!D49,"hu","de") | F49: =_xlfn.TRANSLATE(Validáció!E49,"hu","de") | H49: 6 | J49: 25% bei oberen drei Auswahlmöglichkeiten, sonst je 10%, max 100%
A51: bei Bedarf/Änderung | B51: Frage 17 | C51: Werden beim Einkauf umweltfreundliche Produkte und Dienstleistungen bevorzugt? Nachweis! | D51: =_xlfn.TRANSLATE(Validáció!C51,"hu","de") | E51: =_xlfn.TRANSLATE(Validáció!D51,"hu","de") | F51: =_xlfn.TRANSLATE(Validáció!E51,"hu","de") -> Beschaffungspolitik, Verhaltenskodex für Lieferanten, Umweltzertifizierungen | H51: 1 | J51: ja 100% nein 0
A53: bei Bedarf/Änderung | B53: Frage 18 | C53: Findet im Unternehmen ein ökologisches Office Management statt? (z.B. geringer Papierverbrauch, Leitungswasser anstatt Mineralwasser, Ökoboxen) | D53: =_xlfn.TRANSLATE(Validáció!C53,"hu","de") | E53: =_xlfn.TRANSLATE(Validáció!D53,"hu","de") | F53: =_xlfn.TRANSLATE(Validáció!E53,"hu","de") | H53: 1 | J53: ja 100% nein 0
A54: Emissionen | G54: 10
A55: ja | B55: Frage 19 | C55: Liegt ein aktuell gültiger CO2-Fußabdruck (Unternehmen, Produkte) vor? Falls der Fußabdruck nur für Unternehmensteile bzw. einzelne Produkte vorliegt, bitte um Erläuterung. Nachweis! | D55: =_xlfn.TRANSLATE(Validáció!C55,"hu","de") | E55: =_xlfn.TRANSLATE(Validáció!D55,"hu","de") | F55: =_xlfn.TRANSLATE(Validáció!E55,"hu","de") -> THG/CO₂-Inventar, Berechnung des CO₂-Fußabdrucks oder zugehöriges Zertifikat | H55: 4 | J55: Extern geprüft / zertifiziert - 100 % der Punkte Nach anerkannter Methode erstellt, aber nicht extern geprüft - 75 % der Punkte Interne Berechnung mit nachvollziehbarer Methodik - 50 % der Punkte
A57: ja | B57: Frage 20 | C57: Wie hoch waren ihr Gesamt-Emissionen über alle Standorte (Unternehmen) in den letzten drei Jahren? (t CO2eq/Jahr) | D57: =_xlfn.TRANSLATE(Validáció!C57,"hu","de") -> Bitte füllen Sie die Tabelle "Emissionen" im Arbeitsblatt "Tabellen" aus. | E57: =_xlfn.TRANSLATE(Validáció!D57,"hu","de") | F57: =_xlfn.TRANSLATE(Validáció!E57,"hu","de") | H57: 4 | J57: 1. Daten vorhanden: 50% 2. +25% Im Jahr 3< Jahr1 3. +25% Wenn Maßnahmen beschrieben sind.
H58: 0
A59: bei Bedarf/Änderung | B59: Frage 20a | C59: Erläutern Sie die Gründe für Änderungen der Gesamt-Emissionen im angegebenen Zeitraum. (z.B. getätigte Energieeffizienzmaßnahmen/ nachhaltige Mobilität / weniger Dienstreisen / nachhaltige Beschaffung / effiziente IT und Rechenzentren / Sonstige) | D59: =_xlfn.TRANSLATE(Validáció!C59,"hu","de") | E59: =_xlfn.TRANSLATE(Validáció!D59,"hu","de") | F59: =_xlfn.TRANSLATE(Validáció!E59,"hu","de") | H59: 0
A61: ja | B61: Frage 21 | C61: Wenn Sie in den letzten zwei Jahren ein (neues) Projekt zum Thema "Klimaschutz/Klimaforschung" durchgeführt haben, haben Sie hier die Gelegenheit dieses kurz vorzustellen. Nachweis! | D61: =_xlfn.TRANSLATE(Validáció!C61,"hu","de") | E61: =_xlfn.TRANSLATE(Validáció!D61,"hu","de") | F61: =_xlfn.TRANSLATE(Validáció!E61,"hu","de") -> Projektbeschreibung, Link | H61: 2 | J61: volle Punkte wenn inhaltlich neues Projekt & bisher nicht genannt im FB, sonst 0
A62: Mobilität | G62: 10
A63: ja | B63: Frage 22 | C63: Wird ein eigener Fuhrpark eingesetzt? (PKW/LKW) Für welche Zwecke? Wieviele Fahrzeuge umfasst dieser? Nachweis! | D63: =_xlfn.TRANSLATE(Validáció!C63,"hu","de") | E63: =_xlfn.TRANSLATE(Validáció!D63,"hu","de") | F63: =_xlfn.TRANSLATE(Validáció!E63,"hu","de") -> Fahrzeugflottenliste | H63: 6 | J63: Maximal volle Punkte wenn auch LKWs im Fuhrpark bzw. mehr als 10 PKWs; sonst maximal 50% multipliziert mit den Prozentwerten der Frage 24b:
H64: 0
A65: ja | B65: Frage 22a | C65: Geben Sie den Anteil der Fahrzeuge pro eingesetzten Treibstoff an. | D65: =_xlfn.TRANSLATE(Validáció!C65,"hu","de") -> Bitte füllen Sie die Tabelle "Laufwerkstyp" im Arbeitsblatt "Tabellen" aus. | E65: =_xlfn.TRANSLATE(Validáció!D65,"hu","de") | F65: =_xlfn.TRANSLATE(Validáció!E65,"hu","de") | H65: 0 | J65: nur für Plausibilitätscheck
H66: 0
A67: ja | B67: Frage 22b | C67: Wie hoch war ihr Gesamt-Jahres-Treibstoffbedarf ihres Unternehmensfuhrparks in den letzten drei Jahren? | D67: =_xlfn.TRANSLATE(Validáció!C67,"hu","de") -> Bitte füllen Sie die Tabelle "Kraftstoffverbrauch" im Arbeitsblatt "Tabellen" aus. | E67: =_xlfn.TRANSLATE(Validáció!D67,"hu","de") | F67: =_xlfn.TRANSLATE(Validáció!E67,"hu","de") | H67: 0 | J67: 1. Daten vorhanden: 50% 2. +25 % Im Jahr 3< Jahr1 3. +10 % Wenn Maßnahmen beschrieben sind (außer Umstellung auf E-Mobilität). 4. +15 % wenn mehr als 50% des Fuhrparks auf E-Mobilität (nicht Hybrid) umgestellt ist
H68: 0
A69: ja | B69: Frage 22c | C69: Erläutern Sie die Gründe für Änderungen des Treibstoffverbrauchs im angegebenen Zeitraum. (z.B. aktive Maßnahmen zur Reduktion des Energieverbrauchs im Transportbereich wie z.B. Elektrifizierung des Fuhrparks oder geänderte Rahmenbedingungen) | D69: =_xlfn.TRANSLATE(Validáció!C69,"hu","de") | E69: =_xlfn.TRANSLATE(Validáció!D69,"hu","de") | F69: =_xlfn.TRANSLATE(Validáció!E69,"hu","de") | H69: 0
A71: bei Bedarf/Änderung | B71: Frage 23 | C71: Haben Sie eine aktuell gültige Richtlinie, um den ökologischen Fußabdruck von Geschäftsreisen zu reduzieren? Inhalt einer solchen Richtlinie ist z. B.: Überprüfung der Notwendigkeit von Geschäftsreisen, Bevorzugung von Online-Besprechungen, Bevorzugung von Bahnreisen gegenüber Flugreisen, Nutzung emissionsarmer Verkehrsmittel. Nachweis! | D71: =_xlfn.TRANSLATE(Validáció!C71,"hu","de") | E71: =_xlfn.TRANSLATE(Validáció!D71,"hu","de") | F71: =_xlfn.TRANSLATE(Validáció!E71,"hu","de") -> Geschäftsreisepolitik | H71: 2 | J71: 50% wenn Richtlinie vorhanden, volle Punkte wenn auch Monitoring
A72: 0 | B72: Frage 23a | C72: Monitoren Sie Ihre Geschäftsreisen nach ökologischen Gesichtspunkten? (zurückgelegte Strecke, Verkehrsmittel...) Nachweis! | D72: =_xlfn.TRANSLATE(Validáció!C72,"hu","de") | E72: =_xlfn.TRANSLATE(Validáció!D72,"hu","de") | F72: =_xlfn.TRANSLATE(Validáció!E72,"hu","de") -> Reisekostenberichte, Eisenbahn-/Luftfahrtstatistiken | H72: 0
A74: bei Bedarf/Änderung | B74: Frage 24 | C74: Unterstützen Sie ihre Mitarbeiter dabei ,dass sie umweltfreundlich zu Ihrem Standort / Standorten anreisen oder die Anzahl der Anreisen gänzlich vermeiden oder reduzieren können? Falls ja, wie z.B. Jobticket, Homeoffice Regelungen, Bike-leasing,… | D74: =_xlfn.TRANSLATE(Validáció!C74,"hu","de") | E74: =_xlfn.TRANSLATE(Validáció!D74,"hu","de") | F74: =_xlfn.TRANSLATE(Validáció!E74,"hu","de") | H74: 2 | J74: volle Punkte wenn mehrere Maßnahmen, 25% wenn eine Maßnahme, sonst 0
A75: Wasserverbrauch | G75: 5
A76: bei Bedarf/Änderung | B76: Frage 25 | C76: In welchen Bereichen ihres Unternehmens ist Wasserverbrauch von Relevanz? Nachweis! | D76: =_xlfn.TRANSLATE(Validáció!C76,"hu","de") -> Falls relevant, ersetzen Sie bitte das entsprechende "☐" durch "X". Mehrere Antworten können markiert werden. ☐ Wasserverbrauch steht im Zusammenhang mit der Bereitstellung des angebotenen Dienstes ☐ Bewässerung von Grünflächen ☐ Sanitäre Einrichtungen ☐ Küche ☐ Sonstiges: ______ | E76: =_xlfn.TRANSLATE(Validáció!D76,"hu","de") -> Wenn der Wasserverbrauch im Zusammenhang mit der Erbringung des Dienstes relevant ist: Bitte geben Sie eine Erklärung an. | F76: =_xlfn.TRANSLATE(Validáció!E76,"hu","de") -> Standortliste/-übersicht, Prozessbeschreibung, Dokumentation des Umweltmanagements | H76: 3
A77: bei Bedarf/Änderung | B77: Frage 25a | C77: Welche Maßnahmen zur Reduktion des Wasserverbrauchs werden gesetzt? | D77: =_xlfn.TRANSLATE(Validáció!C77,"hu","de") -> Falls relevant, ersetzen Sie bitte das entsprechende "☐" durch "X". Mehrere Antworten können markiert werden. ☐ Reduzierung des Wasserverbrauchs im Zusammenhang mit dem angebotenen Service ☐ Reduzieren Sie den Wasserverbrauch im Büro ☐ Überwachung des Wasserverbrauchs ☐ Sensibilisierung ☐ Änderung technischer oder betrieblicher Prozesse ☐ Sonstiges ☐ Ein solches Maß gibt es nicht | E77: =_xlfn.TRANSLATE(Validáció!D77,"hu","de") | F77: =_xlfn.TRANSLATE(Validáció!E77,"hu","de") | H77: 0 | J77: _volle Punkte wenn Wasser relevant für DL und Maßnahmen zur Reduktion Wasserverbrauch bei DL beschrieben werden _75% wenn kein Wasser für DL relevant und sonstige Maßnahmen ausgewählt wurden '-50% wenn Wasser bei DL und sonstige Maßnahmen ' keine: nichts
A79: ja | B79: Frage 26 | C79: Kennen Sie den Wasserverbrauch bezogen auf Ihre Dienstleistung? Falls ja, nennen Sie die relevanten KPIs und deren Entwicklung in den letzten 3 Jahren Erläutern Sie die Gründe für Änderungen des Wasserverbrauchs im angegebenen Zeitraum. (z.B getätigte Wassersparmaßnahmen, geänderte Büroauslastung, veränderte Mitarbeiterzahl, usw ). Nachweis! | D79: =_xlfn.TRANSLATE(Validáció!C79,"hu","de") | E79: =_xlfn.TRANSLATE(Validáció!D79,"hu","de") -> Falls relevant: Erklärung, z. B. Wasserverbrauch pro Kunde, pro Gast oder pro Einnahmeeinheit. | F79: =_xlfn.TRANSLATE(Validáció!E79,"hu","de") -> Wasserversorgungsrechnungen/-abrechnungen, Zählerlesungen, Nachhaltigkeitsbericht, interne Überwachung | H79: 1 | J79: 1. Daten vorhanden: 50% 2. +25% Im Jahr 3< Jahr1 3. +25% Wenn Maßnahmen beschrieben sind.
A81: bei Bedarf/Änderung | B81: Frage 27 | C81: Entsteht bei ihre Unternehmenstätigkeit Abwasser, das über Haushaltmengen hinausgeht? Nachweis! | D81: =_xlfn.TRANSLATE(Validáció!C81,"hu","de") | E81: =_xlfn.TRANSLATE(Validáció!D81,"hu","de") | F81: =_xlfn.TRANSLATE(Validáció!E81,"hu","de") -> Abwasserablagerung/-extraktion | H81: 1 | J81: 27a. falls Maßnahmen beschrieben aber 27 Abwasser nicht über Haushaltsmengen: 50%, wenn Abwasser 27a nein und keine Maßnahmen: 25% („nicht relevant“)
H82: 0
A83: bei Bedarf/Änderung | B83: Frage 27a | C83: Welche Maßnahmen, die über die gesetzlichen Vorschriften hinausgehen, werden zur Abwasserbehandlung und -vermeidung vorgenommen? Nachweis! | D83: =_xlfn.TRANSLATE(Validáció!C83,"hu","de") | E83: =_xlfn.TRANSLATE(Validáció!D83,"hu","de") | F83: =_xlfn.TRANSLATE(Validáció!E83,"hu","de") -> Aktionsbericht / Link | H83: 0
A84: Abfallstrategie | G84: 10
A85: bei Bedarf/Änderung | B85: Frage 28 | C85: Wird ihr Abfallaufkommen getrennt nach Abfallarten erfasst? Nachweis! | D85: =_xlfn.TRANSLATE(Validáció!C85,"hu","de") -> Bitte füllen Sie die Tabelle "Abfalltyp" im Arbeitsblatt "Tabellen" aus. | E85: =_xlfn.TRANSLATE(Validáció!D85,"hu","de") | F85: =_xlfn.TRANSLATE(Validáció!E85,"hu","de") -> Abfallskalen, Entsorgungs-/Entsorgungsbelege, interne Abfallstatistiken, Nachhaltigkeitsbericht | H85: 2
A87: ja | B87: Frage 29 | C87: Welche Maßnahmen zur Abfallvermeidung oder Wiederverwendung werden umgesetzt? Beschreiben Sie die Maßnahmen und erzielten Verbesserungen (erzielte Verbesserungen können z.B. sein: Verbesserung der getrennten Abfallsammlung,Verringerung der Abfallmenge, die Zunahme der Wiederverwendung, Reduzierung des Materialverbrauchs, erzielte Kosteneinsparungen.) | D87: =_xlfn.TRANSLATE(Validáció!C87,"hu","de") -> Falls relevant, ersetzen Sie bitte das entsprechende "☐" durch "X". Mehrere Antworten können markiert werden. ☐ Vermeiden Sie Einwegprodukte ☐ Verwendung wiederverwendbarer Systeme ☐ Ausrüstung reparieren und über längere Zeiträume verwenden ☐ Wiederverwendung oder Transfer von Ausrüstung und Materialien ☐ Rücknahme oder Wiederverwendung von Verpackungen ☐ Papiersparfunktion ☐ Andere Messgröße: __________________ ☐ Es wurden keine Maßnahmen ergriffen | E87: =_xlfn.TRANSLATE(Validáció!D87,"hu","de") | F87: =_xlfn.TRANSLATE(Validáció!E87,"hu","de") | H87: 4 | J87: wenn mind. 2 Maßnahmen gesetzt 50%, wenn auch quantifizierte Einsparung volle Punkte; bei nur einer Maßnahme 25%, bei quantif. Einsparung 50%
A89: bei Bedarf/Änderung | B89: Frage 30 | C89: Werden die Mitarbeiter über richtige Abfallentsorgung informiert (z.B. interne Informationsmaterialien, Kennzeichnungen und Piktogramme, interne Kommunikation, Schulungen oder Weiterbildungen,...)? Wenn ja, wie? Nachweis! | D89: =_xlfn.TRANSLATE(Validáció!C89,"hu","de") | E89: =_xlfn.TRANSLATE(Validáció!D89,"hu","de") | F89: =_xlfn.TRANSLATE(Validáció!E89,"hu","de") -> Fotos, Links | H89: 2 | J89: volle Punkte wenn ja mind. 2 Maßnahmen und Beschreibung (Info und Beschilderung), 50% wenn ja und Einzelmaßnahme
A91: bei Bedarf/Änderung | B91: Frage 31 | C91: Fallen in im Rahmen ihrer Unternehmenstätigkeit gefährliche Abfälle an? Falls ja, welche? | D91: =_xlfn.TRANSLATE(Validáció!C91,"hu","de") | E91: =_xlfn.TRANSLATE(Validáció!D91,"hu","de") | F91: =_xlfn.TRANSLATE(Validáció!E91,"hu","de") | H91: 2 | J91: volle Punkte: keine gefährlichen Abfälle; 25% bei Reduktion
H92: 0
A93: bei Bedarf/Änderung | B93: Frage 31a | C93: Werden Maßnahmen zur Reduktion gefährlicher Abfälle gesetzt? Falls ja, welche? (z.B. Ersatz gefährlicher Stoffe durch weniger gefährliche Alternativen, Reduzierung gefährlicher Abfälle durch technologische Verbesserungen, Optimierung des Einsatzes gefährlicher Stoffe, …) | D93: =_xlfn.TRANSLATE(Validáció!C93,"hu","de") | E93: =_xlfn.TRANSLATE(Validáció!D93,"hu","de") | F93: =_xlfn.TRANSLATE(Validáció!E93,"hu","de") | H93: 0
A94: Bewusstseinsbildung | G94: 10
A95: bei Bedarf/Änderung | B95: Frage 32 | C95: Gibt es regelmäßige Mitarbeiterschulungen/Infoveranstaltungen/ Diskussionsgruppen zum Thema Umweltschutz? Nachweis! | D95: =_xlfn.TRANSLATE(Validáció!C95,"hu","de") | E95: =_xlfn.TRANSLATE(Validáció!D95,"hu","de") | F95: =_xlfn.TRANSLATE(Validáció!E95,"hu","de") -> Zertifizierung, z. B. Trainingsplan, Schulungsmaterialien, interne Kommunikationspläne, Trainingskalender | H95: 3 | J95: volle Punkte 100% wenn monatlich oder häufiger, 50% wenn quartalsweise, sonst 25% bei "ja") multipliziert mit dem Anteil der Mitarbeiter erreicht
H96: 0
A97: bei Bedarf/Änderung | B97: Frage 32a | C97: Wie häufig finden diese statt? | D97: =_xlfn.TRANSLATE(Validáció!C97,"hu","de") | E97: =_xlfn.TRANSLATE(Validáció!D97,"hu","de") | F97: =_xlfn.TRANSLATE(Validáció!E97,"hu","de") | H97: 0
H98: 0
A99: bei Bedarf/Änderung | B99: Frage 32b | C99: Welche Instrumente/Kanäle/Plattformen werden dazu verwendet? | D99: =_xlfn.TRANSLATE(Validáció!C99,"hu","de") | E99: =_xlfn.TRANSLATE(Validáció!D99,"hu","de") | F99: =_xlfn.TRANSLATE(Validáció!E99,"hu","de") | H99: 0
H100: 0
A101: bei Bedarf/Änderung | B101: Frage 32c | C101: Wie hoch ist der Anteil der Mitarbeiter, die über diese Kommunikations-Instrumente involviert werden? [x%] | D101: =_xlfn.TRANSLATE(Validáció!C101,"hu","de") | E101: =_xlfn.TRANSLATE(Validáció!D101,"hu","de") | F101: =_xlfn.TRANSLATE(Validáció!E101,"hu","de") | H101: 0
A103: bei Bedarf/Änderung | B103: Frage 33 | C103: Werden die Mitarbeiter involviert, um Ideen / Ansätze für Nachhaltigkeits-Maßnahmen einzubringen / umzusetzen? Wenn ja, wie und ist dies im Rahmen der Arbeitszeit möglich? (z.B. Ideenboxen, Innovationswerkstätten, …) Nachweis! | D103: =_xlfn.TRANSLATE(Validáció!C103,"hu","de") | E103: =_xlfn.TRANSLATE(Validáció!D103,"hu","de") | F103: =_xlfn.TRANSLATE(Validáció!E103,"hu","de") -> Zertifikate, z. B. interne Rundschreiben, Links oder ähnliche Dokumente | H103: 1 | J103: ja & Beschreibung: volle Punkte, sonst 0
H104: 0
A105: bei Bedarf/Änderung | B105: Frage 33a | C105: Welche Themenbereiche werden/wurden dabei fokussiert? (z.B. Energieeffizienz, Klimaschutz und Reduzierung der Treibhausgasemissionen, Wassermanagement, Nachhaltige Mobilität, Biodiversität und Grünflächen,…) | D105: =_xlfn.TRANSLATE(Validáció!C105,"hu","de") | E105: =_xlfn.TRANSLATE(Validáció!D105,"hu","de") | F105: =_xlfn.TRANSLATE(Validáció!E105,"hu","de") | H105: 0
A107: ja | B107: Frage 34 | C107: Wenn Sie in den letzten zwei Jahren ein Projekt zum Thema "Bewusstseinsbildung INTERN" (in Hinblick auf Nachhaltigkeitsthemen) durchgeführt haben, haben Sie hier die Gelegenheit dieses kurz vorzustellen. (z.B.: Interne Wettbewerbe und Challenges) Nachweis! | D107: =_xlfn.TRANSLATE(Validáció!C107,"hu","de") | E107: =_xlfn.TRANSLATE(Validáció!D107,"hu","de") | F107: =_xlfn.TRANSLATE(Validáció!E107,"hu","de") -> Zum Beispiel Fotos, Links | H107: 1 | J107: volle Punkte wenn inhaltlich neues Projekt & bisher nicht genannt im FB, sonst 0
A109: ja | B109: Frage 35 | C109: Haben Sie in den letzten zwei Jahren besondere umwelt- bzw. nachhaltigkeitsrelevante Auszeichnungen, mit Ausnahme von Green Brands erhalten oder waren Sie nominiert? Wenn ja, welche? (z.B. Klimaschutzpreis, Nachhaltigkeitspreis, Umweltpreis, Energy Globe etc.) Nachweis! | D109: =_xlfn.TRANSLATE(Validáció!C109,"hu","de") | E109: =_xlfn.TRANSLATE(Validáció!D109,"hu","de") | F109: =_xlfn.TRANSLATE(Validáció!E109,"hu","de") -> Zertifikat / Dokument, das die Anerkennung bestätigt | H109: 3 | J109: volle Punkte bei Auszeichnung (GB gilt nicht), 50% bei Nominierung
A111: ja | B111: Frage 36 | C111: Gab es in den letzten zwei Jahren gezielte Kooperationen mit NGOs, wissenschaftlichen Einrichtungen, Verbänden, Gemeinden etc. zum Thema Klimaschutz? Wenn ja, welche? | D111: =_xlfn.TRANSLATE(Validáció!C111,"hu","de") | E111: =_xlfn.TRANSLATE(Validáció!D111,"hu","de") | F111: =_xlfn.TRANSLATE(Validáció!E111,"hu","de") | H111: 1 | J111: ja & Beschreibung: volle Punkte, sonst 0
A113: ja | B113: Frage 37 | C113: Hat Ihr Unternehmen in den letzten zwei Jahren externe Informations- oder Bildungsaktivitäten zu Umwelt- und Nachhaltigkeitsthemen durchgeführt? (z.B. Programme für Kunden, Tage der offenen Tür, Kampagnen zur gesellschaftlichen Bewusstseinsbildung, ...) | D113: =_xlfn.TRANSLATE(Validáció!C113,"hu","de") | E113: =_xlfn.TRANSLATE(Validáció!D113,"hu","de") | F113: =_xlfn.TRANSLATE(Validáció!E113,"hu","de") | H113: 1 | J113: ja & Beschreibung: volle Punkte, sonst 0
G115: Summe: | H115: =SUM(H3:H113) -> 100 | I115: =SUM(I2:I113) -> 0

Sheet Táblázatok
A1: A kérdések a vállalat valamennyi telephelyére vonatkoznak:
A2: Megjegyzés: Az összesített fogyasztási adatoknál a validált vállalat adott országban található valamennyi releváns telephelyét figyelembe kell venni. Az azonos jellegű telephelyek összevonhatók. A hálózatról vételezett és a napelemes (PV) villamos energiát külön kell feltüntetni.
A4: 7. kérdés: | B4: Éves villamosenergia-felhasználás
B5: Év | C5: 1. telephely: …........ [MWh] | D5: 2. telephely: …........ [MWh] | E5: 3. telephely: …........ [MWh] | F5: n. telephely: …........ [MWh]
B6: 2023
B7: 2024
B8: 2025
A11: 8. kérdés: | B11: Hőenergia-felhasználás | C11: 1. telephely: …........ | E11: 2. telephely: …........ | G11: 3. telephely: …........
B12: Év | C12: [MWh] | D12: ebből technológiai hő aránya (%) | E12: [MWh] | F12: ebből technológiai hő aránya (%) | G12: [MWh] | H12: ebből technológiai hő aránya (%)
B13: 2023
B14: 2024
B15: 2025
A18: 11. kérdés: | B18: Energiahordozók és kWh: | C18: Referenciaév:
B19: Energiahordozó / hőforrás | C19: Felhasználás MWh/év | D19: A teljes hőenergia-felhasználáson belüli arány (%) | E19: Megjegyzés
B20: Földgáz
B21: Fűtőolaj
B22: Távhő | E22: Kérjük, adja meg a felhasznált energiahordozókat, pl. faapríték, hulladék, földgáz, hulladékhő.
B23: Biomassza
B24: Hőszivattyú | E24: Kérjük, adja meg a felhasznált villamos energia forrását, pl. hálózati vételezés vagy napelemes (PV) villamos energia.
B25: Napenergia (napkollektor)
B26: Geotermikus energia
B27: Egyéb | E27: Kérjük, részletezze.
B28: Összesen | C28: =SUM(C20:C27) -> 0 | D28: =SUM(D20:D27) -> 0
A31: 13. kérdés: | B31: Energiahatékonysági osztály
B32: Telephely | C32: HWB kWh/m² BGF-Ref | D32: BGF (m²)
B33: 1. telephely
B34: 2. telephely
B35: 3. telephely
B36: 4. telephely
B37: Szükség esetén további sorok beszúrhatók.
A40: 15a. kérdés: | B40: Anyagfelhasználás | C40: Referenciaév:
B41: Anyag / erőforrás | C41: Éves felhasználás | D41: Mértékegység [pl. kg, db, liter...] | E41: Fenntartható/újrahasznosított arány [%]
A53: 20. kérdés: | B53: Kibocsátások
B54: Év | C54: Kibocsátás [t CO₂e]
B55: 2023
B56: 2024
B57: 2025
A60: 22a. kérdés: | B60: Hajtástípus | C60: Referenciaév:
B61: Hajtástípus | C61: Járművek száma
B62: Dízel
B63: Benzin
B64: Hibrid
B65: BEV / elektromos
B66: Egyéb
B67: Összesen
A70: 22b. kérdés: | B70: Üzemanyag-/energiafelhasználás
B71: Év | C71: Dízel [liter/év] | D71: Benzin [liter/év] | E71: Villamos energia [kWh/év] | F71: Egyéb [mértékegység]
B72: 2023
B73: 2024
B74: 2025
A77: 28. kérdés: | B77: Hulladéktípus | C77: Referenciaév:
B78: Hulladéktípus | C78: Elkülönítetten nyilvántartják? Igen/Nem | D78: Éves mennyiség | E78: Mértékegység [kg vagy t] (kérjük, adja meg) | F78: Hasznosítás / ártalmatlanítás Kérjük, részletezze.
B79: Papír / karton
B80: Műanyag
B81: Fém
B82: Üveg
B83: Fa
B84: Biohulladék
B85: Kommunális / vegyes hulladék
B86: Veszélyes hulladék
B87: Egyéb hulladék
B88: Összesen | D88: =SUM(D79:D87) -> 0

Sheet Tabellen
A1: Fragen betreffen alle Standorte des Unternehmens:
A2: Hinweis: Bei Gesamtverbräuchen sind alle relevanten Standorte des validierten Unternehmens im betreffenden Land zu berücksichtigen. Gleichartige Standorte können zusammengefasst werden. Netzbezug und PV sind getrennt auszuweisen.
A4: Frage 7: | B4: Jahresstromverbrauch/
B5: Jahr | C5: Standort 1:…........[MWh] | D5: Standort 2:…........[MWh] | E5: Standort 3:…........[MWh] | F5: Standort n:…........[MWh]
B6: 2023
B7: 2024
B8: 2025
A11: Frage 8: | B11: Wärmeverbrauch | C11: Standort 1:…........ | E11: Standort 2:…........ | G11: Standort 3:…........
B12: Jahr | C12: [MWh] | D12: davon Anteil Prozesswärme (%) | E12: [MWh] | F12: davon Anteil Prozesswärme (%) | G12: [MWh] | H12: davon Anteil Prozesswärme (%)
B13: 2023
B14: 2024
B15: 2025
A18: Frage 11: | B18: Energieträger & kWh: | C18: Bezugsjahr:
B19: Energieträger / Wärmequelle | C19: Verbrauch in MWh/Jahr | D19: Anteil am Gesamtwärmeverbrauch in % | E19: Bemerkung
B20: Erdgas
B21: Heizöl
B22: Fernwärme | E22: Bitte eingesetzte Energieträger anführen, z.B. Hackschnitzel, Abfall, Erdgas, Abwärme
B23: Biomasse
B24: Wärmepumpe | E24: Bitte eingesetzte Stromquelle anführen: z.B. Netzbezug oder PV Strom
B25: Solarthermie
B26: Geothermie
B27: Sonstige | E27: Bitte erläutern
B28: Summe | C28: =SUM(C20:C27) -> 0 | D28: =SUM(D20:D27) -> 0
A31: Frage 13: | B31: Energieeffizienzklasse
B32: Standort | C32: HWB kWh/m² BGF-Ref | D32: BGF (m²)
B33: Standort 1
B34: Standort 2
B35: Standort 3
B36: Standort 4
B37: ggf. weitere Zeilen einfügen
A40: Frage 15a: | B40: Materialverbrauch | C40: Bezugsjahr:
B41: Material/Ressource | C41: Jahresverbrauch | D41: Einheit [z.B. kg, Stück, Liter...] | E41: Nachhaltiger/recycelter Anteil [%]
A53: Frage 20: | B53: Emissionen
B54: Jahr | C54: Emissionen [ t CO2eq]
B55: 2023
B56: 2024
B57: 2025
A60: Frage 22a: | B60: Antriebsart | C60: Bezugsjahr:
B61: Antriebsart | C61: Anzahl Fahrzeuge
B62: Diesel
B63: Benzin
B64: Hybrid
B65: BEV / Elektro
B66: Sonstige
B67: Gesamt
A70: Frage 22b: | B70: Treibstoffbedarf
B71: Jahr | C71: Diesel [Liter/Jahr] | D71: Benzin [Liter/Jahr] | E71: Strom [kWh/Jahr] | F71: Sonstiges [Einheit]
B72: 2023
B73: 2024
B74: 2025
A77: Frage 28: | B77: Abfallart | C77: Bezugsjahr:
B78: Abfallart | C78: Wird getrennt erfasst? Ja/Nein | D78: Menge pro Jahr | E78: Einheit [kg oder t] (bitte eintragen) | F78: Verwertung / Entsorgung Bitte erläutern
B79: Papier / Karton
B80: Kunststoff
B81: Metall
B82: Glas
B83: Holz
B84: Bioabfall
B85: Restmüll
B86: Gefährliche Abfälle
B87: Sonstige Abfälle
B88: Gesamt | D88: =SUM(D79:D87) -> 0

Sheet Auswahlmöglichkeiten HUN
B1: igen
B2: nem
B3: részben
B6: Energiafelhasználás
B7: Üvegházhatásúgáz-kibocsátás
B8: Erőforrás-felhasználás
B9: Hulladék
B10: Vízfelhasználás
B11: Mobilitás és szállítás
B12: Egyéb
B15: Tanúsítás
B16: Minősítő védjegy / ökocímke
... B62: Egyéb energiaprojektek

Sheet Auswahlmöglichkeiten 
B1: ja
B2: nein
B3: teilweise
B6: Energieverbrauch
B7: Treibhausgasemissionen
B8: Ressourcenverbrauch
B9: Abfall
B10: Wasserverbrauch
B11: Mobilität und Transport
B12: Sonstige
B15: Zertifizierung
B16: Gütesiegel
... B62: Sonstige Energieprojekte

Sheet Összefoglaló

Sheet Rückfragen
